BEGIN:VCALENDAR
VERSION:2.0
PRODID:-//Seattle Democratic Socialists of America - ECPv6.0.13.1//NONSGML v1.0//EN
CALSCALE:GREGORIAN
METHOD:PUBLISH
X-ORIGINAL-URL:https://seattledsa.org
X-WR-CALDESC:Events for Seattle Democratic Socialists of America
REFRESH-INTERVAL;VALUE=DURATION:PT1H
X-Robots-Tag:noindex
X-PUBLISHED-TTL:PT1H
BEGIN:VTIMEZONE
TZID:America/Los_Angeles
BEGIN:DAYLIGHT
TZOFFSETFROM:-0800
TZOFFSETTO:-0700
TZNAME:PDT
DTSTART:20180311T100000
END:DAYLIGHT
BEGIN:STANDARD
TZOFFSETFROM:-0700
TZOFFSETTO:-0800
TZNAME:PST
DTSTART:20181104T090000
END:STANDARD
BEGIN:DAYLIGHT
TZOFFSETFROM:-0800
TZOFFSETTO:-0700
TZNAME:PDT
DTSTART:20190310T100000
END:DAYLIGHT
BEGIN:STANDARD
TZOFFSETFROM:-0700
TZOFFSETTO:-0800
TZNAME:PST
DTSTART:20191103T090000
END:STANDARD
END:VTIMEZONE
BEGIN:VEVENT
DTSTART;TZID=America/Los_Angeles:20190801T183000
DTEND;TZID=America/Los_Angeles:20190801T203000
DTSTAMP:20230610T183022
CREATED:20190728T050604Z
LAST-MODIFIED:20190728T051046Z
UID:10003962-1564684200-1564691400@seattledsa.org
SUMMARY:District 4 Reading Group
DESCRIPTION:Join our discussion of the first 4 chapters of The Theory of the Leisure Class by Thorstein Veblen (available at http://www.gutenberg.org/files/833/833-h/833-h.htm or google for various pdf formats). Feel free to bring discussion topics and questions of your own\, or to come and listen in. Hope to see you there!
URL:https://seattledsa.org/event/district-4-reading-group-4/
LOCATION:Urban Luxe Café\, 6105A Roosevelt Way NE\, Seattle\, WA\, 98115\, United States
CATEGORIES:General Membership Meeting,Reading Groups
GEO:47.6729904;-122.3175228
X-APPLE-STRUCTURED-LOCATION;VALUE=URI;X-ADDRESS=Urban Luxe Café 6105A Roosevelt Way NE Seattle WA 98115 United States;X-APPLE-RADIUS=500;X-TITLE=6105A Roosevelt Way NE:geo:-122.3175228,47.6729904
END:VEVENT
BEGIN:VEVENT
DTSTART;TZID=America/Los_Angeles:20190502T183000
DTEND;TZID=America/Los_Angeles:20190502T203000
DTSTAMP:20230610T183022
CREATED:20190502T190401Z
LAST-MODIFIED:20190614T222814Z
UID:10004424-1556821800-1556829000@seattledsa.org
SUMMARY:District 4 Reading Group
DESCRIPTION:Join our reading discussion of Emily McGuire’s pamphlet on Social Ecology available http://libcom.org/library/social-ecology-pamphlet.  Feel free to bring discussion topics and questions of your own. Hope to see you there!
URL:https://seattledsa.org/event/district-4-reading-group-3/
LOCATION:Urban Luxe Café\, 6105A Roosevelt Way NE\, Seattle\, WA\, 98115\, United States
CATEGORIES:General Membership Meeting
GEO:47.6729904;-122.3175228
X-APPLE-STRUCTURED-LOCATION;VALUE=URI;X-ADDRESS=Urban Luxe Café 6105A Roosevelt Way NE Seattle WA 98115 United States;X-APPLE-RADIUS=500;X-TITLE=6105A Roosevelt Way NE:geo:-122.3175228,47.6729904
END:VEVENT
BEGIN:VEVENT
DTSTART;TZID=America/Los_Angeles:20190418T183000
DTEND;TZID=America/Los_Angeles:20190418T203000
DTSTAMP:20230610T183022
CREATED:20190320T211545Z
LAST-MODIFIED:20190402T195616Z
UID:10004368-1555612200-1555619400@seattledsa.org
SUMMARY:District 4 Meet-Up
DESCRIPTION:Join us for an informal District 4 gathering!  \nWe’ll discuss upcoming DSA events and meetings\, upcoming neighborhood gatherings and events (DSA and otherwise)\, and local concerns related to our neighborhood. If time allows\, we’ll have an additional discussion topic (TBD). This event is open to DSA members from other districts – or anyone curious about DSA! \nD4 hosts these meet-ups on the third Thursday of every month.
URL:https://seattledsa.org/event/district-4-meet-up-4/
LOCATION:Urban Luxe Café\, 6105A Roosevelt Way NE\, Seattle\, WA\, 98115\, United States
CATEGORIES:General Membership Meeting
GEO:47.6729904;-122.3175228
X-APPLE-STRUCTURED-LOCATION;VALUE=URI;X-ADDRESS=Urban Luxe Café 6105A Roosevelt Way NE Seattle WA 98115 United States;X-APPLE-RADIUS=500;X-TITLE=6105A Roosevelt Way NE:geo:-122.3175228,47.6729904
END:VEVENT
BEGIN:VEVENT
DTSTART;TZID=America/Los_Angeles:20190404T183000
DTEND;TZID=America/Los_Angeles:20190404T203000
DTSTAMP:20230610T183022
CREATED:20190320T210455Z
LAST-MODIFIED:20190325T192631Z
UID:10004367-1554402600-1554409800@seattledsa.org
SUMMARY:District 4 Reading Group
DESCRIPTION:For the reading group on the 4th it looks like we’ll be going ahead with the 7th/final chapter in “From #BlackLivesMatter to Black Liberation” by Keeanga-Yamahtta Taylor! \nPDF: https://library.nyc-lsc.org/book/62 \n  \nWatch for news and hold the date to join your D4 DSA neighbors for socialist reading and lively discussion on first Thursdays of the month. Location is is off 65th and “down under”.
URL:https://seattledsa.org/event/district-4-reading-group/
LOCATION:Wayward Coffee House\, 6417 Roosevelt Way NE #104\, Seattle\, WA\, United States
CATEGORIES:General Membership Meeting
GEO:47.6755862;-122.3177383
X-APPLE-STRUCTURED-LOCATION;VALUE=URI;X-ADDRESS=Wayward Coffee House 6417 Roosevelt Way NE #104 Seattle WA United States;X-APPLE-RADIUS=500;X-TITLE=6417 Roosevelt Way NE #104:geo:-122.3177383,47.6755862
END:VEVENT
BEGIN:VEVENT
DTSTART;TZID=America/Los_Angeles:20190307T183000
DTEND;TZID=America/Los_Angeles:20190307T203000
DTSTAMP:20230610T183022
CREATED:20190304T162709Z
LAST-MODIFIED:20190331T161946Z
UID:10004344-1551983400-1551990600@seattledsa.org
SUMMARY:District 4 Reading Group
DESCRIPTION:D4 is launching a monthly reading group! These will take place on the first Thursdays of the month. We tentatively settled on following the education group’s rubric. Our first discussion will be on the first piece in Vivek Chibber’s series “ABCs of Capitalism\,” named “Understanding Capitalism.” \nYou can purchase this series here: https://jacobinmag.com/store/product/56 \nOr listen to a lecture that the author himself gave that covers much the same material: https://www.blubrry.com/thecallradio/38387252/episode-11-vivek-chibber-on-class/ \nWe’ll have some discussion material\, but please feel free to bring additional questions or topics for discussions. \nWe will also have time set aside to discuss and decide on future readings for the group.
URL:https://seattledsa.org/event/district-4-reading-group-2/
LOCATION:Wayward Coffee House\, 6417 Roosevelt Way NE #104\, Seattle\, WA\, United States
CATEGORIES:General Membership Meeting,Reading Groups
GEO:47.6755862;-122.3177383
X-APPLE-STRUCTURED-LOCATION;VALUE=URI;X-ADDRESS=Wayward Coffee House 6417 Roosevelt Way NE #104 Seattle WA United States;X-APPLE-RADIUS=500;X-TITLE=6417 Roosevelt Way NE #104:geo:-122.3177383,47.6755862
END:VEVENT
BEGIN:VEVENT
DTSTART;TZID=America/Los_Angeles:20180828T180000
DTEND;TZID=America/Los_Angeles:20180828T193000
DTSTAMP:20230610T183022
CREATED:20180810T201309Z
LAST-MODIFIED:20180810T201309Z
UID:10004202-1535479200-1535484600@seattledsa.org
SUMMARY:Socialism 101 ?
DESCRIPTION:Join Seattle DSA at this workshop for new and prospective members\, or just those who would like to learn more about the fundamentals of socialist thought and our critique of capitalism. \nThis event is hosted by the Education Committee and SDSA’s District 4 & District 3 neighborhood groups\, but it is open to anyone in the chapter and anyone in the public — bring your friends! \nTransit: The 43 and 48 buses stop close to the library. The 255 and 245 drop off about 5 minutes away. The library is a 15-minute walk from the UW light rail station. \nAccessibility: The library meeting room is wheelchair accessible. The parking lot off E McGraw Street has an ADA parking space. Drinks and finger foods are allowed in library meeting rooms. \nPlease feel free to contact elisabeth.elin@gmail.com with any questions about the event.
URL:https://seattledsa.org/event/socialism-101-%f0%9f%8c%b9/
LOCATION:Montlake Branch of The Seattle Public Library\, 2401 24th Ave E\, Seattle\, WA 98112\, USA\, 2401 24th Ave E\, Seattle\, WA\, 98112\, United States
GEO:47.6405196;-122.3024015
X-APPLE-STRUCTURED-LOCATION;VALUE=URI;X-ADDRESS=Montlake Branch of The Seattle Public Library 2401 24th Ave E Seattle WA 98112 USA 2401 24th Ave E Seattle WA 98112 United States;X-APPLE-RADIUS=500;X-TITLE=2401 24th Ave E:geo:-122.3024015,47.6405196
END:VEVENT
BEGIN:VEVENT
DTSTART;TZID=America/Los_Angeles:20180601T180000
DTEND;TZID=America/Los_Angeles:20180601T200000
DTSTAMP:20230610T183022
CREATED:20180517T222017Z
LAST-MODIFIED:20180517T222017Z
UID:10004122-1527876000-1527883200@seattledsa.org
SUMMARY:District 4 Meetup
DESCRIPTION:We’re hosting a gathering for DSA members in District 4 to get to know each other! We’ll discuss some D4 business (like when/where to host another neighborhood member phone bank)\, but mostly it’s just an opportunity to socialize. \nFloating Bridge Brewery graciously said they’d save a table for our group that evening. The space is open to people under 21! They have a range of non-alcoholic drinks available in addition to their beer selection (kombucha\, ginger soda\, root beer\, etc). We’ll have snacks there\, too. (Feel free to bring additional snacks\, but no pressure to do so. The brewery is fine with us bringing any food items in – just no outside drinks.) \nDSA members from other districts are also welcome to attend. Feel free to bring non-DSA-member friends as well. \nParking: I scoped out some parking – there is a pay lot at 45th and 9th\, but it’s rather pricey at about $8.50 for 2 hours. There are 2-hour parking spaces on some of the nearby streets. The best spot I found with a lot of open spaces was on 7th Ave between 47th and 50th Aves. (You can get to those by following the signs to the entrance to the 5\, but veering right instead of getting on the freeway.) \nTransit: The bus stop at 45th & 9th (very close to the brewery) is accessible by the 44\, 167\, 810\, 821\, 855\, 860\, 871\, 880 buses. Also feel free to reach out to me at elisabeth.elin@gmail.com if you’d like a ride. \nAccessibility: The space is wheelchair accessible on both levels of the brewery. Unfortunately\, the bathrooms are not gender neutral.
URL:https://seattledsa.org/event/district-4-meetup-june/
LOCATION:Floating Bridge Brewery (back space reserved)\, 722 NE 45th Street\, Seattle\, WA\, 98105\, United States
CATEGORIES:General Membership Meeting,Socials
GEO:47.661508;-122.3197798
X-APPLE-STRUCTURED-LOCATION;VALUE=URI;X-ADDRESS=Floating Bridge Brewery (back space reserved) 722 NE 45th Street Seattle WA 98105 United States;X-APPLE-RADIUS=500;X-TITLE=722 NE 45th Street:geo:-122.3197798,47.661508
END:VEVENT
END:VCALENDAR