BEGIN:VCALENDAR
VERSION:2.0
PRODID:-//Seattle Democratic Socialists of America - ECPv6.0.13.1//NONSGML v1.0//EN
CALSCALE:GREGORIAN
METHOD:PUBLISH
X-ORIGINAL-URL:https://seattledsa.org
X-WR-CALDESC:Events for Seattle Democratic Socialists of America
REFRESH-INTERVAL;VALUE=DURATION:PT1H
X-Robots-Tag:noindex
X-PUBLISHED-TTL:PT1H
BEGIN:VTIMEZONE
TZID:America/Los_Angeles
BEGIN:DAYLIGHT
TZOFFSETFROM:-0800
TZOFFSETTO:-0700
TZNAME:PDT
DTSTART:20200308T100000
END:DAYLIGHT
BEGIN:STANDARD
TZOFFSETFROM:-0700
TZOFFSETTO:-0800
TZNAME:PST
DTSTART:20201101T090000
END:STANDARD
END:VTIMEZONE
BEGIN:VEVENT
DTSTART;TZID=America/Los_Angeles:20201020T170000
DTEND;TZID=America/Los_Angeles:20201020T183000
DTSTAMP:20230610T173507
CREATED:20201007T034218Z
LAST-MODIFIED:20201019T031930Z
UID:10005573-1603213200-1603218600@seattledsa.org
SUMMARY:Divest SPD meeting
DESCRIPTION:Come learn about the campaign to get Seattle Foundation to divest from Seattle Police Foundation and reinvest in BIPOC community organizations as well as choosing a new target so we can expand our campaign. \nRSVP at: https://actionnetwork.org/events/divest-spd-meeting-3
URL:https://seattledsa.org/event/divest-spd-meeting-5/
LOCATION:On Zoom\, WA\, United States
CATEGORIES:New Member Friendly
ORGANIZER;CN="Divest%20SPD%20Working%20Group":MAILTO:divestSPD@protonmail.com
GEO:47.7510741;-120.7401385
END:VEVENT
BEGIN:VEVENT
DTSTART;TZID=America/Los_Angeles:20201006T170000
DTEND;TZID=America/Los_Angeles:20201006T183000
DTSTAMP:20230610T173507
CREATED:20201002T023153Z
LAST-MODIFIED:20201002T023153Z
UID:10004374-1602003600-1602009000@seattledsa.org
SUMMARY:Divest SPD meeting
DESCRIPTION:It’s been a minute — we’ve had a few weeks off after the big Seattle Foundation protest and are ready to gear back up! We’ll be talking about tactics to keep pressure on the Seattle Foundation to divest from SPD and reinvest in BIPOC community groups as well as exploring the possibility of starting a new campaign to expand our work to additional targets. Come learn about we are doing and get involved in this critical work! \nPlease RSVP at https://actionnetwork.org/events/divest-spd-meeting-2
URL:https://seattledsa.org/event/divest-spd-meeting-4/
LOCATION:On Zoom\, WA\, United States
ORGANIZER;CN="Divest%20SPD%20Working%20Group":MAILTO:divestSPD@protonmail.com
GEO:47.7510741;-120.7401385
END:VEVENT
BEGIN:VEVENT
DTSTART;TZID=America/Los_Angeles:20200919T140000
DTEND;TZID=America/Los_Angeles:20200919T153000
DTSTAMP:20230610T173507
CREATED:20200912T182355Z
LAST-MODIFIED:20200916T162737Z
UID:10004359-1600524000-1600529400@seattledsa.org
SUMMARY:No Charity for Cops: Rally at Seattle Foundation!
DESCRIPTION:Since 2003\, the Seattle Foundation has provided nearly $800\,000 in grants to the Seattle Police Foundation (SPF)\, making it the largest single donor by far.  These funds pay for riot gear\, surveillance equipment\, K9s\, as well as training in violent crowd-control techniques used to suppress recent protests.  Donations to SPF stand in contrast with the progressive image Seattle Foundation strives to project.  Furthermore\, despite its supposed commitment to racial equity\, the foundation gave less than 3% of its grants to BIPOC-led organizations in the past two years. \nJoin us at Westlake Center (400 Pine St) at 2pm on Saturday\, September 19 to demand Seattle Foundation cut ties with the Seattle Police Foundation and increase investments in local BIPOC communities! \nIf you haven’t already\, please follow and retweet Divest SPD’s Twitter account. \nWhile air quality levels are expected to improve significantly by Saturday\, predictions aren’t always spot on.  *Please check back to this page on Saturday before coming* as we may need to cancel if smoke is in the “unhealthy” range or worse.  We’ll make the call by 10am on Saturday.
URL:https://seattledsa.org/event/no-charity-for-cops-rally-at-seattle-foundation/
LOCATION:Westlake Tower\, 1601 5th Ave\, Seattle\, 98101
CATEGORIES:New Member Friendly
ATTACH;FMTTYPE=image/jpeg:https://seattledsa.org/wp-content/uploads/2020/09/NoCharityForCops_FINAL.jpg
ORGANIZER;CN="Divest%20SPD%20Working%20Group":MAILTO:divestSPD@protonmail.com
GEO:47.6123943;-122.3374625
X-APPLE-STRUCTURED-LOCATION;VALUE=URI;X-ADDRESS=Westlake Tower 1601 5th Ave Seattle 98101;X-APPLE-RADIUS=500;X-TITLE=1601 5th Ave:geo:-122.3374625,47.6123943
END:VEVENT
END:VCALENDAR