BEGIN:VCALENDAR
VERSION:2.0
PRODID:-//Seattle Democratic Socialists of America - ECPv6.0.13.1//NONSGML v1.0//EN
CALSCALE:GREGORIAN
METHOD:PUBLISH
X-WR-CALNAME:Seattle Democratic Socialists of America
X-ORIGINAL-URL:https://seattledsa.org
X-WR-CALDESC:Events for Seattle Democratic Socialists of America
REFRESH-INTERVAL;VALUE=DURATION:PT1H
X-Robots-Tag:noindex
X-PUBLISHED-TTL:PT1H
BEGIN:VTIMEZONE
TZID:America/Los_Angeles
BEGIN:DAYLIGHT
TZOFFSETFROM:-0800
TZOFFSETTO:-0700
TZNAME:PDT
DTSTART:20220313T100000
END:DAYLIGHT
BEGIN:STANDARD
TZOFFSETFROM:-0700
TZOFFSETTO:-0800
TZNAME:PST
DTSTART:20221106T090000
END:STANDARD
BEGIN:DAYLIGHT
TZOFFSETFROM:-0800
TZOFFSETTO:-0700
TZNAME:PDT
DTSTART:20230312T100000
END:DAYLIGHT
BEGIN:STANDARD
TZOFFSETFROM:-0700
TZOFFSETTO:-0800
TZNAME:PST
DTSTART:20231105T090000
END:STANDARD
END:VTIMEZONE
BEGIN:VEVENT
DTSTART;TZID=America/Los_Angeles:20230202T181500
DTEND;TZID=America/Los_Angeles:20230202T200000
DTSTAMP:20230610T165046
CREATED:20230124T055630Z
LAST-MODIFIED:20230131T023820Z
UID:10006728-1675361700-1675368000@seattledsa.org
SUMMARY:D4/D5/Ecosocialism Reading Group
DESCRIPTION:Join northeast Seattle comrades  Thursday 2/2 at 6:15 at Bulldog News for a discussion of “Naive Questions on Degrowth” by Kenta Tsuda from New Left Review. The author eloquently interrogates the notion of degrowth as promoted to address climate change. It is sure to inform our actions in response to climate and our continued reading of the book Half Earth Socialism\, to which we will return at the subsequent meeting. Bulldog News is staying open just for us–disregard google which will show them as closing at 6. \nYou don’t have to live in District 4 or 5\, and feel free to join the conversation even if you haven’t had time to read!  All are welcome.
URL:https://seattledsa.org/event/d4-d5-ecosocialism-reading-group-24/
LOCATION:Bulldog News (extended hours for us–ignore google)\, 4208 University Way NE\, Seattle\, WA\, 98105\, United States
CATEGORIES:Ecosocialism,Green New Deal,New Member Friendly,Reading Groups
END:VEVENT
BEGIN:VEVENT
DTSTART;TZID=America/Los_Angeles:20230119T181500
DTEND;TZID=America/Los_Angeles:20230119T200000
DTSTAMP:20230610T165046
CREATED:20230111T063341Z
LAST-MODIFIED:20230111T064358Z
UID:10006694-1674152100-1674158400@seattledsa.org
SUMMARY:D4/D5/Ecosocialism Reading Group
DESCRIPTION:Join northeast Seattle comrades at Cafe on the Ave\, 6:15 Thursday 1/19\, for a discussion of the Chapter 2 of Half-Earth Socialism by Troy Vetesse and Drew Pendergrass (very reasonably priced from Verso). The book provocatively contemplates life after capitalism\, reversing climate disaster\, and mechanisms of socialist governance. \nYou don’t have to live in District 4 or 5\, and feel free to join the conversation even if you haven’t had time to read!  All are welcome.
URL:https://seattledsa.org/event/d4-d5-ecosocialism-reading-group-23/
LOCATION:Cafe on the Ave\, 4201 University Way NE\, Seattle\, WA\, 98105\, United States
CATEGORIES:Ecosocialism,New Member Friendly,Political Discussion,Reading Groups
END:VEVENT
BEGIN:VEVENT
DTSTART;TZID=America/Los_Angeles:20230105T181500
DTEND;TZID=America/Los_Angeles:20230105T200000
DTSTAMP:20230610T165046
CREATED:20221223T013119Z
LAST-MODIFIED:20221223T040920Z
UID:10005279-1672942500-1672948800@seattledsa.org
SUMMARY:D4/D5/Ecosocialism Reading Group
DESCRIPTION:Join northeast Seattle comrades at Cafe on the Ave\, 6:15 Thursday 1/5\, for a discussion of the Introduction and Chapter 1 of Half-Earth Socialism by Troy Vetesse and Drew Pendergrass (very reasonably priced from Verso). The book provocatively contemplates life after capitalism\, reversing climate disaster\, and mechanisms of socialist governance. \nYou don’t have to live in District 4 or 5\, and feel free to join the conversation even if you haven’t had time to read!  All are welcome.
URL:https://seattledsa.org/event/d4-d5-ecosocialism-reading-group-22/
LOCATION:Cafe on the Ave\, 4201 University Way NE\, Seattle\, WA\, 98105\, United States
CATEGORIES:Ecosocialism,Green New Deal,New Member Friendly,Political Discussion,Reading Groups
END:VEVENT
BEGIN:VEVENT
DTSTART;TZID=America/Los_Angeles:20221215T181500
DTEND;TZID=America/Los_Angeles:20221215T201500
DTSTAMP:20230610T165046
CREATED:20221207T230852Z
LAST-MODIFIED:20221208T002140Z
UID:10005272-1671128100-1671135300@seattledsa.org
SUMMARY:D4/D5/Ecosocialism Reading Group
DESCRIPTION:Join Seattle comrades at Cafe on the Ave\, 6:15 Thursday 12/15\, for a discussion of Nancy Fraser’s article from New Left review\, “Climates of Capital” . \nFraser argues that as political actors of multiple hues are turning green\, the political climate is turbulent. Safeguarding the planet requires disclosing the capitalist drivers of multiple strands of injustice and irrationality\, to develop a powerful counter-hegemonic project of societal transformation. Please support New Left Review by purchasing the article for approx $3.50 (in British pounds) or contact hildreth@seanet.com for assistance. \nYou don’t have to live in District 4 or 5\, and feel free to join the conversation even if you haven’t had time to read!  All are welcome.
URL:https://seattledsa.org/event/d4-d5-ecosocialism-reading-group-21/
LOCATION:Cafe on the Ave\, 4201 University Way NE\, Seattle\, WA\, 98105\, United States
CATEGORIES:District Meeting,Ecosocialism,Green New Deal,New Member Friendly,Political Discussion,Reading Groups
END:VEVENT
BEGIN:VEVENT
DTSTART;TZID=America/Los_Angeles:20221201T181500
DTEND;TZID=America/Los_Angeles:20221201T201500
DTSTAMP:20230610T165046
CREATED:20221126T191910Z
LAST-MODIFIED:20221129T181811Z
UID:10006648-1669918500-1669925700@seattledsa.org
SUMMARY:D4/D5/Ecosocialism Reading Group
DESCRIPTION:Join northeast Seattle comrades at Cafe on the Ave\, Thursday 12/1\, 6:15\, for a discussion of a quick climate-related read\, “The Whole Field”\, by Max Krahé.  Then\, we have three candidate books in mind to read next—you can help us decide which one. \nYou don’t have to live in District 4 or 5\, and feel free to join the conversation even if you haven’t had time to read!  All are welcome.
URL:https://seattledsa.org/event/d4-d5-ecosocialism-reading-group-20/
LOCATION:Cafe on the Ave\, 4201 University Way NE\, Seattle\, WA\, 98105\, United States
CATEGORIES:District Meeting,Ecosocialism,Green New Deal,New Member Friendly,Reading Groups
END:VEVENT
BEGIN:VEVENT
DTSTART;TZID=America/Los_Angeles:20221117T181500
DTEND;TZID=America/Los_Angeles:20221117T200000
DTSTAMP:20230610T165046
CREATED:20221109T194819Z
LAST-MODIFIED:20221117T194819Z
UID:10005256-1668708900-1668715200@seattledsa.org
SUMMARY:Location Change!! D4/D5/Ecosocialism Reading Group
DESCRIPTION:LOCATION CHANGE! Join northeast Seattle comrades Thursday 11/3\, 6:15 at Distant Worlds Coffee Shop\, SW corner Roosevelt & 65th under the “SPEX in the City” sign\, for a discussion of “Capitalism\, Nature\, Socialism: A Theoretical Introduction”\, by James O’Connor .  For extreme nerds\, insomniacs or fanatics\, here is a supplemental commentary on O’Connor as well–“Capitalism and Ecology” by John Bellamy Foster \, no pressure. \nYou don’t have to live in District 4 or 5\, and feel free to join the conversation even if you haven’t had time to read!  All are welcome.
URL:https://seattledsa.org/event/d4-d5-ecosocialism-reading-group-19/
LOCATION:Distant Worlds Coffeehouse\, 6401 Roosevelt Way NE\, Seattle\, WA\, 98115\, United States
CATEGORIES:District Meeting,Ecosocialism,Green New Deal,New Member Friendly,Reading Groups
END:VEVENT
BEGIN:VEVENT
DTSTART;TZID=America/Los_Angeles:20221103T183000
DTEND;TZID=America/Los_Angeles:20221103T203000
DTSTAMP:20230610T165046
CREATED:20221025T230129Z
LAST-MODIFIED:20221025T230555Z
UID:10006631-1667500200-1667507400@seattledsa.org
SUMMARY:D4/D5/Ecosocialism Reading Group
DESCRIPTION:Join northeast Seattle comrades Thursday 11/3\, 6:30 at Urban Luxe Cafe for a discussion of  “Understanding what sustainability is not – and what it is” . The article explains that “Ecologically sustainable development”\, adopted by the UN WCED and other institutions as a guiding principle\, is impossible to implement. Instead “sustainable development” provides psychological comfort\, maintains the status quo of neoliberal capitalism\, and provides rewarding employment for the professional class. The article convincingly promotes sustainable eco-socialism on ‘spaceship’ Earth through relational application of the formula of “from each according to their ability to each according to their need”. \nYou don’t have to live in District 4 or 5\, and feel free to join the conversation even if you haven’t had time to read!  All are welcome.
URL:https://seattledsa.org/event/d4-d5-ecosocialism-reading-group-18/
LOCATION:Urban Luxe Café\, 6105A Roosevelt Way NE\, Seattle\, WA\, 98115\, United States
CATEGORIES:District Meeting,Ecosocialism,Green New Deal,New Member Friendly,Reading Groups
GEO:47.6729904;-122.3175228
X-APPLE-STRUCTURED-LOCATION;VALUE=URI;X-ADDRESS=Urban Luxe Café 6105A Roosevelt Way NE Seattle WA 98115 United States;X-APPLE-RADIUS=500;X-TITLE=6105A Roosevelt Way NE:geo:-122.3175228,47.6729904
END:VEVENT
BEGIN:VEVENT
DTSTART;TZID=America/Los_Angeles:20221013T183000
DTEND;TZID=America/Los_Angeles:20221013T203000
DTSTAMP:20230610T165046
CREATED:20221004T000124Z
LAST-MODIFIED:20221004T000344Z
UID:10006623-1665685800-1665693000@seattledsa.org
SUMMARY:D4/D5/Ecosocialism Reading Group
DESCRIPTION:Join northeast Seattle comrades Thursday 10/13\, 6:30 at Urban Luxe Cafe for a second discussion of the last chapter of Corona\, Climate\, Chronic Emergency by Andreas Malm (chapter entitled “War Communism”). We’ll add a related article\, “Socialism with An Anarchist Squint” (heads up it’s fairly long).  You don’t have to live in District 4 or 5\, and feel free to join the conversation even if you haven’t had time to read!  All are welcome. \nFor an epub of the Malm book\, please email hildreth@seanet.com.
URL:https://seattledsa.org/event/d4-d5-ecosocialism-reading-group-17/
LOCATION:Urban Luxe Café\, 6105A Roosevelt Way NE\, Seattle\, WA\, 98115\, United States
CATEGORIES:District Meeting,Ecosocialism,Green New Deal,New Member Friendly,Political Discussion,Reading Groups
GEO:47.6729904;-122.3175228
X-APPLE-STRUCTURED-LOCATION;VALUE=URI;X-ADDRESS=Urban Luxe Café 6105A Roosevelt Way NE Seattle WA 98115 United States;X-APPLE-RADIUS=500;X-TITLE=6105A Roosevelt Way NE:geo:-122.3175228,47.6729904
END:VEVENT
BEGIN:VEVENT
DTSTART;TZID=America/Los_Angeles:20220929T183000
DTEND;TZID=America/Los_Angeles:20220929T203000
DTSTAMP:20230610T165046
CREATED:20220923T031952Z
LAST-MODIFIED:20220923T032437Z
UID:10006608-1664476200-1664483400@seattledsa.org
SUMMARY:D4/D5/Ecosocialism Reading Group
DESCRIPTION:Join northeast Seattle comrades Thursday 9/29\, 6:30 at Urban Luxe Cafe\, five blocks from Roosevelt light rail station. We are reading just the last chapter of Corona\, Climate\, Chronic Emergency by Andreas Malm (chapter entitled “War Communism”).  To request an epub of the book\, please email hildreth@seanet.com.  Optional supplemental reading “Ecological Leninism”\, a response to Malm by Adam Tooze. You don’t have to live in District 4 or 5\, and feel free to join the conversation even if you haven’t had time to read!  All are welcome. \n 
URL:https://seattledsa.org/event/d4-d5-ecosocialism-reading-group-16/
LOCATION:Urban Luxe Café\, 6105A Roosevelt Way NE\, Seattle\, WA\, 98115\, United States
CATEGORIES:District Meeting,Ecosocialism,New Member Friendly,Reading Groups
GEO:47.6729904;-122.3175228
X-APPLE-STRUCTURED-LOCATION;VALUE=URI;X-ADDRESS=Urban Luxe Café 6105A Roosevelt Way NE Seattle WA 98115 United States;X-APPLE-RADIUS=500;X-TITLE=6105A Roosevelt Way NE:geo:-122.3175228,47.6729904
END:VEVENT
BEGIN:VEVENT
DTSTART;TZID=America/Los_Angeles:20220915T183000
DTEND;TZID=America/Los_Angeles:20220915T203000
DTSTAMP:20230610T165046
CREATED:20220907T194901Z
LAST-MODIFIED:20220911T235139Z
UID:10006596-1663266600-1663273800@seattledsa.org
SUMMARY:D4/D5/Ecosocialism Reading Group
DESCRIPTION:Join northeast Seattle comrades again\, Thursday 9/15 at 6:30\, at Urban Luxe Cafe\, 6105 Roosevelt Way NE\, indoors or outdoors negotiable.  We will finish Class Matrix by Vivek Chibber (Sections 4.3 thru 4.5 and then Chapter 5). Anyone is still welcome to join or sit in on the conversation. You don’t have to be in District 4 or 5\, and if you want an epub of this GREAT book\, please email 3eshaw@gmail.com. \n 
URL:https://seattledsa.org/event/d4-d5-ecosocialism-reading-group-15/
LOCATION:Urban Luxe Café\, 6105A Roosevelt Way NE\, Seattle\, WA\, 98115\, United States
CATEGORIES:Ecosocialism,Green New Deal,New Member Friendly,Reading Groups
GEO:47.6729904;-122.3175228
X-APPLE-STRUCTURED-LOCATION;VALUE=URI;X-ADDRESS=Urban Luxe Café 6105A Roosevelt Way NE Seattle WA 98115 United States;X-APPLE-RADIUS=500;X-TITLE=6105A Roosevelt Way NE:geo:-122.3175228,47.6729904
END:VEVENT
END:VCALENDAR