BEGIN:VCALENDAR
VERSION:2.0
PRODID:-//Seattle Democratic Socialists of America - ECPv6.0.13.1//NONSGML v1.0//EN
CALSCALE:GREGORIAN
METHOD:PUBLISH
X-ORIGINAL-URL:https://seattledsa.org
X-WR-CALDESC:Events for Seattle Democratic Socialists of America
REFRESH-INTERVAL;VALUE=DURATION:PT1H
X-Robots-Tag:noindex
X-PUBLISHED-TTL:PT1H
BEGIN:VTIMEZONE
TZID:America/Los_Angeles
BEGIN:DAYLIGHT
TZOFFSETFROM:-0800
TZOFFSETTO:-0700
TZNAME:PDT
DTSTART:20190310T100000
END:DAYLIGHT
BEGIN:STANDARD
TZOFFSETFROM:-0700
TZOFFSETTO:-0800
TZNAME:PST
DTSTART:20191103T090000
END:STANDARD
END:VTIMEZONE
BEGIN:VEVENT
DTSTART;TZID=America/Los_Angeles:20190204T183000
DTEND;TZID=America/Los_Angeles:20190204T200000
DTSTAMP:20230610T165124
CREATED:20190131T055324Z
LAST-MODIFIED:20190131T055337Z
UID:10003629-1549305000-1549310400@seattledsa.org
SUMMARY:Rebel Reading Circle: The Fight Against Fascism in the U.S.A.
DESCRIPTION:The Fight Against Fascism in the U.S.A.\nLessons From the 1930’s – 40’s \n8-week series\, beginning January 28 \nDelve into gripping first-person accounts by anti-fascist organizers from the Great Depression era. The rise of fascism in Europe has been well-documented\, but the home-grown Nazi movement it inspired is rarely discussed. This booklet is a compilation by participants who mounted successful campaigns to counter burgeoning fascist movements in New York\, Minneapolis and Los Angeles\, where they confronted organizations like the German-American Bund and the Silver Shirts\, which emerged out of North Carolina\, and demagogues like Father Coughlin\, an ultra-right Catholic priest. Their stories contain valuable lessons for today’s anti-fascist activists in how we can unite unions\, leftists and community organizations to effectively oppose racism\, anti-Semitism\, misogyny and red-baiting.
URL:https://seattledsa.org/event/rebel-reading-circle-the-fight-against-fascism-in-the-u-s-a/2019-02-04/
LOCATION:New Freeway Hall\, 5018 Rainier Ave. S.\, Seattle
CATEGORIES:Reading Groups
ORGANIZER;CN="Freedom%20Socialist%20Party":MAILTO:FSPseaattle@mindspring.com
GEO:47.5565454;-122.2838036
X-APPLE-STRUCTURED-LOCATION;VALUE=URI;X-ADDRESS=New Freeway Hall 5018 Rainier Ave. S. Seattle;X-APPLE-RADIUS=500;X-TITLE=5018 Rainier Ave. S.:geo:-122.2838036,47.5565454
END:VEVENT
BEGIN:VEVENT
DTSTART;TZID=America/Los_Angeles:20190128T183000
DTEND;TZID=America/Los_Angeles:20190128T200000
DTSTAMP:20230610T165124
CREATED:20190131T055324Z
LAST-MODIFIED:20190131T055337Z
UID:10003628-1548700200-1548705600@seattledsa.org
SUMMARY:Rebel Reading Circle: The Fight Against Fascism in the U.S.A.
DESCRIPTION:The Fight Against Fascism in the U.S.A.\nLessons From the 1930’s – 40’s \n8-week series\, beginning January 28 \nDelve into gripping first-person accounts by anti-fascist organizers from the Great Depression era. The rise of fascism in Europe has been well-documented\, but the home-grown Nazi movement it inspired is rarely discussed. This booklet is a compilation by participants who mounted successful campaigns to counter burgeoning fascist movements in New York\, Minneapolis and Los Angeles\, where they confronted organizations like the German-American Bund and the Silver Shirts\, which emerged out of North Carolina\, and demagogues like Father Coughlin\, an ultra-right Catholic priest. Their stories contain valuable lessons for today’s anti-fascist activists in how we can unite unions\, leftists and community organizations to effectively oppose racism\, anti-Semitism\, misogyny and red-baiting.
URL:https://seattledsa.org/event/rebel-reading-circle-the-fight-against-fascism-in-the-u-s-a/2019-01-28/
LOCATION:New Freeway Hall\, 5018 Rainier Ave. S.\, Seattle
CATEGORIES:Reading Groups
ORGANIZER;CN="Freedom%20Socialist%20Party":MAILTO:FSPseaattle@mindspring.com
GEO:47.5565454;-122.2838036
X-APPLE-STRUCTURED-LOCATION;VALUE=URI;X-ADDRESS=New Freeway Hall 5018 Rainier Ave. S. Seattle;X-APPLE-RADIUS=500;X-TITLE=5018 Rainier Ave. S.:geo:-122.2838036,47.5565454
END:VEVENT
END:VCALENDAR