BEGIN:VCALENDAR
VERSION:2.0
PRODID:-//Seattle Democratic Socialists of America - ECPv6.0.13.1//NONSGML v1.0//EN
CALSCALE:GREGORIAN
METHOD:PUBLISH
X-ORIGINAL-URL:https://seattledsa.org
X-WR-CALDESC:Events for Seattle Democratic Socialists of America
REFRESH-INTERVAL;VALUE=DURATION:PT1H
X-Robots-Tag:noindex
X-PUBLISHED-TTL:PT1H
BEGIN:VTIMEZONE
TZID:America/Los_Angeles
BEGIN:DAYLIGHT
TZOFFSETFROM:-0800
TZOFFSETTO:-0700
TZNAME:PDT
DTSTART:20240310T100000
END:DAYLIGHT
BEGIN:STANDARD
TZOFFSETFROM:-0700
TZOFFSETTO:-0800
TZNAME:PST
DTSTART:20241103T090000
END:STANDARD
BEGIN:DAYLIGHT
TZOFFSETFROM:-0800
TZOFFSETTO:-0700
TZNAME:PDT
DTSTART:20250309T100000
END:DAYLIGHT
BEGIN:STANDARD
TZOFFSETFROM:-0700
TZOFFSETTO:-0800
TZNAME:PST
DTSTART:20251102T090000
END:STANDARD
END:VTIMEZONE
BEGIN:VEVENT
DTSTART;TZID=America/Los_Angeles:20241029T190000
DTEND;TZID=America/Los_Angeles:20241029T210000
DTSTAMP:20230610T184059
CREATED:20230405T011214Z
LAST-MODIFIED:20230405T011317Z
UID:10007373-1730228400-1730235600@seattledsa.org
SUMMARY:Board Games and Buddies: Capitol Hill
DESCRIPTION:Putting the party back in politics.\nBoard games and (root) beer with some local left homies at a cool bar.\nNo agenda and no lecture to sit through.\nJust having a good time + getting to know folks.\nFeel free to bring your own games as well! \nNOTES:\nPlease eat beforehand unless you’re fine with $8.00 grilled cheeses! \n \nContact JJ B. at 360-319-2009 to meet up!\nHosted by the Housing Justice Working Group.
URL:https://seattledsa.org/event/board-games-and-buddies-capitol-hill-3/2024-10-29/
LOCATION:Raygun Lounge\, 501 E Pine St\, Seattle\, WA\, 98122\, United States
CATEGORIES:Housing,New Member Friendly,Socials
GEO:47.6150502;-122.3252425
X-APPLE-STRUCTURED-LOCATION;VALUE=URI;X-ADDRESS=Raygun Lounge 501 E Pine St Seattle WA 98122 United States;X-APPLE-RADIUS=500;X-TITLE=501 E Pine St:geo:-122.3252425,47.6150502
END:VEVENT
BEGIN:VEVENT
DTSTART;TZID=America/Los_Angeles:20241105T190000
DTEND;TZID=America/Los_Angeles:20241105T210000
DTSTAMP:20230610T184059
CREATED:20230405T011214Z
LAST-MODIFIED:20230405T011317Z
UID:10007374-1730833200-1730840400@seattledsa.org
SUMMARY:Board Games and Buddies: Capitol Hill
DESCRIPTION:Putting the party back in politics.\nBoard games and (root) beer with some local left homies at a cool bar.\nNo agenda and no lecture to sit through.\nJust having a good time + getting to know folks.\nFeel free to bring your own games as well! \nNOTES:\nPlease eat beforehand unless you’re fine with $8.00 grilled cheeses! \n \nContact JJ B. at 360-319-2009 to meet up!\nHosted by the Housing Justice Working Group.
URL:https://seattledsa.org/event/board-games-and-buddies-capitol-hill-3/2024-11-05/
LOCATION:Raygun Lounge\, 501 E Pine St\, Seattle\, WA\, 98122\, United States
CATEGORIES:Housing,New Member Friendly,Socials
GEO:47.6150502;-122.3252425
X-APPLE-STRUCTURED-LOCATION;VALUE=URI;X-ADDRESS=Raygun Lounge 501 E Pine St Seattle WA 98122 United States;X-APPLE-RADIUS=500;X-TITLE=501 E Pine St:geo:-122.3252425,47.6150502
END:VEVENT
BEGIN:VEVENT
DTSTART;TZID=America/Los_Angeles:20241112T190000
DTEND;TZID=America/Los_Angeles:20241112T210000
DTSTAMP:20230610T184059
CREATED:20230405T011214Z
LAST-MODIFIED:20230405T011317Z
UID:10007375-1731438000-1731445200@seattledsa.org
SUMMARY:Board Games and Buddies: Capitol Hill
DESCRIPTION:Putting the party back in politics.\nBoard games and (root) beer with some local left homies at a cool bar.\nNo agenda and no lecture to sit through.\nJust having a good time + getting to know folks.\nFeel free to bring your own games as well! \nNOTES:\nPlease eat beforehand unless you’re fine with $8.00 grilled cheeses! \n \nContact JJ B. at 360-319-2009 to meet up!\nHosted by the Housing Justice Working Group.
URL:https://seattledsa.org/event/board-games-and-buddies-capitol-hill-3/2024-11-12/
LOCATION:Raygun Lounge\, 501 E Pine St\, Seattle\, WA\, 98122\, United States
CATEGORIES:Housing,New Member Friendly,Socials
GEO:47.6150502;-122.3252425
X-APPLE-STRUCTURED-LOCATION;VALUE=URI;X-ADDRESS=Raygun Lounge 501 E Pine St Seattle WA 98122 United States;X-APPLE-RADIUS=500;X-TITLE=501 E Pine St:geo:-122.3252425,47.6150502
END:VEVENT
BEGIN:VEVENT
DTSTART;TZID=America/Los_Angeles:20241119T190000
DTEND;TZID=America/Los_Angeles:20241119T210000
DTSTAMP:20230610T184059
CREATED:20230405T011214Z
LAST-MODIFIED:20230405T011317Z
UID:10007376-1732042800-1732050000@seattledsa.org
SUMMARY:Board Games and Buddies: Capitol Hill
DESCRIPTION:Putting the party back in politics.\nBoard games and (root) beer with some local left homies at a cool bar.\nNo agenda and no lecture to sit through.\nJust having a good time + getting to know folks.\nFeel free to bring your own games as well! \nNOTES:\nPlease eat beforehand unless you’re fine with $8.00 grilled cheeses! \n \nContact JJ B. at 360-319-2009 to meet up!\nHosted by the Housing Justice Working Group.
URL:https://seattledsa.org/event/board-games-and-buddies-capitol-hill-3/2024-11-19/
LOCATION:Raygun Lounge\, 501 E Pine St\, Seattle\, WA\, 98122\, United States
CATEGORIES:Housing,New Member Friendly,Socials
GEO:47.6150502;-122.3252425
X-APPLE-STRUCTURED-LOCATION;VALUE=URI;X-ADDRESS=Raygun Lounge 501 E Pine St Seattle WA 98122 United States;X-APPLE-RADIUS=500;X-TITLE=501 E Pine St:geo:-122.3252425,47.6150502
END:VEVENT
BEGIN:VEVENT
DTSTART;TZID=America/Los_Angeles:20241126T190000
DTEND;TZID=America/Los_Angeles:20241126T210000
DTSTAMP:20230610T184059
CREATED:20230405T011214Z
LAST-MODIFIED:20230405T011317Z
UID:10007377-1732647600-1732654800@seattledsa.org
SUMMARY:Board Games and Buddies: Capitol Hill
DESCRIPTION:Putting the party back in politics.\nBoard games and (root) beer with some local left homies at a cool bar.\nNo agenda and no lecture to sit through.\nJust having a good time + getting to know folks.\nFeel free to bring your own games as well! \nNOTES:\nPlease eat beforehand unless you’re fine with $8.00 grilled cheeses! \n \nContact JJ B. at 360-319-2009 to meet up!\nHosted by the Housing Justice Working Group.
URL:https://seattledsa.org/event/board-games-and-buddies-capitol-hill-3/2024-11-26/
LOCATION:Raygun Lounge\, 501 E Pine St\, Seattle\, WA\, 98122\, United States
CATEGORIES:Housing,New Member Friendly,Socials
GEO:47.6150502;-122.3252425
X-APPLE-STRUCTURED-LOCATION;VALUE=URI;X-ADDRESS=Raygun Lounge 501 E Pine St Seattle WA 98122 United States;X-APPLE-RADIUS=500;X-TITLE=501 E Pine St:geo:-122.3252425,47.6150502
END:VEVENT
BEGIN:VEVENT
DTSTART;TZID=America/Los_Angeles:20241203T190000
DTEND;TZID=America/Los_Angeles:20241203T210000
DTSTAMP:20230610T184059
CREATED:20230405T011214Z
LAST-MODIFIED:20230405T011317Z
UID:10007378-1733252400-1733259600@seattledsa.org
SUMMARY:Board Games and Buddies: Capitol Hill
DESCRIPTION:Putting the party back in politics.\nBoard games and (root) beer with some local left homies at a cool bar.\nNo agenda and no lecture to sit through.\nJust having a good time + getting to know folks.\nFeel free to bring your own games as well! \nNOTES:\nPlease eat beforehand unless you’re fine with $8.00 grilled cheeses! \n \nContact JJ B. at 360-319-2009 to meet up!\nHosted by the Housing Justice Working Group.
URL:https://seattledsa.org/event/board-games-and-buddies-capitol-hill-3/2024-12-03/
LOCATION:Raygun Lounge\, 501 E Pine St\, Seattle\, WA\, 98122\, United States
CATEGORIES:Housing,New Member Friendly,Socials
GEO:47.6150502;-122.3252425
X-APPLE-STRUCTURED-LOCATION;VALUE=URI;X-ADDRESS=Raygun Lounge 501 E Pine St Seattle WA 98122 United States;X-APPLE-RADIUS=500;X-TITLE=501 E Pine St:geo:-122.3252425,47.6150502
END:VEVENT
BEGIN:VEVENT
DTSTART;TZID=America/Los_Angeles:20241210T190000
DTEND;TZID=America/Los_Angeles:20241210T210000
DTSTAMP:20230610T184059
CREATED:20230405T011214Z
LAST-MODIFIED:20230405T011317Z
UID:10007379-1733857200-1733864400@seattledsa.org
SUMMARY:Board Games and Buddies: Capitol Hill
DESCRIPTION:Putting the party back in politics.\nBoard games and (root) beer with some local left homies at a cool bar.\nNo agenda and no lecture to sit through.\nJust having a good time + getting to know folks.\nFeel free to bring your own games as well! \nNOTES:\nPlease eat beforehand unless you’re fine with $8.00 grilled cheeses! \n \nContact JJ B. at 360-319-2009 to meet up!\nHosted by the Housing Justice Working Group.
URL:https://seattledsa.org/event/board-games-and-buddies-capitol-hill-3/2024-12-10/
LOCATION:Raygun Lounge\, 501 E Pine St\, Seattle\, WA\, 98122\, United States
CATEGORIES:Housing,New Member Friendly,Socials
GEO:47.6150502;-122.3252425
X-APPLE-STRUCTURED-LOCATION;VALUE=URI;X-ADDRESS=Raygun Lounge 501 E Pine St Seattle WA 98122 United States;X-APPLE-RADIUS=500;X-TITLE=501 E Pine St:geo:-122.3252425,47.6150502
END:VEVENT
BEGIN:VEVENT
DTSTART;TZID=America/Los_Angeles:20241217T190000
DTEND;TZID=America/Los_Angeles:20241217T210000
DTSTAMP:20230610T184059
CREATED:20230405T011214Z
LAST-MODIFIED:20230405T011317Z
UID:10007380-1734462000-1734469200@seattledsa.org
SUMMARY:Board Games and Buddies: Capitol Hill
DESCRIPTION:Putting the party back in politics.\nBoard games and (root) beer with some local left homies at a cool bar.\nNo agenda and no lecture to sit through.\nJust having a good time + getting to know folks.\nFeel free to bring your own games as well! \nNOTES:\nPlease eat beforehand unless you’re fine with $8.00 grilled cheeses! \n \nContact JJ B. at 360-319-2009 to meet up!\nHosted by the Housing Justice Working Group.
URL:https://seattledsa.org/event/board-games-and-buddies-capitol-hill-3/2024-12-17/
LOCATION:Raygun Lounge\, 501 E Pine St\, Seattle\, WA\, 98122\, United States
CATEGORIES:Housing,New Member Friendly,Socials
GEO:47.6150502;-122.3252425
X-APPLE-STRUCTURED-LOCATION;VALUE=URI;X-ADDRESS=Raygun Lounge 501 E Pine St Seattle WA 98122 United States;X-APPLE-RADIUS=500;X-TITLE=501 E Pine St:geo:-122.3252425,47.6150502
END:VEVENT
BEGIN:VEVENT
DTSTART;TZID=America/Los_Angeles:20241224T190000
DTEND;TZID=America/Los_Angeles:20241224T210000
DTSTAMP:20230610T184059
CREATED:20230405T011214Z
LAST-MODIFIED:20230405T011317Z
UID:10007381-1735066800-1735074000@seattledsa.org
SUMMARY:Board Games and Buddies: Capitol Hill
DESCRIPTION:Putting the party back in politics.\nBoard games and (root) beer with some local left homies at a cool bar.\nNo agenda and no lecture to sit through.\nJust having a good time + getting to know folks.\nFeel free to bring your own games as well! \nNOTES:\nPlease eat beforehand unless you’re fine with $8.00 grilled cheeses! \n \nContact JJ B. at 360-319-2009 to meet up!\nHosted by the Housing Justice Working Group.
URL:https://seattledsa.org/event/board-games-and-buddies-capitol-hill-3/2024-12-24/
LOCATION:Raygun Lounge\, 501 E Pine St\, Seattle\, WA\, 98122\, United States
CATEGORIES:Housing,New Member Friendly,Socials
GEO:47.6150502;-122.3252425
X-APPLE-STRUCTURED-LOCATION;VALUE=URI;X-ADDRESS=Raygun Lounge 501 E Pine St Seattle WA 98122 United States;X-APPLE-RADIUS=500;X-TITLE=501 E Pine St:geo:-122.3252425,47.6150502
END:VEVENT
BEGIN:VEVENT
DTSTART;TZID=America/Los_Angeles:20241231T190000
DTEND;TZID=America/Los_Angeles:20241231T210000
DTSTAMP:20230610T184059
CREATED:20230405T011214Z
LAST-MODIFIED:20230405T011317Z
UID:10007382-1735671600-1735678800@seattledsa.org
SUMMARY:Board Games and Buddies: Capitol Hill
DESCRIPTION:Putting the party back in politics.\nBoard games and (root) beer with some local left homies at a cool bar.\nNo agenda and no lecture to sit through.\nJust having a good time + getting to know folks.\nFeel free to bring your own games as well! \nNOTES:\nPlease eat beforehand unless you’re fine with $8.00 grilled cheeses! \n \nContact JJ B. at 360-319-2009 to meet up!\nHosted by the Housing Justice Working Group.
URL:https://seattledsa.org/event/board-games-and-buddies-capitol-hill-3/2024-12-31/
LOCATION:Raygun Lounge\, 501 E Pine St\, Seattle\, WA\, 98122\, United States
CATEGORIES:Housing,New Member Friendly,Socials
GEO:47.6150502;-122.3252425
X-APPLE-STRUCTURED-LOCATION;VALUE=URI;X-ADDRESS=Raygun Lounge 501 E Pine St Seattle WA 98122 United States;X-APPLE-RADIUS=500;X-TITLE=501 E Pine St:geo:-122.3252425,47.6150502
END:VEVENT
BEGIN:VEVENT
DTSTART;TZID=America/Los_Angeles:20250107T190000
DTEND;TZID=America/Los_Angeles:20250107T210000
DTSTAMP:20230610T184059
CREATED:20230405T011214Z
LAST-MODIFIED:20230405T011317Z
UID:10007383-1736276400-1736283600@seattledsa.org
SUMMARY:Board Games and Buddies: Capitol Hill
DESCRIPTION:Putting the party back in politics.\nBoard games and (root) beer with some local left homies at a cool bar.\nNo agenda and no lecture to sit through.\nJust having a good time + getting to know folks.\nFeel free to bring your own games as well! \nNOTES:\nPlease eat beforehand unless you’re fine with $8.00 grilled cheeses! \n \nContact JJ B. at 360-319-2009 to meet up!\nHosted by the Housing Justice Working Group.
URL:https://seattledsa.org/event/board-games-and-buddies-capitol-hill-3/2025-01-07/
LOCATION:Raygun Lounge\, 501 E Pine St\, Seattle\, WA\, 98122\, United States
CATEGORIES:Housing,New Member Friendly,Socials
GEO:47.6150502;-122.3252425
X-APPLE-STRUCTURED-LOCATION;VALUE=URI;X-ADDRESS=Raygun Lounge 501 E Pine St Seattle WA 98122 United States;X-APPLE-RADIUS=500;X-TITLE=501 E Pine St:geo:-122.3252425,47.6150502
END:VEVENT
BEGIN:VEVENT
DTSTART;TZID=America/Los_Angeles:20250114T190000
DTEND;TZID=America/Los_Angeles:20250114T210000
DTSTAMP:20230610T184059
CREATED:20230405T011214Z
LAST-MODIFIED:20230405T011317Z
UID:10007384-1736881200-1736888400@seattledsa.org
SUMMARY:Board Games and Buddies: Capitol Hill
DESCRIPTION:Putting the party back in politics.\nBoard games and (root) beer with some local left homies at a cool bar.\nNo agenda and no lecture to sit through.\nJust having a good time + getting to know folks.\nFeel free to bring your own games as well! \nNOTES:\nPlease eat beforehand unless you’re fine with $8.00 grilled cheeses! \n \nContact JJ B. at 360-319-2009 to meet up!\nHosted by the Housing Justice Working Group.
URL:https://seattledsa.org/event/board-games-and-buddies-capitol-hill-3/2025-01-14/
LOCATION:Raygun Lounge\, 501 E Pine St\, Seattle\, WA\, 98122\, United States
CATEGORIES:Housing,New Member Friendly,Socials
GEO:47.6150502;-122.3252425
X-APPLE-STRUCTURED-LOCATION;VALUE=URI;X-ADDRESS=Raygun Lounge 501 E Pine St Seattle WA 98122 United States;X-APPLE-RADIUS=500;X-TITLE=501 E Pine St:geo:-122.3252425,47.6150502
END:VEVENT
BEGIN:VEVENT
DTSTART;TZID=America/Los_Angeles:20250121T190000
DTEND;TZID=America/Los_Angeles:20250121T210000
DTSTAMP:20230610T184059
CREATED:20230405T011214Z
LAST-MODIFIED:20230405T011317Z
UID:10007385-1737486000-1737493200@seattledsa.org
SUMMARY:Board Games and Buddies: Capitol Hill
DESCRIPTION:Putting the party back in politics.\nBoard games and (root) beer with some local left homies at a cool bar.\nNo agenda and no lecture to sit through.\nJust having a good time + getting to know folks.\nFeel free to bring your own games as well! \nNOTES:\nPlease eat beforehand unless you’re fine with $8.00 grilled cheeses! \n \nContact JJ B. at 360-319-2009 to meet up!\nHosted by the Housing Justice Working Group.
URL:https://seattledsa.org/event/board-games-and-buddies-capitol-hill-3/2025-01-21/
LOCATION:Raygun Lounge\, 501 E Pine St\, Seattle\, WA\, 98122\, United States
CATEGORIES:Housing,New Member Friendly,Socials
GEO:47.6150502;-122.3252425
X-APPLE-STRUCTURED-LOCATION;VALUE=URI;X-ADDRESS=Raygun Lounge 501 E Pine St Seattle WA 98122 United States;X-APPLE-RADIUS=500;X-TITLE=501 E Pine St:geo:-122.3252425,47.6150502
END:VEVENT
BEGIN:VEVENT
DTSTART;TZID=America/Los_Angeles:20250128T190000
DTEND;TZID=America/Los_Angeles:20250128T210000
DTSTAMP:20230610T184059
CREATED:20230405T011214Z
LAST-MODIFIED:20230405T011317Z
UID:10007386-1738090800-1738098000@seattledsa.org
SUMMARY:Board Games and Buddies: Capitol Hill
DESCRIPTION:Putting the party back in politics.\nBoard games and (root) beer with some local left homies at a cool bar.\nNo agenda and no lecture to sit through.\nJust having a good time + getting to know folks.\nFeel free to bring your own games as well! \nNOTES:\nPlease eat beforehand unless you’re fine with $8.00 grilled cheeses! \n \nContact JJ B. at 360-319-2009 to meet up!\nHosted by the Housing Justice Working Group.
URL:https://seattledsa.org/event/board-games-and-buddies-capitol-hill-3/2025-01-28/
LOCATION:Raygun Lounge\, 501 E Pine St\, Seattle\, WA\, 98122\, United States
CATEGORIES:Housing,New Member Friendly,Socials
GEO:47.6150502;-122.3252425
X-APPLE-STRUCTURED-LOCATION;VALUE=URI;X-ADDRESS=Raygun Lounge 501 E Pine St Seattle WA 98122 United States;X-APPLE-RADIUS=500;X-TITLE=501 E Pine St:geo:-122.3252425,47.6150502
END:VEVENT
BEGIN:VEVENT
DTSTART;TZID=America/Los_Angeles:20250204T190000
DTEND;TZID=America/Los_Angeles:20250204T210000
DTSTAMP:20230610T184059
CREATED:20230405T011214Z
LAST-MODIFIED:20230405T011317Z
UID:10007387-1738695600-1738702800@seattledsa.org
SUMMARY:Board Games and Buddies: Capitol Hill
DESCRIPTION:Putting the party back in politics.\nBoard games and (root) beer with some local left homies at a cool bar.\nNo agenda and no lecture to sit through.\nJust having a good time + getting to know folks.\nFeel free to bring your own games as well! \nNOTES:\nPlease eat beforehand unless you’re fine with $8.00 grilled cheeses! \n \nContact JJ B. at 360-319-2009 to meet up!\nHosted by the Housing Justice Working Group.
URL:https://seattledsa.org/event/board-games-and-buddies-capitol-hill-3/2025-02-04/
LOCATION:Raygun Lounge\, 501 E Pine St\, Seattle\, WA\, 98122\, United States
CATEGORIES:Housing,New Member Friendly,Socials
GEO:47.6150502;-122.3252425
X-APPLE-STRUCTURED-LOCATION;VALUE=URI;X-ADDRESS=Raygun Lounge 501 E Pine St Seattle WA 98122 United States;X-APPLE-RADIUS=500;X-TITLE=501 E Pine St:geo:-122.3252425,47.6150502
END:VEVENT
BEGIN:VEVENT
DTSTART;TZID=America/Los_Angeles:20250211T190000
DTEND;TZID=America/Los_Angeles:20250211T210000
DTSTAMP:20230610T184059
CREATED:20230405T011214Z
LAST-MODIFIED:20230405T011317Z
UID:10007388-1739300400-1739307600@seattledsa.org
SUMMARY:Board Games and Buddies: Capitol Hill
DESCRIPTION:Putting the party back in politics.\nBoard games and (root) beer with some local left homies at a cool bar.\nNo agenda and no lecture to sit through.\nJust having a good time + getting to know folks.\nFeel free to bring your own games as well! \nNOTES:\nPlease eat beforehand unless you’re fine with $8.00 grilled cheeses! \n \nContact JJ B. at 360-319-2009 to meet up!\nHosted by the Housing Justice Working Group.
URL:https://seattledsa.org/event/board-games-and-buddies-capitol-hill-3/2025-02-11/
LOCATION:Raygun Lounge\, 501 E Pine St\, Seattle\, WA\, 98122\, United States
CATEGORIES:Housing,New Member Friendly,Socials
GEO:47.6150502;-122.3252425
X-APPLE-STRUCTURED-LOCATION;VALUE=URI;X-ADDRESS=Raygun Lounge 501 E Pine St Seattle WA 98122 United States;X-APPLE-RADIUS=500;X-TITLE=501 E Pine St:geo:-122.3252425,47.6150502
END:VEVENT
BEGIN:VEVENT
DTSTART;TZID=America/Los_Angeles:20250218T190000
DTEND;TZID=America/Los_Angeles:20250218T210000
DTSTAMP:20230610T184059
CREATED:20230405T011214Z
LAST-MODIFIED:20230405T011317Z
UID:10007389-1739905200-1739912400@seattledsa.org
SUMMARY:Board Games and Buddies: Capitol Hill
DESCRIPTION:Putting the party back in politics.\nBoard games and (root) beer with some local left homies at a cool bar.\nNo agenda and no lecture to sit through.\nJust having a good time + getting to know folks.\nFeel free to bring your own games as well! \nNOTES:\nPlease eat beforehand unless you’re fine with $8.00 grilled cheeses! \n \nContact JJ B. at 360-319-2009 to meet up!\nHosted by the Housing Justice Working Group.
URL:https://seattledsa.org/event/board-games-and-buddies-capitol-hill-3/2025-02-18/
LOCATION:Raygun Lounge\, 501 E Pine St\, Seattle\, WA\, 98122\, United States
CATEGORIES:Housing,New Member Friendly,Socials
GEO:47.6150502;-122.3252425
X-APPLE-STRUCTURED-LOCATION;VALUE=URI;X-ADDRESS=Raygun Lounge 501 E Pine St Seattle WA 98122 United States;X-APPLE-RADIUS=500;X-TITLE=501 E Pine St:geo:-122.3252425,47.6150502
END:VEVENT
BEGIN:VEVENT
DTSTART;TZID=America/Los_Angeles:20250225T190000
DTEND;TZID=America/Los_Angeles:20250225T210000
DTSTAMP:20230610T184059
CREATED:20230405T011214Z
LAST-MODIFIED:20230405T011317Z
UID:10007390-1740510000-1740517200@seattledsa.org
SUMMARY:Board Games and Buddies: Capitol Hill
DESCRIPTION:Putting the party back in politics.\nBoard games and (root) beer with some local left homies at a cool bar.\nNo agenda and no lecture to sit through.\nJust having a good time + getting to know folks.\nFeel free to bring your own games as well! \nNOTES:\nPlease eat beforehand unless you’re fine with $8.00 grilled cheeses! \n \nContact JJ B. at 360-319-2009 to meet up!\nHosted by the Housing Justice Working Group.
URL:https://seattledsa.org/event/board-games-and-buddies-capitol-hill-3/2025-02-25/
LOCATION:Raygun Lounge\, 501 E Pine St\, Seattle\, WA\, 98122\, United States
CATEGORIES:Housing,New Member Friendly,Socials
GEO:47.6150502;-122.3252425
X-APPLE-STRUCTURED-LOCATION;VALUE=URI;X-ADDRESS=Raygun Lounge 501 E Pine St Seattle WA 98122 United States;X-APPLE-RADIUS=500;X-TITLE=501 E Pine St:geo:-122.3252425,47.6150502
END:VEVENT
BEGIN:VEVENT
DTSTART;TZID=America/Los_Angeles:20250304T190000
DTEND;TZID=America/Los_Angeles:20250304T210000
DTSTAMP:20230610T184059
CREATED:20230405T011214Z
LAST-MODIFIED:20230405T011317Z
UID:10007391-1741114800-1741122000@seattledsa.org
SUMMARY:Board Games and Buddies: Capitol Hill
DESCRIPTION:Putting the party back in politics.\nBoard games and (root) beer with some local left homies at a cool bar.\nNo agenda and no lecture to sit through.\nJust having a good time + getting to know folks.\nFeel free to bring your own games as well! \nNOTES:\nPlease eat beforehand unless you’re fine with $8.00 grilled cheeses! \n \nContact JJ B. at 360-319-2009 to meet up!\nHosted by the Housing Justice Working Group.
URL:https://seattledsa.org/event/board-games-and-buddies-capitol-hill-3/2025-03-04/
LOCATION:Raygun Lounge\, 501 E Pine St\, Seattle\, WA\, 98122\, United States
CATEGORIES:Housing,New Member Friendly,Socials
GEO:47.6150502;-122.3252425
X-APPLE-STRUCTURED-LOCATION;VALUE=URI;X-ADDRESS=Raygun Lounge 501 E Pine St Seattle WA 98122 United States;X-APPLE-RADIUS=500;X-TITLE=501 E Pine St:geo:-122.3252425,47.6150502
END:VEVENT
BEGIN:VEVENT
DTSTART;TZID=America/Los_Angeles:20250311T190000
DTEND;TZID=America/Los_Angeles:20250311T210000
DTSTAMP:20230610T184059
CREATED:20230405T011214Z
LAST-MODIFIED:20230405T011317Z
UID:10007392-1741719600-1741726800@seattledsa.org
SUMMARY:Board Games and Buddies: Capitol Hill
DESCRIPTION:Putting the party back in politics.\nBoard games and (root) beer with some local left homies at a cool bar.\nNo agenda and no lecture to sit through.\nJust having a good time + getting to know folks.\nFeel free to bring your own games as well! \nNOTES:\nPlease eat beforehand unless you’re fine with $8.00 grilled cheeses! \n \nContact JJ B. at 360-319-2009 to meet up!\nHosted by the Housing Justice Working Group.
URL:https://seattledsa.org/event/board-games-and-buddies-capitol-hill-3/2025-03-11/
LOCATION:Raygun Lounge\, 501 E Pine St\, Seattle\, WA\, 98122\, United States
CATEGORIES:Housing,New Member Friendly,Socials
GEO:47.6150502;-122.3252425
X-APPLE-STRUCTURED-LOCATION;VALUE=URI;X-ADDRESS=Raygun Lounge 501 E Pine St Seattle WA 98122 United States;X-APPLE-RADIUS=500;X-TITLE=501 E Pine St:geo:-122.3252425,47.6150502
END:VEVENT
BEGIN:VEVENT
DTSTART;TZID=America/Los_Angeles:20250318T190000
DTEND;TZID=America/Los_Angeles:20250318T210000
DTSTAMP:20230610T184059
CREATED:20230405T011214Z
LAST-MODIFIED:20230405T011317Z
UID:10007393-1742324400-1742331600@seattledsa.org
SUMMARY:Board Games and Buddies: Capitol Hill
DESCRIPTION:Putting the party back in politics.\nBoard games and (root) beer with some local left homies at a cool bar.\nNo agenda and no lecture to sit through.\nJust having a good time + getting to know folks.\nFeel free to bring your own games as well! \nNOTES:\nPlease eat beforehand unless you’re fine with $8.00 grilled cheeses! \n \nContact JJ B. at 360-319-2009 to meet up!\nHosted by the Housing Justice Working Group.
URL:https://seattledsa.org/event/board-games-and-buddies-capitol-hill-3/2025-03-18/
LOCATION:Raygun Lounge\, 501 E Pine St\, Seattle\, WA\, 98122\, United States
CATEGORIES:Housing,New Member Friendly,Socials
GEO:47.6150502;-122.3252425
X-APPLE-STRUCTURED-LOCATION;VALUE=URI;X-ADDRESS=Raygun Lounge 501 E Pine St Seattle WA 98122 United States;X-APPLE-RADIUS=500;X-TITLE=501 E Pine St:geo:-122.3252425,47.6150502
END:VEVENT
BEGIN:VEVENT
DTSTART;TZID=America/Los_Angeles:20250325T190000
DTEND;TZID=America/Los_Angeles:20250325T210000
DTSTAMP:20230610T184059
CREATED:20230405T011214Z
LAST-MODIFIED:20230405T011317Z
UID:10007394-1742929200-1742936400@seattledsa.org
SUMMARY:Board Games and Buddies: Capitol Hill
DESCRIPTION:Putting the party back in politics.\nBoard games and (root) beer with some local left homies at a cool bar.\nNo agenda and no lecture to sit through.\nJust having a good time + getting to know folks.\nFeel free to bring your own games as well! \nNOTES:\nPlease eat beforehand unless you’re fine with $8.00 grilled cheeses! \n \nContact JJ B. at 360-319-2009 to meet up!\nHosted by the Housing Justice Working Group.
URL:https://seattledsa.org/event/board-games-and-buddies-capitol-hill-3/2025-03-25/
LOCATION:Raygun Lounge\, 501 E Pine St\, Seattle\, WA\, 98122\, United States
CATEGORIES:Housing,New Member Friendly,Socials
GEO:47.6150502;-122.3252425
X-APPLE-STRUCTURED-LOCATION;VALUE=URI;X-ADDRESS=Raygun Lounge 501 E Pine St Seattle WA 98122 United States;X-APPLE-RADIUS=500;X-TITLE=501 E Pine St:geo:-122.3252425,47.6150502
END:VEVENT
BEGIN:VEVENT
DTSTART;TZID=America/Los_Angeles:20250401T190000
DTEND;TZID=America/Los_Angeles:20250401T210000
DTSTAMP:20230610T184059
CREATED:20230405T011214Z
LAST-MODIFIED:20230405T011317Z
UID:10007395-1743534000-1743541200@seattledsa.org
SUMMARY:Board Games and Buddies: Capitol Hill
DESCRIPTION:Putting the party back in politics.\nBoard games and (root) beer with some local left homies at a cool bar.\nNo agenda and no lecture to sit through.\nJust having a good time + getting to know folks.\nFeel free to bring your own games as well! \nNOTES:\nPlease eat beforehand unless you’re fine with $8.00 grilled cheeses! \n \nContact JJ B. at 360-319-2009 to meet up!\nHosted by the Housing Justice Working Group.
URL:https://seattledsa.org/event/board-games-and-buddies-capitol-hill-3/2025-04-01/
LOCATION:Raygun Lounge\, 501 E Pine St\, Seattle\, WA\, 98122\, United States
CATEGORIES:Housing,New Member Friendly,Socials
GEO:47.6150502;-122.3252425
X-APPLE-STRUCTURED-LOCATION;VALUE=URI;X-ADDRESS=Raygun Lounge 501 E Pine St Seattle WA 98122 United States;X-APPLE-RADIUS=500;X-TITLE=501 E Pine St:geo:-122.3252425,47.6150502
END:VEVENT
END:VCALENDAR