BEGIN:VCALENDAR
VERSION:2.0
PRODID:-//Seattle Democratic Socialists of America - ECPv6.0.13.1//NONSGML v1.0//EN
CALSCALE:GREGORIAN
METHOD:PUBLISH
X-ORIGINAL-URL:https://seattledsa.org
X-WR-CALDESC:Events for Seattle Democratic Socialists of America
REFRESH-INTERVAL;VALUE=DURATION:PT1H
X-Robots-Tag:noindex
X-PUBLISHED-TTL:PT1H
BEGIN:VTIMEZONE
TZID:America/Los_Angeles
BEGIN:DAYLIGHT
TZOFFSETFROM:-0800
TZOFFSETTO:-0700
TZNAME:PDT
DTSTART:20210314T100000
END:DAYLIGHT
BEGIN:STANDARD
TZOFFSETFROM:-0700
TZOFFSETTO:-0800
TZNAME:PST
DTSTART:20211107T090000
END:STANDARD
END:VTIMEZONE
BEGIN:VEVENT
DTSTART;TZID=America/Los_Angeles:20210609T160000
DTEND;TZID=America/Los_Angeles:20210609T180000
DTSTAMP:20230610T184734
CREATED:20210520T172350Z
LAST-MODIFIED:20210818T195023Z
UID:10005753-1623254400-1623261600@seattledsa.org
SUMMARY:Columbia City: Knocking Doors with House Our Neighbors!
DESCRIPTION:SIGN UP FOR THIS EVENT AND MORE HERE!\nJoin the Housing Justice Working Group and House Our Neighbors! \nWe will be conversing with residents IN-PERSON about Charter Amendment 29\, Sweeps\, and other important housing issues.\nNo better way to gain more experience with working-class folks who may not see eye-to-eye at first.\nHope to see you there!
URL:https://seattledsa.org/event/housing-justice-working-group-tabling-at-columbia-city/2021-06-09/
LOCATION:Columbia City Farmers Market\, 3651 S Edmunds St\, Seattle\, WA\, 98118\, United States
CATEGORIES:Housing,New Member Friendly
GEO:47.5586554;-122.2873569
X-APPLE-STRUCTURED-LOCATION;VALUE=URI;X-ADDRESS=Columbia City Farmers Market 3651 S Edmunds St Seattle WA 98118 United States;X-APPLE-RADIUS=500;X-TITLE=3651 S Edmunds St:geo:-122.2873569,47.5586554
END:VEVENT
BEGIN:VEVENT
DTSTART;TZID=America/Los_Angeles:20210602T160000
DTEND;TZID=America/Los_Angeles:20210602T180000
DTSTAMP:20230610T184734
CREATED:20210520T172350Z
LAST-MODIFIED:20210818T195023Z
UID:10005752-1622649600-1622656800@seattledsa.org
SUMMARY:Columbia City: Knocking Doors with House Our Neighbors!
DESCRIPTION:SIGN UP FOR THIS EVENT AND MORE HERE!\nJoin the Housing Justice Working Group and House Our Neighbors! \nWe will be conversing with residents IN-PERSON about Charter Amendment 29\, Sweeps\, and other important housing issues.\nNo better way to gain more experience with working-class folks who may not see eye-to-eye at first.\nHope to see you there!
URL:https://seattledsa.org/event/housing-justice-working-group-tabling-at-columbia-city/2021-06-02/
LOCATION:Columbia City Farmers Market\, 3651 S Edmunds St\, Seattle\, WA\, 98118\, United States
CATEGORIES:Housing,New Member Friendly
GEO:47.5586554;-122.2873569
X-APPLE-STRUCTURED-LOCATION;VALUE=URI;X-ADDRESS=Columbia City Farmers Market 3651 S Edmunds St Seattle WA 98118 United States;X-APPLE-RADIUS=500;X-TITLE=3651 S Edmunds St:geo:-122.2873569,47.5586554
END:VEVENT
END:VCALENDAR