BEGIN:VCALENDAR
VERSION:2.0
PRODID:-//Seattle Democratic Socialists of America - ECPv6.0.13.1//NONSGML v1.0//EN
CALSCALE:GREGORIAN
METHOD:PUBLISH
X-ORIGINAL-URL:https://seattledsa.org
X-WR-CALDESC:Events for Seattle Democratic Socialists of America
REFRESH-INTERVAL;VALUE=DURATION:PT1H
X-Robots-Tag:noindex
X-PUBLISHED-TTL:PT1H
BEGIN:VTIMEZONE
TZID:America/Los_Angeles
BEGIN:DAYLIGHT
TZOFFSETFROM:-0800
TZOFFSETTO:-0700
TZNAME:PDT
DTSTART:20190310T100000
END:DAYLIGHT
BEGIN:STANDARD
TZOFFSETFROM:-0700
TZOFFSETTO:-0800
TZNAME:PST
DTSTART:20191103T090000
END:STANDARD
END:VTIMEZONE
BEGIN:VEVENT
DTSTART;TZID=America/Los_Angeles:20190713T110000
DTEND;TZID=America/Los_Angeles:20190713T130000
DTSTAMP:20230610T165146
CREATED:20190701T145701Z
LAST-MODIFIED:20190701T153139Z
UID:10004587-1563015600-1563022800@seattledsa.org
SUMMARY:July 2019 Jacobin Reading Group Discussion
DESCRIPTION:We will be discussing the following articles for this month’s Jacobin Reading Group. Please read in advance and bring your questions/thoughts: \nHow to Solve the Housing Problem \nRyan Cooper/Peter Gowan \nThe size of the housing crisis can be daunting\, but with a committed political movement and a little bit of state power\, it can be confronted. \nhttps://jacobinmag.com/2019/06/how-to-solve-the-housing-problem \nThe Zone Defence\, by Samuel Stein \nWhat we need isn’t exclusionary zoning\, inclusionary zoning\, upzoning\, downzoning\, a zoning freeze\, or no zoning at all. We need an anticapitalist planning movement. \nhttps://www.jacobinmag.com/2019/06/the-zone-defense
URL:https://seattledsa.org/event/july-2019-jacobin-reading-group-discussion/
LOCATION:Montlake Branch of Seattle Public Library\, 2401 24th Ave E\, Seattle\, WA\, 98112\, United States
CATEGORIES:Education
ORGANIZER;CN="Jacobin%20Reading%20Group":MAILTO:cnatale@gmail.com
GEO:47.6404884;-122.3023891
X-APPLE-STRUCTURED-LOCATION;VALUE=URI;X-ADDRESS=Montlake Branch of Seattle Public Library 2401 24th Ave E Seattle WA 98112 United States;X-APPLE-RADIUS=500;X-TITLE=2401 24th Ave E:geo:-122.3023891,47.6404884
END:VEVENT
BEGIN:VEVENT
DTSTART;TZID=America/Los_Angeles:20190601T110000
DTEND;TZID=America/Los_Angeles:20190601T130000
DTSTAMP:20230610T165146
CREATED:20190527T041855Z
LAST-MODIFIED:20190527T042104Z
UID:10004467-1559386800-1559394000@seattledsa.org
SUMMARY:Jacobin Reading Group Discussion
DESCRIPTION:We will discuss the following readings at this edition of Jacobin Reading Group: \nTech Billionaires Think SimCity is Real Life. “Tech companies are getting into the business of making cities. We need to stop Silicon Valley social engineering before things get even worse.” \nhttps://www.jacobinmag.com/2019/05/future-cities-tech-giants-alphabet-toronto \nA Plan to Win Socialism in America. “The welfare state isn’t enough. A Sanders government needs to pursue policies that diminish the power of capital and radically democratize the economy.” https://jacobinmag.com/2019/02/a-plan-to-win-socialism-in-america \nWe’re at the Capitol Hill branch of the Seattle public library this month\, in the second floor meeting room.
URL:https://seattledsa.org/event/jacobin-reading-group-discussion-4/
LOCATION:Capitol Hill branch of Seattle Public Library\, 2nd floor meeting room\, 425 Harvard Ave E\, Seattle\, WA\, 98102\, United States
ORGANIZER;CN="Jacobin%20Reading%20Group":MAILTO:cnatale@gmail.com
GEO:47.6229295;-122.3223163
X-APPLE-STRUCTURED-LOCATION;VALUE=URI;X-ADDRESS=Capitol Hill branch of Seattle Public Library 2nd floor meeting room 425 Harvard Ave E Seattle WA 98102 United States;X-APPLE-RADIUS=500;X-TITLE=425 Harvard Ave E:geo:-122.3223163,47.6229295
END:VEVENT
BEGIN:VEVENT
DTSTART;TZID=America/Los_Angeles:20190511T170000
DTEND;TZID=America/Los_Angeles:20190511T190000
DTSTAMP:20230610T165146
CREATED:20190429T014631Z
LAST-MODIFIED:20190503T235811Z
UID:10004407-1557594000-1557601200@seattledsa.org
SUMMARY:Dinner with Bhaskar Sunkara: Jacobin Reading Group
DESCRIPTION:We will have a special Jacobin Reading Group this month. Editor and publisher of Jacobin Magazine\, Bhaskar Sunkara\, will join us for dinner! Bring plenty of questions.
URL:https://seattledsa.org/event/dinner-with-bhaskar-sunkara-jacobin-reading-group/
LOCATION:Bar Cotto\, 1546 15th Ave\, Seattle\, WA\, 98122\, United States
CATEGORIES:Education
ORGANIZER;CN="Jacobin%20Reading%20Group":MAILTO:cnatale@gmail.com
GEO:47.6150584;-122.3125843
X-APPLE-STRUCTURED-LOCATION;VALUE=URI;X-ADDRESS=Bar Cotto 1546 15th Ave Seattle WA 98122 United States;X-APPLE-RADIUS=500;X-TITLE=1546 15th Ave:geo:-122.3125843,47.6150584
END:VEVENT
BEGIN:VEVENT
DTSTART;TZID=America/Los_Angeles:20190302T110000
DTEND;TZID=America/Los_Angeles:20190302T130000
DTSTAMP:20230610T165146
CREATED:20190226T013221Z
LAST-MODIFIED:20190226T013221Z
UID:10004335-1551524400-1551531600@seattledsa.org
SUMMARY:March Jacobin Reading Group Discussion
DESCRIPTION:We will discuss the following articles: \nModern Monetary Theory Isn’t Helping – Doug Henwood\nhttps://www.jacobinmag.com/2019/02/modern-monetary-theory-isnt-helping \nHenwood’s critique of MMT. \n  \nYou Can Have Brandeis or You Can Have Debs – Shawn Gude \nhttps://jacobinmag.com/2019/02/you-can-have-brandeis-or-you-can-have-debs \nAn examination of Sanders and Warren in the context of early-20th century political figures. \nPlease read the articles in advance\, if possible.
URL:https://seattledsa.org/event/march-jacobin-reading-group-discussion-2/
LOCATION:Capitol Hill branch of Seattle Public Library\, 2nd floor meeting room\, 425 Harvard Ave E\, Seattle\, WA\, 98102\, United States
CATEGORIES:Reading Groups
ORGANIZER;CN="Jacobin%20Reading%20Group":MAILTO:cnatale@gmail.com
GEO:47.6229295;-122.3223163
X-APPLE-STRUCTURED-LOCATION;VALUE=URI;X-ADDRESS=Capitol Hill branch of Seattle Public Library 2nd floor meeting room 425 Harvard Ave E Seattle WA 98102 United States;X-APPLE-RADIUS=500;X-TITLE=425 Harvard Ave E:geo:-122.3223163,47.6229295
END:VEVENT
BEGIN:VEVENT
DTSTART;TZID=America/Los_Angeles:20190202T110000
DTEND;TZID=America/Los_Angeles:20190202T130000
DTSTAMP:20230610T165146
CREATED:20190119T044245Z
LAST-MODIFIED:20190125T174840Z
UID:10003621-1549105200-1549112400@seattledsa.org
SUMMARY:February Jacobin Reading Group Discussion
DESCRIPTION:This month we’re continuing our tour of the current capitalist moment with the following article: \n“Why Shadow Banking Is Bigger Than Ever” by Daniela Gabor  takes a look at the continuing shadow banking revolution \n“Devil in the Details” is a quick primer on the key financial terms of the moment (including “shadow banking”) \nWe’ll be at the Capitol Hill branch this month. \nIf you need access to the material\, leave a comment and we’ll get in touch (or otherwise feel free to reach).
URL:https://seattledsa.org/event/february-jacobin-reading-group-discussion/
LOCATION:Capitol Hill branch of Seattle Public Library\, 425 Harvard Ave E\, Seattle\, WA\, 98102\, United States
ORGANIZER;CN="Jacobin%20Reading%20Group":MAILTO:cnatale@gmail.com
GEO:47.6229295;-122.3223163
X-APPLE-STRUCTURED-LOCATION;VALUE=URI;X-ADDRESS=Capitol Hill branch of Seattle Public Library 425 Harvard Ave E Seattle WA 98102 United States;X-APPLE-RADIUS=500;X-TITLE=425 Harvard Ave E:geo:-122.3223163,47.6229295
END:VEVENT
END:VCALENDAR