BEGIN:VCALENDAR
VERSION:2.0
PRODID:-//Seattle Democratic Socialists of America - ECPv6.0.13.1//NONSGML v1.0//EN
CALSCALE:GREGORIAN
METHOD:PUBLISH
X-ORIGINAL-URL:https://seattledsa.org
X-WR-CALDESC:Events for Seattle Democratic Socialists of America
REFRESH-INTERVAL;VALUE=DURATION:PT1H
X-Robots-Tag:noindex
X-PUBLISHED-TTL:PT1H
BEGIN:VTIMEZONE
TZID:America/Los_Angeles
BEGIN:DAYLIGHT
TZOFFSETFROM:-0800
TZOFFSETTO:-0700
TZNAME:PDT
DTSTART:20200308T100000
END:DAYLIGHT
BEGIN:STANDARD
TZOFFSETFROM:-0700
TZOFFSETTO:-0800
TZNAME:PST
DTSTART:20201101T090000
END:STANDARD
END:VTIMEZONE
BEGIN:VEVENT
DTSTART;TZID=America/Los_Angeles:20200901T190000
DTEND;TZID=America/Los_Angeles:20200901T210000
DTSTAMP:20230610T175643
CREATED:20200430T235047Z
LAST-MODIFIED:20200903T014846Z
UID:10004235-1598986800-1598994000@seattledsa.org
SUMMARY:Seattle DSA General Membership Meeting
DESCRIPTION:Join SDSA for our monthly General Membership Meeting! This month we’ll be joined by Sherae Lascelles\, activist candidate for State House\, running against one of the most prominent establishment politicians in town\, Frank Chopp. We’ll have a Q&A with Sherae. We’ll also hear updates from the Divest and Defund campaigns\, the Green New Deal committee\, and Olympia DSA.This is a virtual meeting. For Zoom login info\, check Slack\, or RSVP here! \nAre you a new SDSA member and want to get on Slack? Send your welcome email from Maria Svart to info@seattledsa.org and we’ll get you added to Slack! \nYou can find the agenda here. If you have an announcement or suggestion for the agenda\, please email info@SeattleDSA.org !
URL:https://seattledsa.org/event/general-membership-meeting-2020-09-01/
LOCATION:Eightball Cafe in Everett\, 2727 Colby Ave\, Everett\, WA\, United States
CATEGORIES:New Member Friendly
GEO:37.09024;-95.712891
X-APPLE-STRUCTURED-LOCATION;VALUE=URI;X-ADDRESS=Eightball Cafe in Everett 2727 Colby Ave Everett WA United States;X-APPLE-RADIUS=500;X-TITLE=2727 Colby Ave:geo:-95.712891,37.09024
END:VEVENT
BEGIN:VEVENT
DTSTART;TZID=America/Los_Angeles:20200804T190000
DTEND;TZID=America/Los_Angeles:20200804T210000
DTSTAMP:20230610T175643
CREATED:20200430T235047Z
LAST-MODIFIED:20200723T220415Z
UID:10004233-1596567600-1596574800@seattledsa.org
SUMMARY:August General Membership Meeting
DESCRIPTION:Our August General Membership Meeting is a business meeting! Members have submitted resolutions and amendments for consideration and a vote by the general membership. This meeting will include lively debate and discussion about resolutions that will shape the direction of our chapter\, so we hope you can attend! \nThis is a virtual meeting. For Zoom login info\, check Slack! For those who are not yet DSA members\, please register here. \nAre you a new SDSA member and want to get on Slack? Send your welcome email from Maria Svart to info@seattledsa.org and we’ll get you plugged in!
URL:https://seattledsa.org/event/august-general-membership-meeting-2020-08-04/
LOCATION:Eightball Cafe in Everett\, 2727 Colby Ave\, Everett\, WA\, United States
CATEGORIES:New Member Friendly
GEO:37.09024;-95.712891
X-APPLE-STRUCTURED-LOCATION;VALUE=URI;X-ADDRESS=Eightball Cafe in Everett 2727 Colby Ave Everett WA United States;X-APPLE-RADIUS=500;X-TITLE=2727 Colby Ave:geo:-95.712891,37.09024
END:VEVENT
BEGIN:VEVENT
DTSTART;TZID=America/Los_Angeles:20200707T190000
DTEND;TZID=America/Los_Angeles:20200707T210000
DTSTAMP:20230610T175643
CREATED:20200430T235047Z
LAST-MODIFIED:20201126T015933Z
UID:10004229-1594148400-1594155600@seattledsa.org
SUMMARY:Seattle DSA General Membership Meeting
DESCRIPTION:Join Seattle DSA for our monthly General Membership Meeting! This meeting will be a business meeting. We will discuss seven member-submitted resolutions. The resolutions have been sent to members via email and are available on Slack. If you are a member and can’t find the resolutions\, please email info@seattledsa.org. Members in good standing are eligible to vote at the meeting. \nThis is a virtual meeting meeting. To attend the meeting\, you must register here. Please register as early as possible so we can verify your membership.
URL:https://seattledsa.org/event/general-membership-meeting/2020-07-07/
LOCATION:Eightball Cafe in Everett\, 2727 Colby Ave\, Everett\, WA\, United States
CATEGORIES:New Member Friendly
GEO:37.09024;-95.712891
X-APPLE-STRUCTURED-LOCATION;VALUE=URI;X-ADDRESS=Eightball Cafe in Everett 2727 Colby Ave Everett WA United States;X-APPLE-RADIUS=500;X-TITLE=2727 Colby Ave:geo:-95.712891,37.09024
END:VEVENT
BEGIN:VEVENT
DTSTART;TZID=America/Los_Angeles:20200602T190000
DTEND;TZID=America/Los_Angeles:20200602T210000
DTSTAMP:20230610T175643
CREATED:20200430T235047Z
LAST-MODIFIED:20201126T015933Z
UID:10004228-1591124400-1591131600@seattledsa.org
SUMMARY:Seattle DSA General Membership Meeting
DESCRIPTION:Join Seattle DSA for our monthly General Membership Meeting! This meeting will be a business meeting. We will discuss seven member-submitted resolutions. The resolutions have been sent to members via email and are available on Slack. If you are a member and can’t find the resolutions\, please email info@seattledsa.org. Members in good standing are eligible to vote at the meeting. \nThis is a virtual meeting meeting. To attend the meeting\, you must register here. Please register as early as possible so we can verify your membership.
URL:https://seattledsa.org/event/general-membership-meeting/2020-06-02/
LOCATION:Eightball Cafe in Everett\, 2727 Colby Ave\, Everett\, WA\, United States
CATEGORIES:New Member Friendly
GEO:37.09024;-95.712891
X-APPLE-STRUCTURED-LOCATION;VALUE=URI;X-ADDRESS=Eightball Cafe in Everett 2727 Colby Ave Everett WA United States;X-APPLE-RADIUS=500;X-TITLE=2727 Colby Ave:geo:-95.712891,37.09024
END:VEVENT
BEGIN:VEVENT
DTSTART;TZID=America/Los_Angeles:20200329T133000
DTEND;TZID=America/Los_Angeles:20200329T153000
DTSTAMP:20230610T175643
CREATED:20200320T041614Z
LAST-MODIFIED:20200320T233844Z
UID:10005228-1585488600-1585495800@seattledsa.org
SUMMARY:2020 Seattle DSA Chapter Convention (adapted)
DESCRIPTION:2020 Seattle DSA Convention\n  \n** NOTE: Due to the COVID-19 pandemic\, the convention and LC election will be held online. Bylaws and resolutions will be postponed. ** \nAll members of Seattle DSA both active and inactive are encouraged to attend this partial 2020 annual convention\, adjusted for the coronavirus. Among other things\, we will have a Q/A with the candidates for the the 13-member local council for 2020. In order for the results to be binding a minimum quorom of 10% of members is required. \nThe bylaws amendments and resolutions portion of the 2020 Convention have been postponed to the next in-person membership meeting. \n2020 Local Council Elections\nThe Local Council is our thirteen-member\, democratically elected leadership body of Seattle DSA. Positions are elected annually\, so all thirteen positions are up for election on March 29nd. According to our bylaws\, “The Local Council shall carry out actions which advance the principles\, policies\, strategies\, and campaigns enumerated by the Membership in General Meetings. The Local Council shall manage the day-to-day affairs of the Local between General Meetings.” \n  \n\n  \nMeeting Information \n\nNon-members permitted but ineligible to vote.\nQuestions? E-mail info@seattledsa.org
URL:https://seattledsa.org/event/2020-seattle-dsa-chapter-convention-adapted/
LOCATION:Online (Zoom Call)\, WA
CATEGORIES:General Membership Meeting,New Member Friendly
GEO:47.6618326;-122.3425123
END:VEVENT
END:VCALENDAR