BEGIN:VCALENDAR
VERSION:2.0
PRODID:-//Seattle Democratic Socialists of America - ECPv6.0.13.1//NONSGML v1.0//EN
CALSCALE:GREGORIAN
METHOD:PUBLISH
X-ORIGINAL-URL:https://seattledsa.org
X-WR-CALDESC:Events for Seattle Democratic Socialists of America
REFRESH-INTERVAL;VALUE=DURATION:PT1H
X-Robots-Tag:noindex
X-PUBLISHED-TTL:PT1H
BEGIN:VTIMEZONE
TZID:America/Los_Angeles
BEGIN:DAYLIGHT
TZOFFSETFROM:-0800
TZOFFSETTO:-0700
TZNAME:PDT
DTSTART:20200308T100000
END:DAYLIGHT
BEGIN:STANDARD
TZOFFSETFROM:-0700
TZOFFSETTO:-0800
TZNAME:PST
DTSTART:20201101T090000
END:STANDARD
BEGIN:DAYLIGHT
TZOFFSETFROM:-0800
TZOFFSETTO:-0700
TZNAME:PDT
DTSTART:20210314T100000
END:DAYLIGHT
BEGIN:STANDARD
TZOFFSETFROM:-0700
TZOFFSETTO:-0800
TZNAME:PST
DTSTART:20211107T090000
END:STANDARD
END:VTIMEZONE
BEGIN:VEVENT
DTSTART;TZID=America/Los_Angeles:20210102T100000
DTEND;TZID=America/Los_Angeles:20210102T233000
DTSTAMP:20230610T175611
CREATED:20201208T033104Z
LAST-MODIFIED:20201208T033104Z
UID:10005624-1609581600-1609630200@seattledsa.org
SUMMARY:Member Engagement Team meeting
DESCRIPTION:The Member Engagement Team is the group that puts on New Member Orientations\, sets up 1-on-1 meetings between more experienced organizers within DSA and new members\, as well as other projects to get new members involved in the work of the chapter. Our work is very important for getting folks that join up involved with the work of our chapter so we can build the power we need to create a socialist future! \nAt this meeting we’ll be doing some visioning of what we want to get done as a team in 2021. \nRSVP HERE. \nIf you have any questions\, contact member-engagement@seattledsa.org.
URL:https://seattledsa.org/event/member-engagement-team-meeting-12/
LOCATION:On Zoom\, WA\, United States
ORGANIZER;CN="Member%20Engagement%20Team":MAILTO:member-engagement@seattledsa.org
GEO:47.7510741;-120.7401385
END:VEVENT
BEGIN:VEVENT
DTSTART;TZID=America/Los_Angeles:20201219T120000
DTEND;TZID=America/Los_Angeles:20201219T133000
DTSTAMP:20230610T175611
CREATED:20201109T155046Z
LAST-MODIFIED:20201214T024821Z
UID:10005605-1608379200-1608384600@seattledsa.org
SUMMARY:Online New Member Orientation
DESCRIPTION:Come to learn about what Democratic Socialism is all about\, what we can learn about capitalism and socialism from the current uprisings and the pandemic\, and how YOU can get involved with Seattle DSA’s efforts to engage in mutual aid and building power for a socialist future in which people come before profits. You don’t need to be an official member to attend – “DSA curious” folks are welcome! \nRSVP for Zoom link \nQuestions? Contact: member-engagement@seattledsa.org.
URL:https://seattledsa.org/event/online-new-member-orientation-14/
LOCATION:Eightball Cafe in Everett\, 2727 Colby Ave\, Everett\, WA\, United States
CATEGORIES:New Member Friendly
ORGANIZER;CN="Member%20Engagement%20Team":MAILTO:member-engagement@seattledsa.org
GEO:37.09024;-95.712891
X-APPLE-STRUCTURED-LOCATION;VALUE=URI;X-ADDRESS=Eightball Cafe in Everett 2727 Colby Ave Everett WA United States;X-APPLE-RADIUS=500;X-TITLE=2727 Colby Ave:geo:-95.712891,37.09024
END:VEVENT
BEGIN:VEVENT
DTSTART;TZID=America/Los_Angeles:20201217T180000
DTEND;TZID=America/Los_Angeles:20201217T193000
DTSTAMP:20230610T175611
CREATED:20201109T154816Z
LAST-MODIFIED:20201214T024742Z
UID:10005604-1608228000-1608233400@seattledsa.org
SUMMARY:Online New Member Orientation
DESCRIPTION:Come to learn about what Democratic Socialism is all about\, what we can learn about capitalism and socialism from the current uprisings and the pandemic\, and how YOU can get involved with Seattle DSA’s efforts to engage in mutual aid and building power for a socialist future in which people come before profits. You don’t need to be an official member to attend – “DSA curious” folks are welcome! \nRSVP for Zoom link \nQuestions? Contact: member-engagement@seattledsa.org.
URL:https://seattledsa.org/event/online-new-member-orientation-13/
LOCATION:Eightball Cafe in Everett\, 2727 Colby Ave\, Everett\, WA\, United States
CATEGORIES:New Member Friendly
ORGANIZER;CN="Member%20Engagement%20Team":MAILTO:member-engagement@seattledsa.org
GEO:37.09024;-95.712891
X-APPLE-STRUCTURED-LOCATION;VALUE=URI;X-ADDRESS=Eightball Cafe in Everett 2727 Colby Ave Everett WA United States;X-APPLE-RADIUS=500;X-TITLE=2727 Colby Ave:geo:-95.712891,37.09024
END:VEVENT
BEGIN:VEVENT
DTSTART;TZID=America/Los_Angeles:20201205T100000
DTEND;TZID=America/Los_Angeles:20201205T113000
DTSTAMP:20230610T175611
CREATED:20201110T191029Z
LAST-MODIFIED:20201110T191029Z
UID:10004414-1607162400-1607167800@seattledsa.org
SUMMARY:Member Engagement Team meeting
DESCRIPTION:The Member Engagement Team puts on New Member Orientations\, sets up 1-on-1 meetings between more experienced organizers within DSA and new members\, and other projects to get new members involved in the work of the chapter. Our work is very important for getting folks that join up involved with the work of our chapter so we can build the power we need to create a socialist future! \nRSVP HERE \nIf you have any questions\, contact member-engagement@seattledsa.org. \n 
URL:https://seattledsa.org/event/member-engagement-team-meeting-11/
LOCATION:On Zoom\, WA\, United States
ORGANIZER;CN="Member%20Engagement%20Team":MAILTO:member-engagement@seattledsa.org
GEO:47.7510741;-120.7401385
END:VEVENT
BEGIN:VEVENT
DTSTART;TZID=America/Los_Angeles:20201107T100000
DTEND;TZID=America/Los_Angeles:20201107T113000
DTSTAMP:20230610T175611
CREATED:20201102T232052Z
LAST-MODIFIED:20201102T232052Z
UID:10005597-1604743200-1604748600@seattledsa.org
SUMMARY:Member Engagement Team meeting
DESCRIPTION:The Member Engagement Team is the group that puts on New Member Orientations\, sets up 1-on-1 meetings between more experienced organizers within DSA and new members\, and other projects to get new members involved in the work of the chapter. Our work is very important for getting folks that join up involved with the work of our chapter so we can build the power we need to create a socialist future!  RSVP HERE: https://actionnetwork.org/events/member-engagement-team-meeting-3 \nIf you have any questions\, contact member-engagement@seattledsa.org. \n 
URL:https://seattledsa.org/event/member-engagement-team-meeting-10/
LOCATION:On Zoom\, WA\, United States
ORGANIZER;CN="Member%20Engagement%20Team":MAILTO:member-engagement@seattledsa.org
GEO:47.7510741;-120.7401385
END:VEVENT
BEGIN:VEVENT
DTSTART;TZID=America/Los_Angeles:20201017T120000
DTEND;TZID=America/Los_Angeles:20201017T133000
DTSTAMP:20230610T175611
CREATED:20201006T044813Z
LAST-MODIFIED:20201006T044813Z
UID:10005572-1602936000-1602941400@seattledsa.org
SUMMARY:Online New Member Orientation
DESCRIPTION:Come to learn about what Democratic Socialism is all about\, what we can learn about capitalism and socialism from the current uprisings and the pandemic\, and how YOU can get involved with Seattle DSA’s efforts to engage in mutual aid and building power for a socialist future in which people come before profits. You don’t need to be an official member to attend – “DSA curious” folks are welcome! \nRSVP for Zoom link \nQuestions? Contact: member-engagement@seattledsa.org.
URL:https://seattledsa.org/event/online-new-member-orientation-10/
LOCATION:Zoom\, https://washington.zoom.us/j/96243838248
CATEGORIES:New Member Friendly
ORGANIZER;CN="Member%20Engagement%20Team":MAILTO:member-engagement@seattledsa.org
GEO:47.7510741;-120.7401385
X-APPLE-STRUCTURED-LOCATION;VALUE=URI;X-ADDRESS=Zoom https://washington.zoom.us/j/96243838248;X-APPLE-RADIUS=500;X-TITLE=https://washington.zoom.us/j/96243838248:geo:-120.7401385,47.7510741
END:VEVENT
BEGIN:VEVENT
DTSTART;TZID=America/Los_Angeles:20201015T180000
DTEND;TZID=America/Los_Angeles:20201015T193000
DTSTAMP:20230610T175611
CREATED:20201006T044652Z
LAST-MODIFIED:20201006T044652Z
UID:10005571-1602784800-1602790200@seattledsa.org
SUMMARY:Online New Member Orientation
DESCRIPTION:Come to learn about what Democratic Socialism is all about\, what we can learn about capitalism and socialism from the current uprisings and the pandemic\, and how YOU can get involved with Seattle DSA’s efforts to engage in mutual aid and building power for a socialist future in which people come before profits. You don’t need to be an official member to attend – “DSA curious” folks are welcome! \nRSVP for Zoom link \nQuestions? Contact: member-engagement@seattledsa.org.
URL:https://seattledsa.org/event/online-new-member-orientation-9/
LOCATION:Zoom\, https://washington.zoom.us/j/96243838248
CATEGORIES:New Member Friendly
ORGANIZER;CN="Member%20Engagement%20Team":MAILTO:member-engagement@seattledsa.org
GEO:47.7510741;-120.7401385
X-APPLE-STRUCTURED-LOCATION;VALUE=URI;X-ADDRESS=Zoom https://washington.zoom.us/j/96243838248;X-APPLE-RADIUS=500;X-TITLE=https://washington.zoom.us/j/96243838248:geo:-120.7401385,47.7510741
END:VEVENT
BEGIN:VEVENT
DTSTART;TZID=America/Los_Angeles:20201003T100000
DTEND;TZID=America/Los_Angeles:20201003T113000
DTSTAMP:20230610T175611
CREATED:20200926T192707Z
LAST-MODIFIED:20200926T192707Z
UID:10005550-1601719200-1601724600@seattledsa.org
SUMMARY:Member Engagement Team meeting
DESCRIPTION:The Member Engagement Team is the group that puts on New Member Orientations\, sets up 1-on-1 meetings between more experienced organizers within DSA and new members\, and other projects to get new members involved in the work of the chapter. Our work is very important for getting folks that join up involved with the work of our chapter so we can build the power we need to create a socialist future! \nRSVP here to get the Zoom link for this meeting: \nhttps://actionnetwork.org/events/member-engagement-team-meeting-2 \n  \nIf you have any questions\, contact member-engagement@seattledsa.org.
URL:https://seattledsa.org/event/member-engagement-team-meeting-9/
LOCATION:On Zoom\, WA\, United States
ORGANIZER;CN="Member%20Engagement%20Team":MAILTO:member-engagement@seattledsa.org
GEO:47.7510741;-120.7401385
END:VEVENT
BEGIN:VEVENT
DTSTART;TZID=America/Los_Angeles:20200917T180000
DTEND;TZID=America/Los_Angeles:20200917T193000
DTSTAMP:20230610T175611
CREATED:20200911T233306Z
LAST-MODIFIED:20200914T030902Z
UID:10004358-1600365600-1600371000@seattledsa.org
SUMMARY:Online New Member Orientation
DESCRIPTION:Come to learn about what Democratic Socialism is all about\, what we can learn about capitalism and socialism from the current uprisings and the pandemic\, and how YOU can get involved with Seattle DSA’s efforts to engage in mutual aid and building power for a socialist future in which people come before profits. You don’t need to be an official member to attend – “DSA curious” folks are welcome! \nRSVP here for Zoom link. \nQuestions? Contact: member-engagement@seattledsa.org.
URL:https://seattledsa.org/event/online-new-member-orientation-7/
LOCATION:Eightball Cafe in Everett\, 2727 Colby Ave\, Everett\, WA\, United States
CATEGORIES:New Member Friendly
ORGANIZER;CN="Member%20Engagement%20Team":MAILTO:member-engagement@seattledsa.org
GEO:37.09024;-95.712891
X-APPLE-STRUCTURED-LOCATION;VALUE=URI;X-ADDRESS=Eightball Cafe in Everett 2727 Colby Ave Everett WA United States;X-APPLE-RADIUS=500;X-TITLE=2727 Colby Ave:geo:-95.712891,37.09024
END:VEVENT
BEGIN:VEVENT
DTSTART;TZID=America/Los_Angeles:20200905T100000
DTEND;TZID=America/Los_Angeles:20200905T113000
DTSTAMP:20230610T175611
CREATED:20200828T183252Z
LAST-MODIFIED:20200828T183252Z
UID:10005525-1599300000-1599305400@seattledsa.org
SUMMARY:Member Engagement Team Meeting
DESCRIPTION:The next meeting of the Member Engagement Team (MET) will be next Saturday\, September 5 from 10-11:30am. The MET is the group that puts on New Member Orientations and sets up 1-on-1 meetings between more experienced organizers within DSA and new members. Our work is very important for getting folks that join up involved with the work of our chapter so we can build the power we need to create a socialist future! \nRSVP here to get the Zoom link for this meeting: \nhttps://actionnetwork.org/events/member-engagement-team-meeting \nAt this meeting we’ll be talking about how to streamline / improve the process of putting on New Member Orientations\, how to help our current 1-on-1 organizers stay involved with the program as well as recruiting new folks\, and more. If you have any questions\, contact member-engagement@seattledsa.org.
URL:https://seattledsa.org/event/member-engagement-team-meeting-8/
LOCATION:On Zoom\, WA\, United States
ORGANIZER;CN="Member%20Engagement%20Team":MAILTO:member-engagement@seattledsa.org
GEO:47.7510741;-120.7401385
END:VEVENT
END:VCALENDAR