BEGIN:VCALENDAR
VERSION:2.0
PRODID:-//Seattle Democratic Socialists of America - ECPv6.0.13.1//NONSGML v1.0//EN
CALSCALE:GREGORIAN
METHOD:PUBLISH
X-WR-CALNAME:Seattle Democratic Socialists of America
X-ORIGINAL-URL:https://seattledsa.org
X-WR-CALDESC:Events for Seattle Democratic Socialists of America
REFRESH-INTERVAL;VALUE=DURATION:PT1H
X-Robots-Tag:noindex
X-PUBLISHED-TTL:PT1H
BEGIN:VTIMEZONE
TZID:America/Los_Angeles
BEGIN:DAYLIGHT
TZOFFSETFROM:-0800
TZOFFSETTO:-0700
TZNAME:PDT
DTSTART:20210314T100000
END:DAYLIGHT
BEGIN:STANDARD
TZOFFSETFROM:-0700
TZOFFSETTO:-0800
TZNAME:PST
DTSTART:20211107T090000
END:STANDARD
END:VTIMEZONE
BEGIN:VEVENT
DTSTART;TZID=America/Los_Angeles:20210623T173000
DTEND;TZID=America/Los_Angeles:20210623T183000
DTSTAMP:20230610T173349
CREATED:20210622T044504Z
LAST-MODIFIED:20210622T044929Z
UID:10005884-1624469400-1624473000@seattledsa.org
SUMMARY:Canvass for Nikkita Oliver for Seattle City Council Position 9
DESCRIPTION:Join volunteers who are knocking on doors and talking with neighbors about the Nikkita Oliver for Seattle City Council Position 9 Campaign.
URL:https://seattledsa.org/event/canvass-for-nikkita-oliver-for-seattle-city-council-position-9/
LOCATION:Beacon Hill Playground\, 1902 13th Ave S\, Seattle\, WA\, 98144\, United States
CATEGORIES:Electoral,New Member Friendly
ORGANIZER;CN="Nikkita%20Oliver%20for%20Seattle%20City%20Council%20Position%209":MAILTO:info@nikkita4nine.com
GEO:47.5861658;-122.3154455
X-APPLE-STRUCTURED-LOCATION;VALUE=URI;X-ADDRESS=Beacon Hill Playground 1902 13th Ave S Seattle WA 98144 United States;X-APPLE-RADIUS=500;X-TITLE=1902 13th Ave S:geo:-122.3154455,47.5861658
END:VEVENT
END:VCALENDAR