BEGIN:VCALENDAR
VERSION:2.0
PRODID:-//Seattle Democratic Socialists of America - ECPv6.0.13.1//NONSGML v1.0//EN
CALSCALE:GREGORIAN
METHOD:PUBLISH
X-WR-CALNAME:Seattle Democratic Socialists of America
X-ORIGINAL-URL:https://seattledsa.org
X-WR-CALDESC:Events for Seattle Democratic Socialists of America
REFRESH-INTERVAL;VALUE=DURATION:PT1H
X-Robots-Tag:noindex
X-PUBLISHED-TTL:PT1H
BEGIN:VTIMEZONE
TZID:America/Los_Angeles
BEGIN:DAYLIGHT
TZOFFSETFROM:-0800
TZOFFSETTO:-0700
TZNAME:PDT
DTSTART:20180311T100000
END:DAYLIGHT
BEGIN:STANDARD
TZOFFSETFROM:-0700
TZOFFSETTO:-0800
TZNAME:PST
DTSTART:20181104T090000
END:STANDARD
BEGIN:DAYLIGHT
TZOFFSETFROM:-0800
TZOFFSETTO:-0700
TZNAME:PDT
DTSTART:20190310T100000
END:DAYLIGHT
BEGIN:STANDARD
TZOFFSETFROM:-0700
TZOFFSETTO:-0800
TZNAME:PST
DTSTART:20191103T090000
END:STANDARD
BEGIN:DAYLIGHT
TZOFFSETFROM:-0800
TZOFFSETTO:-0700
TZNAME:PDT
DTSTART:20200308T100000
END:DAYLIGHT
BEGIN:STANDARD
TZOFFSETFROM:-0700
TZOFFSETTO:-0800
TZNAME:PST
DTSTART:20201101T090000
END:STANDARD
END:VTIMEZONE
BEGIN:VEVENT
DTSTART;TZID=America/Los_Angeles:20200624T183000
DTEND;TZID=America/Los_Angeles:20200624T200000
DTSTAMP:20230610T180332
CREATED:20200622T034427Z
LAST-MODIFIED:20200622T042540Z
UID:10005461-1593023400-1593028800@seattledsa.org
SUMMARY:Queer and Feminist Reading Group: October Song
DESCRIPTION:Join the Queer & Feminist Caucus’ bi-weekly reading group! We’re finishing up the book October Song\, Paul LeBlanc’s account of the Russian Revolution. Don’t worry if it’s your first time showing up — all are welcome to join! We’d love to have you. \nThis week\, we’ll be discussing Chapter 9\, Consolidation of the Soviet Republic. The main question guiding this chapter is\, what is “proletarian rule” and did it exist in Bolshevik Russia in 1917-1924? \nAll are welcome to join for lively discussion and comradely community.  Email sdsaqueerandfeminist@gmail.com to get a copy of the reading. \nRSVP here for zoom link!
URL:https://seattledsa.org/event/queer-and-feminist-reading-group-october-song-3/
LOCATION:Eightball Cafe in Everett\, 2727 Colby Ave\, Everett\, WA\, United States
CATEGORIES:New Member Friendly,Reading Groups
ATTACH;FMTTYPE=image/jpeg:https://seattledsa.org/wp-content/uploads/2020/04/October-Song.jpg
GEO:37.09024;-95.712891
X-APPLE-STRUCTURED-LOCATION;VALUE=URI;X-ADDRESS=Eightball Cafe in Everett 2727 Colby Ave Everett WA United States;X-APPLE-RADIUS=500;X-TITLE=2727 Colby Ave:geo:-95.712891,37.09024
END:VEVENT
BEGIN:VEVENT
DTSTART;TZID=America/Los_Angeles:20200415T183000
DTEND;TZID=America/Los_Angeles:20200415T200000
DTSTAMP:20230610T180332
CREATED:20200413T181148Z
LAST-MODIFIED:20200413T181148Z
UID:10004195-1586975400-1586980800@seattledsa.org
SUMMARY:Queer and Feminist Reading Group: October Song
DESCRIPTION:Join us as we read Chapter 5 of Paul LeBlanc’s account of the Russian Revolution\, October Song. What lessons can the Russian Revolution give to us today? What actually happened before and after the working class took power? How do conditions in society dictate our strategies and tactics? How would we\, in a modern context\, wrest power from the ruling class?  \nThis week\, we’ll be discussing Chapter 5 (“Global Context”) and the importance of internationalism for socialist revolutionaries. What was the global context that the fledgling Soviet Republic\, immediately after the revolution\, had to grapple with? What working class struggles were going on elsewhere in the world? What were the Communist Internationals?  \nAll are welcome to join for lively discussion and comradely community. This reading group meets every two weeks. If you haven’t been to one of our previous discussions\, that’s OK! We’d love to have you. Email sdsaqueerandfeminist@gmail.com to get a copy of the reading. \nWe’ll meet over Zoom: https://zoom.us/j/932925026 or call (669) 900-6833\, meeting ID: 932 925 026#
URL:https://seattledsa.org/event/queer-and-feminist-reading-group-october-song/
LOCATION:Virtual: Zoom: https://zoom.us/j/932925026 or call (669) 900-6833\, meeting ID: 932 925 026#
CATEGORIES:Reading Groups
ATTACH;FMTTYPE=image/jpeg:https://seattledsa.org/wp-content/uploads/2020/04/October-Song.jpg
END:VEVENT
BEGIN:VEVENT
DTSTART;TZID=America/Los_Angeles:20200318T183000
DTEND;TZID=America/Los_Angeles:20200318T200000
DTSTAMP:20230610T180332
CREATED:20200301T230927Z
LAST-MODIFIED:20200318T225308Z
UID:10005207-1584556200-1584561600@seattledsa.org
SUMMARY:Queer & Feminist Reading Group: October Song
DESCRIPTION:In addition to building movements in the streets and supporting workers in Seattle\, we want to study the history of movements across the world. Let’s learn from the comrades who came before us\, while building community in a supportive space! Today we’ll discuss Chapter 3 of Paul LeBlanc’s October Song\, an account of the Russian Revolution.\nEmail sdsaqueerandfeminist@gmail.com to get a copy of the reading.
URL:https://seattledsa.org/event/queer-feminist-reading-group-october-song-3/
LOCATION:Virtual: Zoom: https://zoom.us/j/932925026 or call (669) 900-6833\, meeting ID: 932 925 026#
CATEGORIES:Reading Groups
END:VEVENT
BEGIN:VEVENT
DTSTART;TZID=America/Los_Angeles:20200316T180000
DTEND;TZID=America/Los_Angeles:20200316T194500
DTSTAMP:20230610T180332
CREATED:20200301T230940Z
LAST-MODIFIED:20200315T194621Z
UID:10005210-1584381600-1584387900@seattledsa.org
SUMMARY:CANCELLED: Long Live the Nanny State! Childcare\, Bernie\, and Social Reproduction
DESCRIPTION:CANCELLED due to Covid 19 considerations. We will be scheduling a virtual Queer and Feminist Caucus meeting for this month – stay tuned and stay healthy! \nCome join the Queer and Feminist Caucus to discuss a socialist feminist vision of childcare\, Bernie’s free childcare platform\, and how existing programs have effected the lives of children and parents. Who cared for you when you were a kid? Are you a caregiver for a kid now? Why is childcare a feminist issue? What the hell is social reproduction? Come join us at Le’s Deli and Bakery to talk about a healthy start for our smallest comrades–newcomers welcome! Email sdsaqueerandfeminist@gmail.com to request childcare.
URL:https://seattledsa.org/event/long-live-the-nanny-state-childcare-bernie-and-social-reproduction/
LOCATION:Le’s Deli and Bakery\, 4219 S Othello St #105\, Seattle\, 98118
ATTACH;FMTTYPE=image/jpeg:https://seattledsa.org/wp-content/uploads/2020/03/revbabies.jpeg
GEO:47.5364491;-122.2800925
X-APPLE-STRUCTURED-LOCATION;VALUE=URI;X-ADDRESS=Le’s Deli and Bakery 4219 S Othello St #105 Seattle 98118;X-APPLE-RADIUS=500;X-TITLE=4219 S Othello St #105:geo:-122.2800925,47.5364491
END:VEVENT
BEGIN:VEVENT
DTSTART;TZID=America/Los_Angeles:20200304T183000
DTEND;TZID=America/Los_Angeles:20200304T200000
DTSTAMP:20230610T180332
CREATED:20200301T230911Z
LAST-MODIFIED:20200301T230911Z
UID:10005205-1583346600-1583352000@seattledsa.org
SUMMARY:Queer & Feminist Reading Group: October Song
DESCRIPTION:In addition to building movements in the streets and supporting workers in Seattle\, we want to study the history of movements across the world. Let’s learn from the comrades who came before us\, while building community in a supportive space! Today we’ll be discussing Chapter 2 of Paul LeBlanc’s October Song\, an account of the Russian Revolution.\nEmail sdsaqueerandfeminist@gmail.com to get a copy of the reading.
URL:https://seattledsa.org/event/queer-feminist-reading-group-october-song-2/
LOCATION:Espresso Vivace 532 Broadway E Seattle\, WA 98102\, 532 Broadway E\, Seattle\, 98102
CATEGORIES:Reading Groups
GEO:47.6237849;-122.3206273
X-APPLE-STRUCTURED-LOCATION;VALUE=URI;X-ADDRESS=Espresso Vivace 532 Broadway E Seattle WA 98102 532 Broadway E Seattle 98102;X-APPLE-RADIUS=500;X-TITLE=532 Broadway E:geo:-122.3206273,47.6237849
END:VEVENT
BEGIN:VEVENT
DTSTART;TZID=America/Los_Angeles:20191207T180000
DTEND;TZID=America/Los_Angeles:20191207T200000
DTSTAMP:20230610T180332
CREATED:20191124T183856Z
LAST-MODIFIED:20191124T183856Z
UID:10004936-1575741600-1575748800@seattledsa.org
SUMMARY:Socialist Bake Off: A Queer and Feminist Wintry Bonanza
DESCRIPTION:Bring your choux\, your sponge\, and your ciabatta — we’re having a Bake Off! Come keep the darkness away and talk revolutionary indigenous history with the Queer and Feminist caucus’ monthly social. Feel free to bring your best baked good for the judges\, or just bring yourself and you be the judge! In honor of the 50th anniversary of the Occupation of Alcatraz\, we’ll talk about LaNada War Jack and indigenous history and resistance. \nSaturday\, December 7 @ 6PM \n4200 S Othello St Seattle\, WA 98118 \n***Text 206 962 1352 for apartment access*** \nTransit:\nLink access: Othello Station\nBus access: 106\, 36\, 50
URL:https://seattledsa.org/event/socialist-bake-off-a-queer-and-feminist-wintry-bonanza/
LOCATION:4200 S Othello St\, 4200 S Othello St\, Seattle\, WA\, 98118\, United States
CATEGORIES:New Member Friendly,Socials
GEO:47.5377258;-122.2803812
X-APPLE-STRUCTURED-LOCATION;VALUE=URI;X-ADDRESS=4200 S Othello St 4200 S Othello St Seattle WA 98118 United States;X-APPLE-RADIUS=500;X-TITLE=4200 S Othello St:geo:-122.2803812,47.5377258
END:VEVENT
BEGIN:VEVENT
DTSTART;TZID=America/Los_Angeles:20191102T180000
DTEND;TZID=America/Los_Angeles:20191102T210000
DTSTAMP:20230610T180332
CREATED:20191023T235537Z
LAST-MODIFIED:20191023T235537Z
UID:10004888-1572717600-1572728400@seattledsa.org
SUMMARY:A Witchy Post-Halloween Queer and Feminist Spectacular
DESCRIPTION:Buffy\, Broomsticks\, and Brews: A Witchy Post-Halloween Queer and Feminist Spectacular \nCome on down to 4200 S Othello St Seattle\, WA 98118 to soothe your Halloween hangover with that episode of Buffy where they get possessed by Halloween costumes\, a dramatic reading from the socialist feminist classic Caliban and the Witch\, and a potluck dinner! 6PM\, costumes encouraged! \n***Text 206 962 1352 for apartment access*** \nTransit:\nLink access\, Othello Station\nBus access: 106\, 36\, 50
URL:https://seattledsa.org/event/a-witchy-post-halloween-queer-and-feminist-spectacular/
LOCATION:4200 S Othello St\, 4200 S Othello St\, Seattle\, WA\, 98118\, United States
CATEGORIES:General Membership Meeting,New Member Friendly
GEO:47.5377258;-122.2803812
X-APPLE-STRUCTURED-LOCATION;VALUE=URI;X-ADDRESS=4200 S Othello St 4200 S Othello St Seattle WA 98118 United States;X-APPLE-RADIUS=500;X-TITLE=4200 S Othello St:geo:-122.2803812,47.5377258
END:VEVENT
BEGIN:VEVENT
DTSTART;TZID=America/Los_Angeles:20191012T170000
DTEND;TZID=America/Los_Angeles:20191012T183000
DTSTAMP:20230610T180332
CREATED:20191008T011628Z
LAST-MODIFIED:20191012T151949Z
UID:10004022-1570899600-1570905000@seattledsa.org
SUMMARY:Queer and Feminist Meeting
DESCRIPTION:Move to Victrola Coffee on 15th Ave Capitol Hill. \nTactics\, baby! Join the Queer and Feminist Caucus for a discussion on what works when and why. Plus: reportback from the Rosie Jimenez Rally\, general plotting and scheming\, and taking the push for gender parity in our chapter to the next level! Newcomers welcome.
URL:https://seattledsa.org/event/queer-and-feminist-meeting/
LOCATION:Victrola Coffee (411 15th Ave E)\, 411 15th Ave E\, Seattle\, WA\, 98112\, United States
CATEGORIES:General Membership Meeting,New Member Friendly
GEO:47.6223738;-122.312808
X-APPLE-STRUCTURED-LOCATION;VALUE=URI;X-ADDRESS=Victrola Coffee (411 15th Ave E) 411 15th Ave E Seattle WA 98112 United States;X-APPLE-RADIUS=500;X-TITLE=411 15th Ave E:geo:-122.312808,47.6223738
END:VEVENT
BEGIN:VEVENT
DTSTART;TZID=America/Los_Angeles:20191003T170000
DTEND;TZID=America/Los_Angeles:20191003T190000
DTSTAMP:20230610T180332
CREATED:20190930T193927Z
LAST-MODIFIED:20190930T193927Z
UID:10004828-1570122000-1570129200@seattledsa.org
SUMMARY:Remember Rosie Jimenez: Rally for Reproductive Justice
DESCRIPTION:In 1977\, Rosie Jimenez\, a Latinx college student and single mother\, was the first known person to die after the Hyde Amendment banned federal funds from covering Medicaid abortions. This effectively cut millions of low-income people off from safe access to reproductive healthcare. She felt she had no choice but to seek out a cheap and dangerous procedure. Tragically\, the current assaults on reproductive justice mean that many people\, especially women of color\, will face a similar dilemma. \nWe will be meeting on the anniversary of Rosie’s death from an unsafe abortion. Join us in Westlake Park from 5 – 7PM on Thursday\, October 3rd\, to bring home the need for a strong movement that demands “Our bodies! Our choice!” regardless of race\, immigration status\, age\, or gender identification. \nThe Rosie Jimenez Day Rally is co-sponsored by Gender Justice League\, Radical Women\, Red Union\, Seattle Clinic Defense\, Seattle DSA Queer and Feminist Caucus\, and Sex Workers Outreach Project – Seattle. \nEndorsers: ANSWER Coalition\, Community & Labor Against Fascism\, Freedom Socialist Party\, Juan Bocanegra\, Organized Workers for Labor Solidarity\, Party for Socialism and Liberation\, Rosie’s Machinists 751\, Seattle Democratic Socialists of America\, Seattle Gay News\, Seattle Revolutionary Socialists\, Seattle Women’s Commission. \nHelp support this effort by DONATING at http://bit.ly/rosiejimenezdonate \nFor press inquiries\, accommodations\, comments\, questions\, or to add your organization’s endorsement\, please email rwseattle@mindspring.com or call 206-722-6057.
URL:https://seattledsa.org/event/remember-rosie-jimenez-rally-for-reproductive-justice/
LOCATION:Westlake Park\, 401 Pine St\, Seattle\, WA\, 98101\, United States
CATEGORIES:Activism,Community Events,New Member Friendly
ATTACH;FMTTYPE=image/jpeg:https://seattledsa.org/wp-content/uploads/2019/09/2ae4da07-1df8-477c-95c0-bc866dd8b212.jpg
GEO:47.6118256;-122.3369905
X-APPLE-STRUCTURED-LOCATION;VALUE=URI;X-ADDRESS=Westlake Park 401 Pine St Seattle WA 98101 United States;X-APPLE-RADIUS=500;X-TITLE=401 Pine St:geo:-122.3369905,47.6118256
END:VEVENT
BEGIN:VEVENT
DTSTART;TZID=America/Los_Angeles:20190427T150000
DTEND;TZID=America/Los_Angeles:20190427T170000
DTSTAMP:20230610T180332
CREATED:20190402T211057Z
LAST-MODIFIED:20190402T211057Z
UID:10004396-1556377200-1556384400@seattledsa.org
SUMMARY:Queer & Feminist Caucus Meeting
DESCRIPTION:Join us at for the next meeting of the Queer & Feminist Caucus. More info coming soon
URL:https://seattledsa.org/event/queer-feminist-caucus-meeting-3/
LOCATION:Douglass-Truth Library\, 2300 E Yesler Way\, Seattle\, WA\, 98122\, United States
CATEGORIES:General Membership Meeting
GEO:47.6019183;-122.3016502
X-APPLE-STRUCTURED-LOCATION;VALUE=URI;X-ADDRESS=Douglass-Truth Library 2300 E Yesler Way Seattle WA 98122 United States;X-APPLE-RADIUS=500;X-TITLE=2300 E Yesler Way:geo:-122.3016502,47.6019183
END:VEVENT
BEGIN:VEVENT
DTSTART;TZID=America/Los_Angeles:20190317T150000
DTEND;TZID=America/Los_Angeles:20190317T170000
DTSTAMP:20230610T180332
CREATED:20190310T022804Z
LAST-MODIFIED:20190310T022804Z
UID:10004352-1552834800-1552842000@seattledsa.org
SUMMARY:Queer & Feminist Caucus Meeting
DESCRIPTION:Join us at Cafe Red for the next meeting of the Queer & Feminist Caucus.  From the previous meeting\, we’ll be discussing Wages Against Housework by Silvia Federici\, “Sheri Dwight”\, a chapter from Inside this Place\, Not of It: Narratives from Women’s Prisons\, and Bloodchild by Octavia Butler. \n  \n 
URL:https://seattledsa.org/event/queer-feminist-caucus-meeting-2/
LOCATION:Cafe Red\, 7148 Martin Luther King Jr Way S\, Seattle\, WA\, 98118\, United States
CATEGORIES:General Membership Meeting
GEO:47.5374953;-122.2809353
X-APPLE-STRUCTURED-LOCATION;VALUE=URI;X-ADDRESS=Cafe Red 7148 Martin Luther King Jr Way S Seattle WA 98118 United States;X-APPLE-RADIUS=500;X-TITLE=7148 Martin Luther King Jr Way S:geo:-122.2809353,47.5374953
END:VEVENT
BEGIN:VEVENT
DTSTART;TZID=America/Los_Angeles:20190217T130000
DTEND;TZID=America/Los_Angeles:20190217T150000
DTSTAMP:20230610T180332
CREATED:20190202T191806Z
LAST-MODIFIED:20190215T171454Z
UID:10003637-1550408400-1550415600@seattledsa.org
SUMMARY:Queer and Feminist Caucus Meeting
DESCRIPTION:Join us at the Queer and Feminist Caucus meeting–come with ideas about what we can read together (articles! books! even movies!) and what actions we can take to fight patriarchy and capitalism in Seattle and beyond. If you prefer to hang back and listen\, or just want to meet people and chat about how these issues effect your life\, we’d love to see you! Newcomers welcome.
URL:https://seattledsa.org/event/queer-and-feminist-caucus-meeting/
LOCATION:Douglass-Truth Library\, 2300 E Yesler Way\, Seattle\, WA 98122\, USA\, 2300 E Yesler Way\, Seattle\, WA\, 98122\, United States
GEO:47.6019184;-122.3016502
X-APPLE-STRUCTURED-LOCATION;VALUE=URI;X-ADDRESS=Douglass-Truth Library 2300 E Yesler Way Seattle WA 98122 USA 2300 E Yesler Way Seattle WA 98122 United States;X-APPLE-RADIUS=500;X-TITLE=2300 E Yesler Way:geo:-122.3016502,47.6019184
END:VEVENT
BEGIN:VEVENT
DTSTART;TZID=America/Los_Angeles:20190126T150000
DTEND;TZID=America/Los_Angeles:20190126T163000
DTSTAMP:20230610T180332
CREATED:20190113T014107Z
LAST-MODIFIED:20190117T153506Z
UID:10004308-1548514800-1548520200@seattledsa.org
SUMMARY:Queer & Feminist Caucus Meeting
DESCRIPTION:What is Socialist Feminism in the 21st century?\nLet’s get together and talk about what Socialist Feminism can look like in the 21st century\, what we want this caucus to be in 2019\, and maybe get our reading group revved up again! \n  \n 
URL:https://seattledsa.org/event/queer-feminist-caucus-meeting/
LOCATION:Cafe Red\, 7148 Martin Luther King Jr Way S\, Seattle\, WA\, 98118\, United States
GEO:47.5374953;-122.2809353
X-APPLE-STRUCTURED-LOCATION;VALUE=URI;X-ADDRESS=Cafe Red 7148 Martin Luther King Jr Way S Seattle WA 98118 United States;X-APPLE-RADIUS=500;X-TITLE=7148 Martin Luther King Jr Way S:geo:-122.2809353,47.5374953
END:VEVENT
BEGIN:VEVENT
DTSTART;TZID=America/Los_Angeles:20181028T193000
DTEND;TZID=America/Los_Angeles:20181028T220000
DTSTAMP:20230610T180332
CREATED:20181024T160024Z
LAST-MODIFIED:20181026T165215Z
UID:10003602-1540755000-1540764000@seattledsa.org
SUMMARY:SDSA Queer & Feminist Caucus presents: How to Survive a Plague
DESCRIPTION:Seattle DSA is proud to present a screening of How to Survive A Plague in partnership with the Northwest Film Forum this Sunday\, October 28th at 7:30pm! This film is being screened 2 months earlier than anticipated in part due to the brutal and cruel attacks that our non-binary friends are facing from the White House and DOJ. Government sanctioned attacks on some of the most marginalized members of our community are nothing new\, as highlighted in the film. We hope to provide some solidarity to the trans and queer community\, and a glimpse into how the AIDS community organized and fought back. We look forward to seeing you there! \nTickets will be $12 and donations are encouraged; we are currently seeking to partner with a local gender and/or queer rights/justice oriented organization for the proceeds to go to\, and to co-host if there is interest. \nIn the dark days of 1987\, America was six years into the AIDS epidemic\, a crisis that was still largely being ignored both by government officials and health organizations — until the sudden emergence of the activist group ACT UP in Greenwich Village\, New York\, largely made up of HIV-positive participants who refused to die without a fight. Along with TAG (Treatment Action Group)\, and emboldened by the power of rebellion\, they took on the challenges that public officials had ignored\, raising awareness of the disease through a series of dramatic protests. More remarkably\, they became recognized experts in virology\, biology\, and pharmaceutical chemistry. How to Survive a Plague is a 2012 American documentary that follows these activists and organizers in the face of enormous obstacles and government-sponsored genocide.
URL:https://seattledsa.org/event/sdsa-queen-feminist-caucus-presents-how-to-survive-a-plague/
LOCATION:Northwest Film Forum\, 1515 12th Ave\, Seattle\, WA\, 98122\, United States
ATTACH;FMTTYPE=image/jpeg:https://seattledsa.org/wp-content/uploads/2018/10/film_thing.jpg
GEO:47.6144223;-122.3171791
X-APPLE-STRUCTURED-LOCATION;VALUE=URI;X-ADDRESS=Northwest Film Forum 1515 12th Ave Seattle WA 98122 United States;X-APPLE-RADIUS=500;X-TITLE=1515 12th Ave:geo:-122.3171791,47.6144223
END:VEVENT
BEGIN:VEVENT
DTSTART;TZID=America/Los_Angeles:20180429T140000
DTEND;TZID=America/Los_Angeles:20180429T163000
DTSTAMP:20230610T180332
CREATED:20180319T041331Z
LAST-MODIFIED:20180420T170145Z
UID:10004030-1525010400-1525019400@seattledsa.org
SUMMARY:Queer & Feminist Book Club ?
DESCRIPTION:The Dispossessed by: Ursula Le Guin\n— Hosted by Seattle DSA’s Queer & Feminist Caucus — \nWe’re taking a break from non-fiction to explore Ursula Le Guin’s The Dispossessed.\nRead Chapters 8-end before this discussion on part 2. \nYou do not have to be a Seattle DSA member to join this discussion– all are welcome! \n*We do not tolerate harassment and invite people of all genders/races/classes to join the discussion\n*We observe Progressive Stack discussion principles in our meetings. \nCOST: FREE \nACCESSIBILITY:\nDouglass-Truth Library meeting room is located on the first floor. There are steps leading up to the library building as well as a ramp on the east side of the building.\nThe library permits finger foods and non-alcoholic beverages in meeting rooms. \nTRANSIT:\nLibrary is located on Bus Routes 4/ 48 along 23rd avenue and 8/27 along Yesler Way. \n**If you need help getting to this event\, please message Seattle DSA privately and we will find a way to help.**
URL:https://seattledsa.org/event/queer-feminist-book-club-%f0%9f%8c%b9/
LOCATION:Douglass-Truth Branch – Seattle Public Library\, 2300 E Yesler Way\, Seattle\, WA\, United States
CATEGORIES:Reading Groups
GEO:47.6019092;-122.3017313
X-APPLE-STRUCTURED-LOCATION;VALUE=URI;X-ADDRESS=Douglass-Truth Branch – Seattle Public Library 2300 E Yesler Way Seattle WA United States;X-APPLE-RADIUS=500;X-TITLE=2300 E Yesler Way:geo:-122.3017313,47.6019092
END:VEVENT
BEGIN:VEVENT
DTSTART;TZID=America/Los_Angeles:20180416T190000
DTEND;TZID=America/Los_Angeles:20180416T203000
DTSTAMP:20230610T180332
CREATED:20180410T211933Z
LAST-MODIFIED:20180410T211933Z
UID:10003520-1523905200-1523910600@seattledsa.org
SUMMARY:Queer & Feminist Caucus Meeting
DESCRIPTION:Join Seattle DSA’s Queer & Feminist Caucus for our monthly meeting! Discuss upcoming projects and events such as the Northwest Abortion Access Fund Triviathon\, May Day\, and future reading groups. \nMeeting will be at a member’s home. Email sdsasocfem@gmail.com for location & accessibility information!
URL:https://seattledsa.org/event/qfc-meeting-april/
END:VEVENT
BEGIN:VEVENT
DTSTART;TZID=America/Los_Angeles:20180325T143000
DTEND;TZID=America/Los_Angeles:20180325T163000
DTSTAMP:20230610T180332
CREATED:20180220T071843Z
LAST-MODIFIED:20180325T155714Z
UID:10004001-1521988200-1521995400@seattledsa.org
SUMMARY:Queer & Feminist Book Club ?
DESCRIPTION:The Dispossessed by: Ursula Le Guin\n— Hosted by Seattle DSA’s Queer & Feminist Caucus — \nWe’re taking a break from non-fiction to explore Ursula Le Guin’s The Dispossessed.\nRead Chapters 1-7 before this discussion on part 1. \nYou do not have to be a Seattle DSA member to join this discussion– all are welcome! \n*We do not tolerate harassment and invite people of all genders/races/classes to join the discussion\n*We observe Progressive Stack discussion principles in our meetings. \nCOST: FREE \nACCESSIBILITY:\nBeacon Hill Library meeting room is located on the first floor\, with no stairs.\nRestrooms are located on first floor\, near entrance\, and include wheelchair-accessible stalls in women/men gendered bathrooms.\nThe library permits finger foods and non-alcoholic beverages in meeting rooms. \nTRANSIT:\nLibrary is located 2 blocks south of Beacon Hill Light Rail Station (which has an elevator or stairs to bring you up from underground train platform).\nBUS 36 stops 2 blocks north or 1.5 blocks south of Beacon Hill Library on Beacon Ave. \n**If you need help getting to this event\, please message Seattle DSA privately and we will find a way to help.**
URL:https://seattledsa.org/event/queer-feminist-book-club/
LOCATION:Beacon Hill Branch – Seattle Public Library\, 2821 Beacon Ave S\, Seattle\, WA\, 98144\, United States
CATEGORIES:Reading Groups
GEO:47.5779493;-122.311379
X-APPLE-STRUCTURED-LOCATION;VALUE=URI;X-ADDRESS=Beacon Hill Branch – Seattle Public Library 2821 Beacon Ave S Seattle WA 98144 United States;X-APPLE-RADIUS=500;X-TITLE=2821 Beacon Ave S:geo:-122.311379,47.5779493
END:VEVENT
END:VCALENDAR