BEGIN:VCALENDAR
VERSION:2.0
PRODID:-//Seattle Democratic Socialists of America - ECPv6.0.13.1//NONSGML v1.0//EN
CALSCALE:GREGORIAN
METHOD:PUBLISH
X-WR-CALNAME:Seattle Democratic Socialists of America
X-ORIGINAL-URL:https://seattledsa.org
X-WR-CALDESC:Events for Seattle Democratic Socialists of America
REFRESH-INTERVAL;VALUE=DURATION:PT1H
X-Robots-Tag:noindex
X-PUBLISHED-TTL:PT1H
BEGIN:VTIMEZONE
TZID:America/Los_Angeles
BEGIN:DAYLIGHT
TZOFFSETFROM:-0800
TZOFFSETTO:-0700
TZNAME:PDT
DTSTART:20190310T100000
END:DAYLIGHT
BEGIN:STANDARD
TZOFFSETFROM:-0700
TZOFFSETTO:-0800
TZNAME:PST
DTSTART:20191103T090000
END:STANDARD
END:VTIMEZONE
BEGIN:VEVENT
DTSTART;TZID=America/Los_Angeles:20191110T130000
DTEND;TZID=America/Los_Angeles:20191110T150000
DTSTAMP:20230610T182746
CREATED:20191022T033013Z
LAST-MODIFIED:20191107T023055Z
UID:10004882-1573390800-1573398000@seattledsa.org
SUMMARY:Green New Deal and Ecosocialism Meeting
DESCRIPTION:We envision a fair and effective Green New Deal to halt climate change and win environmental justice. In the short term\, Seattle DSA’s Green New Deal Committee is developing a campaign to win Free Transit for All county-wide. Join us and the Ecosocialism Caucus\, which will be offering a reading group later this fall. (Reading list at https://seattledsa.org/ecosocialism/) Questions? Ask GreenNewDeal@seattledsa.org. \nFrequent Metro Bus #120 goes right there!
URL:https://seattledsa.org/event/green-new-deal-committee-and-ecosocialism-caucus-meeting-2/
LOCATION:Delridge Branch – Seattle Public Library\, 5423 Delridge Way SW\, Seattle\, WA\, 98106
CATEGORIES:General Membership Meeting,New Member Friendly
GEO:47.5530508;-122.3633538
X-APPLE-STRUCTURED-LOCATION;VALUE=URI;X-ADDRESS=Delridge Branch – Seattle Public Library 5423 Delridge Way SW Seattle WA 98106;X-APPLE-RADIUS=500;X-TITLE=5423 Delridge Way SW:geo:-122.3633538,47.5530508
END:VEVENT
BEGIN:VEVENT
DTSTART;TZID=America/Los_Angeles:20191027T130000
DTEND;TZID=America/Los_Angeles:20191027T150000
DTSTAMP:20230610T182746
CREATED:20191018T041353Z
LAST-MODIFIED:20191022T033600Z
UID:10004858-1572181200-1572188400@seattledsa.org
SUMMARY:Green New Deal and Ecosocialism Meeting
DESCRIPTION:Let’s sharpen our thinking and build a powerful movement to halt climate change and win environmental justice. Join us at the Coworking Space at Ada’s Technical Books and Cafe.
URL:https://seattledsa.org/event/green-new-deal-committee-and-ecosocialism-caucus-meeting/
LOCATION:Ada’s Books and Cafe Coworking Space\, 425 15th Ave E\, Seattle\, WA\, United States
CATEGORIES:General Membership Meeting,New Member Friendly
GEO:47.622678;-122.3129877
X-APPLE-STRUCTURED-LOCATION;VALUE=URI;X-ADDRESS=Ada’s Books and Cafe Coworking Space 425 15th Ave E Seattle WA United States;X-APPLE-RADIUS=500;X-TITLE=425 15th Ave E:geo:-122.3129877,47.622678
END:VEVENT
BEGIN:VEVENT
DTSTART;TZID=America/Los_Angeles:20191013T130000
DTEND;TZID=America/Los_Angeles:20191013T150000
DTSTAMP:20230610T182746
CREATED:20190920T004552Z
LAST-MODIFIED:20191001T002806Z
UID:10004802-1570971600-1570978800@seattledsa.org
SUMMARY:Green New Deal Committee and Ecosocialism Caucus Meeting 🌹
DESCRIPTION:NOTE NEW MEETING LOCATION. Let’s sharpen our thinking and build a powerful movement to halt climate change and win environmental justice. Join us in the back room.  GreenNewDeal@seattledsa.org
URL:https://seattledsa.org/event/green-new-deal-committee-and-ecosocialism-caucus-meeting-%f0%9f%8c%b9/
LOCATION:Victrola Coffee & Art\, 411 15th Ave E\, Seattle\, WA\, 98112\, United States
CATEGORIES:General Membership Meeting
GEO:47.6223738;-122.312808
X-APPLE-STRUCTURED-LOCATION;VALUE=URI;X-ADDRESS=Victrola Coffee & Art 411 15th Ave E Seattle WA 98112 United States;X-APPLE-RADIUS=500;X-TITLE=411 15th Ave E:geo:-122.312808,47.6223738
END:VEVENT
BEGIN:VEVENT
DTSTART;TZID=America/Los_Angeles:20190929T130000
DTEND;TZID=America/Los_Angeles:20190929T150000
DTSTAMP:20230610T182746
CREATED:20190817T185034Z
LAST-MODIFIED:20190911T232615Z
UID:10004732-1569762000-1569769200@seattledsa.org
SUMMARY:Green New Deal Committee and Ecosocialism Caucus Meeting 🌹
DESCRIPTION:Let’s sharpen our thinking and build a powerful movement to halt climate change and win environmental justice. Join us.
URL:https://seattledsa.org/event/sdsa-ecosocialist-caucus-meeting-%f0%9f%8c%b9-6/
LOCATION:Capitol Hill Branch Library\, 425 Harvard Ave E\, Seattle\, WA\, 98102\, United States
CATEGORIES:General Membership Meeting
ORGANIZER;CN="SDSA%20Ecosocialism%20Caucus":MAILTO:info@seattledsa.org
GEO:47.6229294;-122.3223185
X-APPLE-STRUCTURED-LOCATION;VALUE=URI;X-ADDRESS=Capitol Hill Branch Library 425 Harvard Ave E Seattle WA 98102 United States;X-APPLE-RADIUS=500;X-TITLE=425 Harvard Ave E:geo:-122.3223185,47.6229294
END:VEVENT
BEGIN:VEVENT
DTSTART;TZID=America/Los_Angeles:20190915T150000
DTEND;TZID=America/Los_Angeles:20190915T163000
DTSTAMP:20230610T182746
CREATED:20190913T053500Z
LAST-MODIFIED:20190913T053500Z
UID:10004792-1568559600-1568565000@seattledsa.org
SUMMARY:Climate Strike Art Party
DESCRIPTION:Join the Green New Deal committee in making signs and hatching other creative contributions to the September 20 climate strike.
URL:https://seattledsa.org/event/climate-strike-art-party/
LOCATION:Delridge Branch – Seattle Public Library\, 5423 Delridge Way SW\, Seattle\, WA\, 98106
GEO:47.5530508;-122.3633538
X-APPLE-STRUCTURED-LOCATION;VALUE=URI;X-ADDRESS=Delridge Branch – Seattle Public Library 5423 Delridge Way SW Seattle WA 98106;X-APPLE-RADIUS=500;X-TITLE=5423 Delridge Way SW:geo:-122.3633538,47.5530508
END:VEVENT
BEGIN:VEVENT
DTSTART;TZID=America/Los_Angeles:20190915T130000
DTEND;TZID=America/Los_Angeles:20190915T150000
DTSTAMP:20230610T182746
CREATED:20190817T184543Z
LAST-MODIFIED:20190913T052630Z
UID:10004729-1568552400-1568559600@seattledsa.org
SUMMARY:Green New Deal Committee and Ecosocialism Caucus Meeting 🌹
DESCRIPTION:We now have two related outlets for your ecosocialist energy! The Green New Deal committee will pursue external campaigns that advance the socialist movement and win a just Green New Deal. The Ecosocialism Caucus will continue to sharpen our thinking\, pursue internal education and possibly incubate new external campaigns. For now we are meeting together. Join us!
URL:https://seattledsa.org/event/sdsa-ecosocialist-caucus-meeting-%f0%9f%8c%b9-5/
LOCATION:Delridge Branch – Seattle Public Library\, 5423 Delridge Way SW\, Seattle\, WA\, 98106
CATEGORIES:General Membership Meeting
ORGANIZER;CN="SDSA%20Ecosocialism%20Caucus":MAILTO:info@seattledsa.org
GEO:47.5530508;-122.3633538
X-APPLE-STRUCTURED-LOCATION;VALUE=URI;X-ADDRESS=Delridge Branch – Seattle Public Library 5423 Delridge Way SW Seattle WA 98106;X-APPLE-RADIUS=500;X-TITLE=5423 Delridge Way SW:geo:-122.3633538,47.5530508
END:VEVENT
BEGIN:VEVENT
DTSTART;TZID=America/Los_Angeles:20190901T130000
DTEND;TZID=America/Los_Angeles:20190901T153000
DTSTAMP:20230610T182746
CREATED:20190709T232203Z
LAST-MODIFIED:20190830T003824Z
UID:10004610-1567342800-1567351800@seattledsa.org
SUMMARY:SDSA Ecosocialism Caucus and Inaugural Green New Deal Committee Meeting
DESCRIPTION:We now have two related outlets for your eco-socialist energy! We have formed an External Organizing Subcommittee\, known as the GND Committee for short. This committee will pursue external campaigns that advance the socialist movement and win a just Green New Deal. The Ecosocialism Caucus will continue to  pursue educational efforts to sharpen our thinking and to incubate future educational activities and possibly external campaigns. At this joint meeting of the two groups\, we will talk about establishing the bests ways for the groups to interact\, including consideration of separate meeting times. Join us and/or send any feedback to info@seattledsa.org (or preferably #eo_Green_New_Deal if you are on our chapter workspace).
URL:https://seattledsa.org/event/sdsa-ecosocialist-caucus-meeting-%f0%9f%8c%b9-4/
LOCATION:Capitol Hill Branch Library\, 425 Harvard Ave E\, Seattle\, WA\, 98102\, United States
CATEGORIES:General Membership Meeting,New Member Friendly
ORGANIZER;CN="SDSA%20Ecosocialism%20Caucus":MAILTO:info@seattledsa.org
GEO:47.6229294;-122.3223185
X-APPLE-STRUCTURED-LOCATION;VALUE=URI;X-ADDRESS=Capitol Hill Branch Library 425 Harvard Ave E Seattle WA 98102 United States;X-APPLE-RADIUS=500;X-TITLE=425 Harvard Ave E:geo:-122.3223185,47.6229294
END:VEVENT
BEGIN:VEVENT
DTSTART;TZID=America/Los_Angeles:20190818T130000
DTEND;TZID=America/Los_Angeles:20190818T153000
DTSTAMP:20230610T182746
CREATED:20190709T231629Z
LAST-MODIFIED:20190709T232720Z
UID:10004598-1566133200-1566142200@seattledsa.org
SUMMARY:SDSA Ecosocialist Caucus Meeting 🌹
DESCRIPTION:Let’s sharpen our thinking and build a powerful movement to halt climate change and win environmental justice. Join us.
URL:https://seattledsa.org/event/sdsa-ecosocialist-caucus-meeting-%f0%9f%8c%b9-3/
LOCATION:Beacon Hill Branch – Seattle Public Library\, 2821 Beacon Ave S\, Seattle\, WA\, 98144\, United States
CATEGORIES:General Membership Meeting
ORGANIZER;CN="SDSA%20Ecosocialism%20Caucus":MAILTO:info@seattledsa.org
GEO:47.5779493;-122.311379
X-APPLE-STRUCTURED-LOCATION;VALUE=URI;X-ADDRESS=Beacon Hill Branch – Seattle Public Library 2821 Beacon Ave S Seattle WA 98144 United States;X-APPLE-RADIUS=500;X-TITLE=2821 Beacon Ave S:geo:-122.311379,47.5779493
END:VEVENT
BEGIN:VEVENT
DTSTART;TZID=America/Los_Angeles:20190804T130000
DTEND;TZID=America/Los_Angeles:20190804T153000
DTSTAMP:20230610T182746
CREATED:20190709T230508Z
LAST-MODIFIED:20190709T232508Z
UID:10004597-1564923600-1564932600@seattledsa.org
SUMMARY:SDSA Ecosocialist Caucus Meeting 🌹
DESCRIPTION:Let’s sharpen our thinking and build a powerful movement to halt climate change and win environmental justice. Join us.
URL:https://seattledsa.org/event/sdsa-ecosocialist-caucus-meeting-%f0%9f%8c%b9-2/
LOCATION:Capitol Hill Branch Library\, 425 Harvard Ave E\, Seattle\, WA\, 98102\, United States
CATEGORIES:Activism,General Membership Meeting
ORGANIZER;CN="SDSA%20Ecosocialism%20Caucus":MAILTO:info@seattledsa.org
GEO:47.6229294;-122.3223185
X-APPLE-STRUCTURED-LOCATION;VALUE=URI;X-ADDRESS=Capitol Hill Branch Library 425 Harvard Ave E Seattle WA 98102 United States;X-APPLE-RADIUS=500;X-TITLE=425 Harvard Ave E:geo:-122.3223185,47.6229294
END:VEVENT
BEGIN:VEVENT
DTSTART;TZID=America/Los_Angeles:20190721T130000
DTEND;TZID=America/Los_Angeles:20190721T150000
DTSTAMP:20230610T182746
CREATED:20190601T013119Z
LAST-MODIFIED:20190612T153228Z
UID:10004481-1563714000-1563721200@seattledsa.org
SUMMARY:SDSA Ecosocialist Caucus Meeting
DESCRIPTION:Let’s sharpen our thinking and pursue a powerful movement to halt climate change and win environmental justice. Join us.
URL:https://seattledsa.org/event/sdsa-ecosocialist-caucus-meeting-6/
LOCATION:Capitol Hill Branch Library\, 425 Harvard Ave E\, Seattle\, WA\, 98102\, United States
CATEGORIES:General Membership Meeting,New Member Friendly
ORGANIZER;CN="SDSA%20Ecosocialism%20Caucus":MAILTO:info@seattledsa.org
GEO:47.6229294;-122.3223185
X-APPLE-STRUCTURED-LOCATION;VALUE=URI;X-ADDRESS=Capitol Hill Branch Library 425 Harvard Ave E Seattle WA 98102 United States;X-APPLE-RADIUS=500;X-TITLE=425 Harvard Ave E:geo:-122.3223185,47.6229294
END:VEVENT
BEGIN:VEVENT
DTSTART;TZID=America/Los_Angeles:20190707T130000
DTEND;TZID=America/Los_Angeles:20190707T150000
DTSTAMP:20230610T182746
CREATED:20190516T195939Z
LAST-MODIFIED:20190612T153203Z
UID:10003701-1562504400-1562511600@seattledsa.org
SUMMARY:SDSA Ecosocialist Caucus Meeting
DESCRIPTION:Let’s sharpen our thinking and act in pursuit of a powerful movement to halt climate change and win environmental justice. Join us.
URL:https://seattledsa.org/event/sdsa-ecosocialist-caucus-meeting-5/
LOCATION:Beacon Hill Branch – Seattle Public Library\, 2821 Beacon Ave S\, Seattle\, WA\, 98144\, United States
CATEGORIES:General Membership Meeting,New Member Friendly
ORGANIZER;CN="SDSA%20Ecosocialism%20Caucus":MAILTO:info@seattledsa.org
GEO:47.5779493;-122.311379
X-APPLE-STRUCTURED-LOCATION;VALUE=URI;X-ADDRESS=Beacon Hill Branch – Seattle Public Library 2821 Beacon Ave S Seattle WA 98144 United States;X-APPLE-RADIUS=500;X-TITLE=2821 Beacon Ave S:geo:-122.311379,47.5779493
END:VEVENT
BEGIN:VEVENT
DTSTART;TZID=America/Los_Angeles:20190623T130000
DTEND;TZID=America/Los_Angeles:20190623T150000
DTSTAMP:20230610T182746
CREATED:20190516T195332Z
LAST-MODIFIED:20190612T150815Z
UID:10003699-1561294800-1561302000@seattledsa.org
SUMMARY:SDSA Ecosocialist Caucus Meeting
DESCRIPTION:Let’s sharpen our thinking and act in pursuit of a powerful movement to halt climate change and win environmental justice. Join us.
URL:https://seattledsa.org/event/sdsa-ecosocialist-caucus-meeting-4/
LOCATION:Columbia Branch – Seattle Public Library\, 4721 Rainier Ave S\, Seattle\, 98118\, United States
CATEGORIES:General Membership Meeting,New Member Friendly
ORGANIZER;CN="SDSA%20Ecosocialism%20Caucus":MAILTO:info@seattledsa.org
GEO:47.5599019;-122.2870631
X-APPLE-STRUCTURED-LOCATION;VALUE=URI;X-ADDRESS=Columbia Branch – Seattle Public Library 4721 Rainier Ave S Seattle 98118 United States;X-APPLE-RADIUS=500;X-TITLE=4721 Rainier Ave S:geo:-122.2870631,47.5599019
END:VEVENT
BEGIN:VEVENT
DTSTART;TZID=America/Los_Angeles:20190609T130000
DTEND;TZID=America/Los_Angeles:20190609T150000
DTSTAMP:20230610T182746
CREATED:20190516T194640Z
LAST-MODIFIED:20190614T222423Z
UID:10003698-1560085200-1560092400@seattledsa.org
SUMMARY:SDSA Ecosocialist Caucus Meeting
DESCRIPTION:Let’s sharpen our thinking and act toward a powerful movement to halt climate change and win environmental justice. Join us.
URL:https://seattledsa.org/event/sdsa-ecosocialist-caucus-meeting-3/
LOCATION:Capitol Hill Branch Library\, 425 Harvard Ave E\, Seattle\, WA\, 98102\, United States
CATEGORIES:General Membership Meeting
ORGANIZER;CN="SDSA%20Ecosocialism%20Caucus":MAILTO:info@seattledsa.org
GEO:47.6229294;-122.3223185
X-APPLE-STRUCTURED-LOCATION;VALUE=URI;X-ADDRESS=Capitol Hill Branch Library 425 Harvard Ave E Seattle WA 98102 United States;X-APPLE-RADIUS=500;X-TITLE=425 Harvard Ave E:geo:-122.3223185,47.6229294
END:VEVENT
BEGIN:VEVENT
DTSTART;TZID=America/Los_Angeles:20190526T130000
DTEND;TZID=America/Los_Angeles:20190526T150000
DTSTAMP:20230610T182746
CREATED:20190516T153120Z
LAST-MODIFIED:20190614T222435Z
UID:10003696-1558875600-1558882800@seattledsa.org
SUMMARY:SDSA Ecosocialist Caucus Meeting
DESCRIPTION:Let’s sharpen our thinking and act toward a powerful movement to halt climate change and win environmental justice. Join us.
URL:https://seattledsa.org/event/sdsa-ecosocialist-caucus-meeting-2-2/
LOCATION:Delridge Branch – Seattle Public Library\, 5423 Delridge Way SW\, Seattle\, WA\, 98106
CATEGORIES:General Membership Meeting
ORGANIZER;CN="SDSA%20Ecosocialism%20Caucus":MAILTO:info@seattledsa.org
GEO:47.5530508;-122.3633538
X-APPLE-STRUCTURED-LOCATION;VALUE=URI;X-ADDRESS=Delridge Branch – Seattle Public Library 5423 Delridge Way SW Seattle WA 98106;X-APPLE-RADIUS=500;X-TITLE=5423 Delridge Way SW:geo:-122.3633538,47.5530508
END:VEVENT
BEGIN:VEVENT
DTSTART;TZID=America/Los_Angeles:20190522T190000
DTEND;TZID=America/Los_Angeles:20190522T204500
DTSTAMP:20230610T182746
CREATED:20190516T150307Z
LAST-MODIFIED:20190519T225557Z
UID:10003694-1558551600-1558557900@seattledsa.org
SUMMARY:Green New Future...Let's Win It
DESCRIPTION:Red May forum “A Green New Future…and How to Win It” was initiated by System Change not Climate Change\, and will feature three additional socialist organizations including the Seattle DSA Ecosocialist Caucus. Content warning: it might involve seizing the means of production.\nRoom 310 \n(Check out SCNCC systemchangenotclimatechange.org)
URL:https://seattledsa.org/event/green-new-future-lets-win-it/
LOCATION:El Centro De La Raza\, 2524 16th Ave S\, Seattle\, WA 98144\, USA
CATEGORIES:General Membership Meeting
ORGANIZER;CN="SDSA%20Ecosocialism%20Caucus":MAILTO:info@seattledsa.org
END:VEVENT
BEGIN:VEVENT
DTSTART;TZID=America/Los_Angeles:20190428T130000
DTEND;TZID=America/Los_Angeles:20190428T150000
DTSTAMP:20230610T182746
CREATED:20190313T183531Z
LAST-MODIFIED:20190614T222635Z
UID:10003664-1556456400-1556463600@seattledsa.org
SUMMARY:SDSA Ecosocialist Caucus Meeting
DESCRIPTION:Let’s sharpen our thinking and actions toward a powerful movement to halt climate change and win environmental justice.
URL:https://seattledsa.org/event/sdsa-ecosocialist-caucus-meeting/
LOCATION:Delridge Branch – Seattle Public Library\, 5423 Delridge Way SW\, Seattle\, WA\, 98106
CATEGORIES:General Membership Meeting
ORGANIZER;CN="SDSA%20Ecosocialism%20Caucus":MAILTO:info@seattledsa.org
GEO:47.5530508;-122.3633538
X-APPLE-STRUCTURED-LOCATION;VALUE=URI;X-ADDRESS=Delridge Branch – Seattle Public Library 5423 Delridge Way SW Seattle WA 98106;X-APPLE-RADIUS=500;X-TITLE=5423 Delridge Way SW:geo:-122.3633538,47.5530508
END:VEVENT
BEGIN:VEVENT
DTSTART;TZID=America/Los_Angeles:20190414T130000
DTEND;TZID=America/Los_Angeles:20190414T150000
DTSTAMP:20230610T182746
CREATED:20190313T184015Z
LAST-MODIFIED:20190313T184015Z
UID:10003663-1555246800-1555254000@seattledsa.org
SUMMARY:SDSA Ecosocialist Caucus Meeting
DESCRIPTION:Join us for a series of biweekly meetings where we sharpen our thinking and actions toward a powerful movement to halt climate change and win environmental justice.
URL:https://seattledsa.org/event/sdsa-ecosocialist-caucus-meeting-2/
LOCATION:Beacon Hill Branch – Seattle Public Library\, 2821 Beacon Ave S\, Seattle\, WA\, 98144\, United States
CATEGORIES:General Membership Meeting
ORGANIZER;CN="SDSA%20Ecosocialism%20Caucus":MAILTO:info@seattledsa.org
GEO:47.5779493;-122.311379
X-APPLE-STRUCTURED-LOCATION;VALUE=URI;X-ADDRESS=Beacon Hill Branch – Seattle Public Library 2821 Beacon Ave S Seattle WA 98144 United States;X-APPLE-RADIUS=500;X-TITLE=2821 Beacon Ave S:geo:-122.311379,47.5779493
END:VEVENT
BEGIN:VEVENT
DTSTART;TZID=America/Los_Angeles:20190331T150000
DTEND;TZID=America/Los_Angeles:20190331T163000
DTSTAMP:20230610T182746
CREATED:20190313T182807Z
LAST-MODIFIED:20190313T184734Z
UID:10003661-1554044400-1554049800@seattledsa.org
SUMMARY:SDSA Ecosocialist Caucus Meeting
DESCRIPTION:Join us for a series of biweekly meetings where we sharpen our thinking and actions toward a powerful movement to halt climate change and win environmental justice.
URL:https://seattledsa.org/event/ecosocialist-caucus-meeting-13/
LOCATION:Delridge Branch – Seattle Public Library\, 5423 Delridge Way SW\, Seattle\, WA\, 98106
CATEGORIES:General Membership Meeting
ORGANIZER;CN="SDSA%20Ecosocialism%20Caucus":MAILTO:info@seattledsa.org
GEO:47.5530508;-122.3633538
X-APPLE-STRUCTURED-LOCATION;VALUE=URI;X-ADDRESS=Delridge Branch – Seattle Public Library 5423 Delridge Way SW Seattle WA 98106;X-APPLE-RADIUS=500;X-TITLE=5423 Delridge Way SW:geo:-122.3633538,47.5530508
END:VEVENT
BEGIN:VEVENT
DTSTART;TZID=America/Los_Angeles:20190317T130000
DTEND;TZID=America/Los_Angeles:20190317T150000
DTSTAMP:20230610T182746
CREATED:20190313T182136Z
LAST-MODIFIED:20190313T184331Z
UID:10003659-1552827600-1552834800@seattledsa.org
SUMMARY:SDSA Ecosocialist Caucus Meeting
DESCRIPTION:Join us for a series of biweekly meetings where we sharpen our thinking and actions toward a powerful movement to halt climate change and win environmental justice.
URL:https://seattledsa.org/event/ecosocialist-caucus-meeting-12/
LOCATION:Southwest Library Branch\, 9010 35th Ave SW\, Seattle\, WA\, 98126\, United States
CATEGORIES:General Membership Meeting
ORGANIZER;CN="SDSA%20Ecosocialism%20Caucus":MAILTO:info@seattledsa.org
GEO:47.5224616;-122.3762689
X-APPLE-STRUCTURED-LOCATION;VALUE=URI;X-ADDRESS=Southwest Library Branch 9010 35th Ave SW Seattle WA 98126 United States;X-APPLE-RADIUS=500;X-TITLE=9010 35th Ave SW:geo:-122.3762689,47.5224616
END:VEVENT
END:VCALENDAR