BEGIN:VCALENDAR
VERSION:2.0
PRODID:-//Seattle Democratic Socialists of America - ECPv6.0.13.1//NONSGML v1.0//EN
CALSCALE:GREGORIAN
METHOD:PUBLISH
X-ORIGINAL-URL:https://seattledsa.org
X-WR-CALDESC:Events for Seattle Democratic Socialists of America
REFRESH-INTERVAL;VALUE=DURATION:PT1H
X-Robots-Tag:noindex
X-PUBLISHED-TTL:PT1H
BEGIN:VTIMEZONE
TZID:America/Los_Angeles
BEGIN:DAYLIGHT
TZOFFSETFROM:-0800
TZOFFSETTO:-0700
TZNAME:PDT
DTSTART:20190310T100000
END:DAYLIGHT
BEGIN:STANDARD
TZOFFSETFROM:-0700
TZOFFSETTO:-0800
TZNAME:PST
DTSTART:20191103T090000
END:STANDARD
END:VTIMEZONE
BEGIN:VEVENT
DTSTART;TZID=America/Los_Angeles:20190620T183000
DTEND;TZID=America/Los_Angeles:20190620T200000
DTSTAMP:20230610T175534
CREATED:20190617T000717Z
LAST-MODIFIED:20190618T032318Z
UID:10004510-1561055400-1561060800@seattledsa.org
SUMMARY:DSA Bernie Sanders Committee Meeting
DESCRIPTION:It’s the third meeting of the Seattle DSA Committee for Bernie Sanders. Are you excited for 2020 and getting a democratic socialist named Bernard Sanders into office? Then this is the place for you! \nSee you there!
URL:https://seattledsa.org/event/dsa-bernie-sanders-committee-meeting-3/
LOCATION:Little Oddfellows – Elliot Bay Book Company\, 1521 10th Ave\, Seattle\, WA\, 98122\, United States
CATEGORIES:Electoral,New Member Friendly
ATTACH;FMTTYPE=image/png:https://seattledsa.org/wp-content/uploads/2019/06/sanders_dsa.png
GEO:47.6146697;-122.3197916
X-APPLE-STRUCTURED-LOCATION;VALUE=URI;X-ADDRESS=Little Oddfellows – Elliot Bay Book Company 1521 10th Ave Seattle WA 98122 United States;X-APPLE-RADIUS=500;X-TITLE=1521 10th Ave:geo:-122.3197916,47.6146697
END:VEVENT
BEGIN:VEVENT
DTSTART;TZID=America/Los_Angeles:20190606T183000
DTEND;TZID=America/Los_Angeles:20190606T200000
DTSTAMP:20230610T175534
CREATED:20190523T145803Z
LAST-MODIFIED:20190604T031537Z
UID:10003897-1559845800-1559851200@seattledsa.org
SUMMARY:DSA Bernie Sanders Committee Meeting
DESCRIPTION:It’s the second meeting of the Seattle DSA Committee for Bernie Sanders. Are you excited for 2020 and getting a democratic socialist named Bernard Sanders into office? Then this is the place for you! \n  \nSee you there!
URL:https://seattledsa.org/event/dsa-bernie-sanders-committee-meeting-2/
LOCATION:Victrola Coffee Roasters\, 310 E Pike St\, Seattle\, WA\, 98122\, United States
CATEGORIES:Electoral
ATTACH;FMTTYPE=image/png:https://seattledsa.org/wp-content/uploads/2019/05/sanders_dsa.png
GEO:47.6143039;-122.3272984
X-APPLE-STRUCTURED-LOCATION;VALUE=URI;X-ADDRESS=Victrola Coffee Roasters 310 E Pike St Seattle WA 98122 United States;X-APPLE-RADIUS=500;X-TITLE=310 E Pike St:geo:-122.3272984,47.6143039
END:VEVENT
END:VCALENDAR