BEGIN:VCALENDAR
VERSION:2.0
PRODID:-//Seattle Democratic Socialists of America - ECPv6.0.13.1//NONSGML v1.0//EN
CALSCALE:GREGORIAN
METHOD:PUBLISH
X-ORIGINAL-URL:https://seattledsa.org
X-WR-CALDESC:Events for Seattle Democratic Socialists of America
REFRESH-INTERVAL;VALUE=DURATION:PT1H
X-Robots-Tag:noindex
X-PUBLISHED-TTL:PT1H
BEGIN:VTIMEZONE
TZID:America/Los_Angeles
BEGIN:DAYLIGHT
TZOFFSETFROM:-0800
TZOFFSETTO:-0700
TZNAME:PDT
DTSTART:20190310T100000
END:DAYLIGHT
BEGIN:STANDARD
TZOFFSETFROM:-0700
TZOFFSETTO:-0800
TZNAME:PST
DTSTART:20191103T090000
END:STANDARD
END:VTIMEZONE
BEGIN:VEVENT
DTSTART;TZID=America/Los_Angeles:20191110T130000
DTEND;TZID=America/Los_Angeles:20191110T150000
DTSTAMP:20230610T182546
CREATED:20191022T033013Z
LAST-MODIFIED:20191107T023055Z
UID:10004882-1573390800-1573398000@seattledsa.org
SUMMARY:Green New Deal and Ecosocialism Meeting
DESCRIPTION:We envision a fair and effective Green New Deal to halt climate change and win environmental justice. In the short term\, Seattle DSA’s Green New Deal Committee is developing a campaign to win Free Transit for All county-wide. Join us and the Ecosocialism Caucus\, which will be offering a reading group later this fall. (Reading list at https://seattledsa.org/ecosocialism/) Questions? Ask GreenNewDeal@seattledsa.org. \nFrequent Metro Bus #120 goes right there!
URL:https://seattledsa.org/event/green-new-deal-committee-and-ecosocialism-caucus-meeting-2/
LOCATION:Delridge Branch – Seattle Public Library\, 5423 Delridge Way SW\, Seattle\, WA\, 98106
CATEGORIES:General Membership Meeting,New Member Friendly
GEO:47.5530508;-122.3633538
X-APPLE-STRUCTURED-LOCATION;VALUE=URI;X-ADDRESS=Delridge Branch – Seattle Public Library 5423 Delridge Way SW Seattle WA 98106;X-APPLE-RADIUS=500;X-TITLE=5423 Delridge Way SW:geo:-122.3633538,47.5530508
END:VEVENT
BEGIN:VEVENT
DTSTART;TZID=America/Los_Angeles:20191027T130000
DTEND;TZID=America/Los_Angeles:20191027T150000
DTSTAMP:20230610T182546
CREATED:20191018T041353Z
LAST-MODIFIED:20191022T033600Z
UID:10004858-1572181200-1572188400@seattledsa.org
SUMMARY:Green New Deal and Ecosocialism Meeting
DESCRIPTION:Let’s sharpen our thinking and build a powerful movement to halt climate change and win environmental justice. Join us at the Coworking Space at Ada’s Technical Books and Cafe.
URL:https://seattledsa.org/event/green-new-deal-committee-and-ecosocialism-caucus-meeting/
LOCATION:Ada’s Books and Cafe Coworking Space\, 425 15th Ave E\, Seattle\, WA\, United States
CATEGORIES:General Membership Meeting,New Member Friendly
GEO:47.622678;-122.3129877
X-APPLE-STRUCTURED-LOCATION;VALUE=URI;X-ADDRESS=Ada’s Books and Cafe Coworking Space 425 15th Ave E Seattle WA United States;X-APPLE-RADIUS=500;X-TITLE=425 15th Ave E:geo:-122.3129877,47.622678
END:VEVENT
BEGIN:VEVENT
DTSTART;TZID=America/Los_Angeles:20191013T130000
DTEND;TZID=America/Los_Angeles:20191013T150000
DTSTAMP:20230610T182546
CREATED:20190920T004552Z
LAST-MODIFIED:20191001T002806Z
UID:10004802-1570971600-1570978800@seattledsa.org
SUMMARY:Green New Deal Committee and Ecosocialism Caucus Meeting 🌹
DESCRIPTION:NOTE NEW MEETING LOCATION. Let’s sharpen our thinking and build a powerful movement to halt climate change and win environmental justice. Join us in the back room.  GreenNewDeal@seattledsa.org
URL:https://seattledsa.org/event/green-new-deal-committee-and-ecosocialism-caucus-meeting-%f0%9f%8c%b9/
LOCATION:Victrola Coffee & Art\, 411 15th Ave E\, Seattle\, WA\, 98112\, United States
CATEGORIES:General Membership Meeting
GEO:47.6223738;-122.312808
X-APPLE-STRUCTURED-LOCATION;VALUE=URI;X-ADDRESS=Victrola Coffee & Art 411 15th Ave E Seattle WA 98112 United States;X-APPLE-RADIUS=500;X-TITLE=411 15th Ave E:geo:-122.312808,47.6223738
END:VEVENT
BEGIN:VEVENT
DTSTART;TZID=America/Los_Angeles:20190929T130000
DTEND;TZID=America/Los_Angeles:20190929T150000
DTSTAMP:20230610T182546
CREATED:20190817T185034Z
LAST-MODIFIED:20190911T232615Z
UID:10004732-1569762000-1569769200@seattledsa.org
SUMMARY:Green New Deal Committee and Ecosocialism Caucus Meeting 🌹
DESCRIPTION:Let’s sharpen our thinking and build a powerful movement to halt climate change and win environmental justice. Join us.
URL:https://seattledsa.org/event/sdsa-ecosocialist-caucus-meeting-%f0%9f%8c%b9-6/
LOCATION:Capitol Hill Branch Library\, 425 Harvard Ave E\, Seattle\, WA\, 98102\, United States
CATEGORIES:General Membership Meeting
ORGANIZER;CN="SDSA%20Ecosocialism%20Caucus":MAILTO:info@seattledsa.org
GEO:47.6229294;-122.3223185
X-APPLE-STRUCTURED-LOCATION;VALUE=URI;X-ADDRESS=Capitol Hill Branch Library 425 Harvard Ave E Seattle WA 98102 United States;X-APPLE-RADIUS=500;X-TITLE=425 Harvard Ave E:geo:-122.3223185,47.6229294
END:VEVENT
BEGIN:VEVENT
DTSTART;TZID=America/Los_Angeles:20190920T090000
DTEND;TZID=America/Los_Angeles:20190920T150000
DTSTAMP:20230610T182546
CREATED:20190907T180738Z
LAST-MODIFIED:20190916T203007Z
UID:10004764-1568970000-1568991600@seattledsa.org
SUMMARY:Global Walk Out for Climate
DESCRIPTION:Call out sick! Take a vacation day! Announce you’re on #ClimateStrike! Bring co-workers! \nRespond to the call of youth climate activists to protest government inaction on the climate emergency. Tentative meeting location for Seattle DSA comrades–just east of the north tennis court in Cal Anderson park (in or near baseball diamond). Watch for updates. 9 AM tabling\, 12 noon march to City Hall\, 1-3 rally at City Hall. \nBusiness as usual means food system collapse\, fresh water shortages\, desolation of massive amounts of land. Event updates at facebook.com/events/724142398026618/
URL:https://seattledsa.org/event/global-walk-out-for-climate/
LOCATION:Cal Anderson Park and Bobby Morris Playfield
CATEGORIES:Community Events,New Member Friendly
END:VEVENT
BEGIN:VEVENT
DTSTART;TZID=America/Los_Angeles:20190915T150000
DTEND;TZID=America/Los_Angeles:20190915T163000
DTSTAMP:20230610T182546
CREATED:20190913T053500Z
LAST-MODIFIED:20190913T053500Z
UID:10004792-1568559600-1568565000@seattledsa.org
SUMMARY:Climate Strike Art Party
DESCRIPTION:Join the Green New Deal committee in making signs and hatching other creative contributions to the September 20 climate strike.
URL:https://seattledsa.org/event/climate-strike-art-party/
LOCATION:Delridge Branch – Seattle Public Library\, 5423 Delridge Way SW\, Seattle\, WA\, 98106
GEO:47.5530508;-122.3633538
X-APPLE-STRUCTURED-LOCATION;VALUE=URI;X-ADDRESS=Delridge Branch – Seattle Public Library 5423 Delridge Way SW Seattle WA 98106;X-APPLE-RADIUS=500;X-TITLE=5423 Delridge Way SW:geo:-122.3633538,47.5530508
END:VEVENT
BEGIN:VEVENT
DTSTART;TZID=America/Los_Angeles:20190915T130000
DTEND;TZID=America/Los_Angeles:20190915T150000
DTSTAMP:20230610T182546
CREATED:20190817T184543Z
LAST-MODIFIED:20190913T052630Z
UID:10004729-1568552400-1568559600@seattledsa.org
SUMMARY:Green New Deal Committee and Ecosocialism Caucus Meeting 🌹
DESCRIPTION:We now have two related outlets for your ecosocialist energy! The Green New Deal committee will pursue external campaigns that advance the socialist movement and win a just Green New Deal. The Ecosocialism Caucus will continue to sharpen our thinking\, pursue internal education and possibly incubate new external campaigns. For now we are meeting together. Join us!
URL:https://seattledsa.org/event/sdsa-ecosocialist-caucus-meeting-%f0%9f%8c%b9-5/
LOCATION:Delridge Branch – Seattle Public Library\, 5423 Delridge Way SW\, Seattle\, WA\, 98106
CATEGORIES:General Membership Meeting
ORGANIZER;CN="SDSA%20Ecosocialism%20Caucus":MAILTO:info@seattledsa.org
GEO:47.5530508;-122.3633538
X-APPLE-STRUCTURED-LOCATION;VALUE=URI;X-ADDRESS=Delridge Branch – Seattle Public Library 5423 Delridge Way SW Seattle WA 98106;X-APPLE-RADIUS=500;X-TITLE=5423 Delridge Way SW:geo:-122.3633538,47.5530508
END:VEVENT
END:VCALENDAR