BEGIN:VCALENDAR
VERSION:2.0
PRODID:-//Seattle Democratic Socialists of America - ECPv6.0.13.1//NONSGML v1.0//EN
CALSCALE:GREGORIAN
METHOD:PUBLISH
X-WR-CALNAME:Seattle Democratic Socialists of America
X-ORIGINAL-URL:https://seattledsa.org
X-WR-CALDESC:Events for Seattle Democratic Socialists of America
REFRESH-INTERVAL;VALUE=DURATION:PT1H
X-Robots-Tag:noindex
X-PUBLISHED-TTL:PT1H
BEGIN:VTIMEZONE
TZID:America/Los_Angeles
BEGIN:DAYLIGHT
TZOFFSETFROM:-0800
TZOFFSETTO:-0700
TZNAME:PDT
DTSTART:20240310T100000
END:DAYLIGHT
BEGIN:STANDARD
TZOFFSETFROM:-0700
TZOFFSETTO:-0800
TZNAME:PST
DTSTART:20241103T090000
END:STANDARD
END:VTIMEZONE
BEGIN:VEVENT
DTSTART;TZID=America/Los_Angeles:20240408T180000
DTEND;TZID=America/Los_Angeles:20240408T200000
DTSTAMP:20230610T182413
CREATED:20230427T194039Z
LAST-MODIFIED:20230427T194042Z
UID:10007636-1712599200-1712606400@seattledsa.org
SUMMARY:Raise the Wage Renton - Fundraiser Phonebank
DESCRIPTION:Raise the Wage Renton campaign is hosting regular weekly phonebanks to our dedicated donor list in order to drive up donations as we hope to secure enough funds for the remainder of our campaign. \nEvent is first-time phone-banker friendly! Will provide brief overview at beginning of meeting. \nPlease ensure a stable internet connection and mobile phone connection to be able to participate in phone dialing. \nRSVP here for Zoom link.
URL:https://seattledsa.org/event/raise-the-wage-renton-fundraiser-phonebank-2-3/2024-04-08/
LOCATION:Online (Zoom Call)\, WA
CATEGORIES:New Member Friendly,Raise the Wage Renton,South King County
ATTACH;FMTTYPE=image/png:https://seattledsa.org/wp-content/uploads/2023/02/rtw-renton-approved-2-THUMBNAIL.png
ORGANIZER;CN="Seattle%20DSA%20Electoral%20Committee":MAILTO:electoral@seattledsa.org
GEO:47.6618326;-122.3425123
END:VEVENT
BEGIN:VEVENT
DTSTART;TZID=America/Los_Angeles:20240415T180000
DTEND;TZID=America/Los_Angeles:20240415T200000
DTSTAMP:20230610T182413
CREATED:20230427T194039Z
LAST-MODIFIED:20230427T194042Z
UID:10007637-1713204000-1713211200@seattledsa.org
SUMMARY:Raise the Wage Renton - Fundraiser Phonebank
DESCRIPTION:Raise the Wage Renton campaign is hosting regular weekly phonebanks to our dedicated donor list in order to drive up donations as we hope to secure enough funds for the remainder of our campaign. \nEvent is first-time phone-banker friendly! Will provide brief overview at beginning of meeting. \nPlease ensure a stable internet connection and mobile phone connection to be able to participate in phone dialing. \nRSVP here for Zoom link.
URL:https://seattledsa.org/event/raise-the-wage-renton-fundraiser-phonebank-2-3/2024-04-15/
LOCATION:Online (Zoom Call)\, WA
CATEGORIES:New Member Friendly,Raise the Wage Renton,South King County
ATTACH;FMTTYPE=image/png:https://seattledsa.org/wp-content/uploads/2023/02/rtw-renton-approved-2-THUMBNAIL.png
ORGANIZER;CN="Seattle%20DSA%20Electoral%20Committee":MAILTO:electoral@seattledsa.org
GEO:47.6618326;-122.3425123
END:VEVENT
BEGIN:VEVENT
DTSTART;TZID=America/Los_Angeles:20240422T180000
DTEND;TZID=America/Los_Angeles:20240422T200000
DTSTAMP:20230610T182413
CREATED:20230427T194039Z
LAST-MODIFIED:20230427T194042Z
UID:10007638-1713808800-1713816000@seattledsa.org
SUMMARY:Raise the Wage Renton - Fundraiser Phonebank
DESCRIPTION:Raise the Wage Renton campaign is hosting regular weekly phonebanks to our dedicated donor list in order to drive up donations as we hope to secure enough funds for the remainder of our campaign. \nEvent is first-time phone-banker friendly! Will provide brief overview at beginning of meeting. \nPlease ensure a stable internet connection and mobile phone connection to be able to participate in phone dialing. \nRSVP here for Zoom link.
URL:https://seattledsa.org/event/raise-the-wage-renton-fundraiser-phonebank-2-3/2024-04-22/
LOCATION:Online (Zoom Call)\, WA
CATEGORIES:New Member Friendly,Raise the Wage Renton,South King County
ATTACH;FMTTYPE=image/png:https://seattledsa.org/wp-content/uploads/2023/02/rtw-renton-approved-2-THUMBNAIL.png
ORGANIZER;CN="Seattle%20DSA%20Electoral%20Committee":MAILTO:electoral@seattledsa.org
GEO:47.6618326;-122.3425123
END:VEVENT
BEGIN:VEVENT
DTSTART;TZID=America/Los_Angeles:20240429T180000
DTEND;TZID=America/Los_Angeles:20240429T200000
DTSTAMP:20230610T182413
CREATED:20230427T194039Z
LAST-MODIFIED:20230427T194042Z
UID:10007639-1714413600-1714420800@seattledsa.org
SUMMARY:Raise the Wage Renton - Fundraiser Phonebank
DESCRIPTION:Raise the Wage Renton campaign is hosting regular weekly phonebanks to our dedicated donor list in order to drive up donations as we hope to secure enough funds for the remainder of our campaign. \nEvent is first-time phone-banker friendly! Will provide brief overview at beginning of meeting. \nPlease ensure a stable internet connection and mobile phone connection to be able to participate in phone dialing. \nRSVP here for Zoom link.
URL:https://seattledsa.org/event/raise-the-wage-renton-fundraiser-phonebank-2-3/2024-04-29/
LOCATION:Online (Zoom Call)\, WA
CATEGORIES:New Member Friendly,Raise the Wage Renton,South King County
ATTACH;FMTTYPE=image/png:https://seattledsa.org/wp-content/uploads/2023/02/rtw-renton-approved-2-THUMBNAIL.png
ORGANIZER;CN="Seattle%20DSA%20Electoral%20Committee":MAILTO:electoral@seattledsa.org
GEO:47.6618326;-122.3425123
END:VEVENT
BEGIN:VEVENT
DTSTART;TZID=America/Los_Angeles:20240506T180000
DTEND;TZID=America/Los_Angeles:20240506T200000
DTSTAMP:20230610T182413
CREATED:20230427T194039Z
LAST-MODIFIED:20230427T194042Z
UID:10007640-1715018400-1715025600@seattledsa.org
SUMMARY:Raise the Wage Renton - Fundraiser Phonebank
DESCRIPTION:Raise the Wage Renton campaign is hosting regular weekly phonebanks to our dedicated donor list in order to drive up donations as we hope to secure enough funds for the remainder of our campaign. \nEvent is first-time phone-banker friendly! Will provide brief overview at beginning of meeting. \nPlease ensure a stable internet connection and mobile phone connection to be able to participate in phone dialing. \nRSVP here for Zoom link.
URL:https://seattledsa.org/event/raise-the-wage-renton-fundraiser-phonebank-2-3/2024-05-06/
LOCATION:Online (Zoom Call)\, WA
CATEGORIES:New Member Friendly,Raise the Wage Renton,South King County
ATTACH;FMTTYPE=image/png:https://seattledsa.org/wp-content/uploads/2023/02/rtw-renton-approved-2-THUMBNAIL.png
ORGANIZER;CN="Seattle%20DSA%20Electoral%20Committee":MAILTO:electoral@seattledsa.org
GEO:47.6618326;-122.3425123
END:VEVENT
BEGIN:VEVENT
DTSTART;TZID=America/Los_Angeles:20240513T180000
DTEND;TZID=America/Los_Angeles:20240513T200000
DTSTAMP:20230610T182413
CREATED:20230427T194039Z
LAST-MODIFIED:20230427T194042Z
UID:10007641-1715623200-1715630400@seattledsa.org
SUMMARY:Raise the Wage Renton - Fundraiser Phonebank
DESCRIPTION:Raise the Wage Renton campaign is hosting regular weekly phonebanks to our dedicated donor list in order to drive up donations as we hope to secure enough funds for the remainder of our campaign. \nEvent is first-time phone-banker friendly! Will provide brief overview at beginning of meeting. \nPlease ensure a stable internet connection and mobile phone connection to be able to participate in phone dialing. \nRSVP here for Zoom link.
URL:https://seattledsa.org/event/raise-the-wage-renton-fundraiser-phonebank-2-3/2024-05-13/
LOCATION:Online (Zoom Call)\, WA
CATEGORIES:New Member Friendly,Raise the Wage Renton,South King County
ATTACH;FMTTYPE=image/png:https://seattledsa.org/wp-content/uploads/2023/02/rtw-renton-approved-2-THUMBNAIL.png
ORGANIZER;CN="Seattle%20DSA%20Electoral%20Committee":MAILTO:electoral@seattledsa.org
GEO:47.6618326;-122.3425123
END:VEVENT
BEGIN:VEVENT
DTSTART;TZID=America/Los_Angeles:20240520T180000
DTEND;TZID=America/Los_Angeles:20240520T200000
DTSTAMP:20230610T182413
CREATED:20230427T194039Z
LAST-MODIFIED:20230427T194042Z
UID:10007642-1716228000-1716235200@seattledsa.org
SUMMARY:Raise the Wage Renton - Fundraiser Phonebank
DESCRIPTION:Raise the Wage Renton campaign is hosting regular weekly phonebanks to our dedicated donor list in order to drive up donations as we hope to secure enough funds for the remainder of our campaign. \nEvent is first-time phone-banker friendly! Will provide brief overview at beginning of meeting. \nPlease ensure a stable internet connection and mobile phone connection to be able to participate in phone dialing. \nRSVP here for Zoom link.
URL:https://seattledsa.org/event/raise-the-wage-renton-fundraiser-phonebank-2-3/2024-05-20/
LOCATION:Online (Zoom Call)\, WA
CATEGORIES:New Member Friendly,Raise the Wage Renton,South King County
ATTACH;FMTTYPE=image/png:https://seattledsa.org/wp-content/uploads/2023/02/rtw-renton-approved-2-THUMBNAIL.png
ORGANIZER;CN="Seattle%20DSA%20Electoral%20Committee":MAILTO:electoral@seattledsa.org
GEO:47.6618326;-122.3425123
END:VEVENT
BEGIN:VEVENT
DTSTART;TZID=America/Los_Angeles:20240527T180000
DTEND;TZID=America/Los_Angeles:20240527T200000
DTSTAMP:20230610T182413
CREATED:20230427T194039Z
LAST-MODIFIED:20230427T194042Z
UID:10007643-1716832800-1716840000@seattledsa.org
SUMMARY:Raise the Wage Renton - Fundraiser Phonebank
DESCRIPTION:Raise the Wage Renton campaign is hosting regular weekly phonebanks to our dedicated donor list in order to drive up donations as we hope to secure enough funds for the remainder of our campaign. \nEvent is first-time phone-banker friendly! Will provide brief overview at beginning of meeting. \nPlease ensure a stable internet connection and mobile phone connection to be able to participate in phone dialing. \nRSVP here for Zoom link.
URL:https://seattledsa.org/event/raise-the-wage-renton-fundraiser-phonebank-2-3/2024-05-27/
LOCATION:Online (Zoom Call)\, WA
CATEGORIES:New Member Friendly,Raise the Wage Renton,South King County
ATTACH;FMTTYPE=image/png:https://seattledsa.org/wp-content/uploads/2023/02/rtw-renton-approved-2-THUMBNAIL.png
ORGANIZER;CN="Seattle%20DSA%20Electoral%20Committee":MAILTO:electoral@seattledsa.org
GEO:47.6618326;-122.3425123
END:VEVENT
BEGIN:VEVENT
DTSTART;TZID=America/Los_Angeles:20240603T180000
DTEND;TZID=America/Los_Angeles:20240603T200000
DTSTAMP:20230610T182413
CREATED:20230427T194039Z
LAST-MODIFIED:20230427T194042Z
UID:10007644-1717437600-1717444800@seattledsa.org
SUMMARY:Raise the Wage Renton - Fundraiser Phonebank
DESCRIPTION:Raise the Wage Renton campaign is hosting regular weekly phonebanks to our dedicated donor list in order to drive up donations as we hope to secure enough funds for the remainder of our campaign. \nEvent is first-time phone-banker friendly! Will provide brief overview at beginning of meeting. \nPlease ensure a stable internet connection and mobile phone connection to be able to participate in phone dialing. \nRSVP here for Zoom link.
URL:https://seattledsa.org/event/raise-the-wage-renton-fundraiser-phonebank-2-3/2024-06-03/
LOCATION:Online (Zoom Call)\, WA
CATEGORIES:New Member Friendly,Raise the Wage Renton,South King County
ATTACH;FMTTYPE=image/png:https://seattledsa.org/wp-content/uploads/2023/02/rtw-renton-approved-2-THUMBNAIL.png
ORGANIZER;CN="Seattle%20DSA%20Electoral%20Committee":MAILTO:electoral@seattledsa.org
GEO:47.6618326;-122.3425123
END:VEVENT
BEGIN:VEVENT
DTSTART;TZID=America/Los_Angeles:20240610T180000
DTEND;TZID=America/Los_Angeles:20240610T200000
DTSTAMP:20230610T182413
CREATED:20230427T194039Z
LAST-MODIFIED:20230427T194042Z
UID:10007645-1718042400-1718049600@seattledsa.org
SUMMARY:Raise the Wage Renton - Fundraiser Phonebank
DESCRIPTION:Raise the Wage Renton campaign is hosting regular weekly phonebanks to our dedicated donor list in order to drive up donations as we hope to secure enough funds for the remainder of our campaign. \nEvent is first-time phone-banker friendly! Will provide brief overview at beginning of meeting. \nPlease ensure a stable internet connection and mobile phone connection to be able to participate in phone dialing. \nRSVP here for Zoom link.
URL:https://seattledsa.org/event/raise-the-wage-renton-fundraiser-phonebank-2-3/2024-06-10/
LOCATION:Online (Zoom Call)\, WA
CATEGORIES:New Member Friendly,Raise the Wage Renton,South King County
ATTACH;FMTTYPE=image/png:https://seattledsa.org/wp-content/uploads/2023/02/rtw-renton-approved-2-THUMBNAIL.png
ORGANIZER;CN="Seattle%20DSA%20Electoral%20Committee":MAILTO:electoral@seattledsa.org
GEO:47.6618326;-122.3425123
END:VEVENT
BEGIN:VEVENT
DTSTART;TZID=America/Los_Angeles:20240617T180000
DTEND;TZID=America/Los_Angeles:20240617T200000
DTSTAMP:20230610T182413
CREATED:20230427T194039Z
LAST-MODIFIED:20230427T194042Z
UID:10007646-1718647200-1718654400@seattledsa.org
SUMMARY:Raise the Wage Renton - Fundraiser Phonebank
DESCRIPTION:Raise the Wage Renton campaign is hosting regular weekly phonebanks to our dedicated donor list in order to drive up donations as we hope to secure enough funds for the remainder of our campaign. \nEvent is first-time phone-banker friendly! Will provide brief overview at beginning of meeting. \nPlease ensure a stable internet connection and mobile phone connection to be able to participate in phone dialing. \nRSVP here for Zoom link.
URL:https://seattledsa.org/event/raise-the-wage-renton-fundraiser-phonebank-2-3/2024-06-17/
LOCATION:Online (Zoom Call)\, WA
CATEGORIES:New Member Friendly,Raise the Wage Renton,South King County
ATTACH;FMTTYPE=image/png:https://seattledsa.org/wp-content/uploads/2023/02/rtw-renton-approved-2-THUMBNAIL.png
ORGANIZER;CN="Seattle%20DSA%20Electoral%20Committee":MAILTO:electoral@seattledsa.org
GEO:47.6618326;-122.3425123
END:VEVENT
BEGIN:VEVENT
DTSTART;TZID=America/Los_Angeles:20240624T180000
DTEND;TZID=America/Los_Angeles:20240624T200000
DTSTAMP:20230610T182413
CREATED:20230427T194039Z
LAST-MODIFIED:20230427T194042Z
UID:10007647-1719252000-1719259200@seattledsa.org
SUMMARY:Raise the Wage Renton - Fundraiser Phonebank
DESCRIPTION:Raise the Wage Renton campaign is hosting regular weekly phonebanks to our dedicated donor list in order to drive up donations as we hope to secure enough funds for the remainder of our campaign. \nEvent is first-time phone-banker friendly! Will provide brief overview at beginning of meeting. \nPlease ensure a stable internet connection and mobile phone connection to be able to participate in phone dialing. \nRSVP here for Zoom link.
URL:https://seattledsa.org/event/raise-the-wage-renton-fundraiser-phonebank-2-3/2024-06-24/
LOCATION:Online (Zoom Call)\, WA
CATEGORIES:New Member Friendly,Raise the Wage Renton,South King County
ATTACH;FMTTYPE=image/png:https://seattledsa.org/wp-content/uploads/2023/02/rtw-renton-approved-2-THUMBNAIL.png
ORGANIZER;CN="Seattle%20DSA%20Electoral%20Committee":MAILTO:electoral@seattledsa.org
GEO:47.6618326;-122.3425123
END:VEVENT
END:VCALENDAR