BEGIN:VCALENDAR
VERSION:2.0
PRODID:-//Seattle Democratic Socialists of America - ECPv6.0.13.1//NONSGML v1.0//EN
CALSCALE:GREGORIAN
METHOD:PUBLISH
X-WR-CALNAME:Seattle Democratic Socialists of America
X-ORIGINAL-URL:https://seattledsa.org
X-WR-CALDESC:Events for Seattle Democratic Socialists of America
REFRESH-INTERVAL;VALUE=DURATION:PT1H
X-Robots-Tag:noindex
X-PUBLISHED-TTL:PT1H
BEGIN:VTIMEZONE
TZID:America/Los_Angeles
BEGIN:DAYLIGHT
TZOFFSETFROM:-0800
TZOFFSETTO:-0700
TZNAME:PDT
DTSTART:20210314T100000
END:DAYLIGHT
BEGIN:STANDARD
TZOFFSETFROM:-0700
TZOFFSETTO:-0800
TZNAME:PST
DTSTART:20211107T090000
END:STANDARD
END:VTIMEZONE
BEGIN:VEVENT
DTSTART;TZID=America/Los_Angeles:20210914T170000
DTEND;TZID=America/Los_Angeles:20210914T190000
DTSTAMP:20230610T184938
CREATED:20210905T223344Z
LAST-MODIFIED:20210910T035418Z
UID:10006069-1631638800-1631646000@seattledsa.org
SUMMARY:DSA Tabling at Renton Farmers' Market
DESCRIPTION:Let’s get out there and talk to our neighbors about DSA-endorsed campaigns. In South King County we have: \n\nStephanie Gallardo for Congress\n\nLook for the Seattle DSA table near the corner of So. 3rd and Logan Ave South \nFor more information\, email electoral@seattledsa.org \nWe will have table\, banner\, literature\, hand sanitizer\, sunscreen etc. Just bring your positive attitude and a mask. \nPlease RSVP here\n(encouraged but not required)
URL:https://seattledsa.org/event/dsa-tabling-at-renton-farmers-market/
LOCATION:Renton Farmers Market\, 233 Burnett Ave S\, Renton\, WA\, 98057\, United States
ORGANIZER;CN="Seattle%20DSA%20Electoral%20Committee":MAILTO:electoral@seattledsa.org
GEO:47.4802261;-122.2084445
X-APPLE-STRUCTURED-LOCATION;VALUE=URI;X-ADDRESS=Renton Farmers Market 233 Burnett Ave S Renton WA 98057 United States;X-APPLE-RADIUS=500;X-TITLE=233 Burnett Ave S:geo:-122.2084445,47.4802261
END:VEVENT
BEGIN:VEVENT
DTSTART;TZID=America/Los_Angeles:20210913T173000
DTEND;TZID=America/Los_Angeles:20210913T190000
DTSTAMP:20230610T184938
CREATED:20210803T052012Z
LAST-MODIFIED:20210803T052215Z
UID:10005952-1631554200-1631559600@seattledsa.org
SUMMARY:Seattle DSA for Stephanie subcommittee
DESCRIPTION:Monthly meeting of the Seattle DSA for Stephanie subcommittee. \nWe meet on the first Monday of the month\, although this month we meet on 9/13 because of Labor Day holiday. \nRSVP here and please spread the word. \nAgenda will be posted later. \nAlternatively\, if you want to help with the work but can’t make monthly meetings\, you can sign up to volunteer for specific tasks.
URL:https://seattledsa.org/event/seattle-dsa-for-stephanie-subcommittee-3/
LOCATION:On Zoom\, WA\, United States
CATEGORIES:Electoral,New Member Friendly
ORGANIZER;CN="Seattle%20DSA%20Electoral%20Committee":MAILTO:electoral@seattledsa.org
GEO:47.7510741;-120.7401385
END:VEVENT
BEGIN:VEVENT
DTSTART;TZID=America/Los_Angeles:20210908T160000
DTEND;TZID=America/Los_Angeles:20210908T180000
DTSTAMP:20230610T184938
CREATED:20210905T222441Z
LAST-MODIFIED:20210906T045743Z
UID:10006068-1631116800-1631124000@seattledsa.org
SUMMARY:DSA Tabling at Columbia City Farmers’ Market
DESCRIPTION:Let’s get out there and talk to our neighbors about DSA-endorsed campaigns. In District 2 (south Seattle) we have: \n\nNikkita Oliver for city council\nStephanie Gallardo for Congress\nNicole Thomas Kennedy for City Attorney (assuming Seattle DSA endorses her at the Sept 7 membership meeting)\n\nLook for the Seattle DSA table across the street from the PCC entrance on South Edmunds Street. \nWe will have table\, banner\, literature\, yards signs\, hand sanitizer\, sunscreen etc. Just bring your positive attitude and a mask. \nPlease RSVP here (encouraged but not required)
URL:https://seattledsa.org/event/dsa-tabling-at-columbia-city-farmers-market-4/
LOCATION:Columbia City Farmers Market\, 3651 S Edmunds St\, Seattle\, WA\, 98118\, United States
CATEGORIES:New Member Friendly
ORGANIZER;CN="Seattle%20DSA%20Electoral%20Committee":MAILTO:electoral@seattledsa.org
GEO:47.5586554;-122.2873569
X-APPLE-STRUCTURED-LOCATION;VALUE=URI;X-ADDRESS=Columbia City Farmers Market 3651 S Edmunds St Seattle WA 98118 United States;X-APPLE-RADIUS=500;X-TITLE=3651 S Edmunds St:geo:-122.2873569,47.5586554
END:VEVENT
BEGIN:VEVENT
DTSTART;TZID=America/Los_Angeles:20210814T110000
DTEND;TZID=America/Los_Angeles:20210814T140000
DTSTAMP:20230610T184938
CREATED:20210806T063447Z
LAST-MODIFIED:20210806T063625Z
UID:10004744-1628938800-1628949600@seattledsa.org
SUMMARY:DSA Tabling at Des Moines Farmers’ Market
DESCRIPTION:Let’s get out there and talk to our neighbors about DSA-endorsed campaigns. In South King County we have: \n\nStephanie Gallardo for Congress\nI-1362 Universal Healthcare signature gathering\n\nLook for the Seattle DSA table or email electoral@seattledsa.org \nWe will have table\, banner\, literature\, yards signs\, I-1362 signature forms\, hand sanitizer\, sunscreen etc. Just bring your positive attitude and a mask. \nPlease RSVP here (encouraged but not required)
URL:https://seattledsa.org/event/dsa-tabling-at-des-moines-farmers-market/
LOCATION:Des Moines Farmers Market\, 22307 Dock Ave S\, Des Moines\, WA\, 98198\, United States
CATEGORIES:Electoral,New Member Friendly,South King County
ORGANIZER;CN="Seattle%20DSA%20Electoral%20Committee":MAILTO:electoral@seattledsa.org
GEO:47.4014315;-122.3292643
X-APPLE-STRUCTURED-LOCATION;VALUE=URI;X-ADDRESS=Des Moines Farmers Market 22307 Dock Ave S Des Moines WA 98198 United States;X-APPLE-RADIUS=500;X-TITLE=22307 Dock Ave S:geo:-122.3292643,47.4014315
END:VEVENT
BEGIN:VEVENT
DTSTART;TZID=America/Los_Angeles:20210811T080000
DTEND;TZID=America/Los_Angeles:20210811T170000
DTSTAMP:20230610T184938
CREATED:20210805T030227Z
LAST-MODIFIED:20210805T030227Z
UID:10004743-1628668800-1628701200@seattledsa.org
SUMMARY:DSA Tabling at Columbia City Farmers' Market
DESCRIPTION:Let’s get out there and talk to our neighbors about DSA-endorsed campaigns. In District 2 (south Seattle) we have: \n\nNikkita Oliver for city council\nStephanie Gallardo for Congress\nI-1362 Universal Healthcare signature gathering\n\nLook for the Seattle DSA table across the street from the PCC entrance on South Edmunds Street. \nWe will have table\, banner\, literature\, yards signs\, I-1362 signature forms\, hand sanitizer\, sunscreen etc. Just bring your positive attitude and a mask. \nPlease RSVP here (encouraged but not required)
URL:https://seattledsa.org/event/dsa-tabling-at-columbia-city-farmers-market-2/
LOCATION:Columbia City Farmers Market\, 3651 S Edmunds St\, Seattle\, WA\, 98118\, United States
CATEGORIES:Electoral,New Member Friendly
ORGANIZER;CN="Seattle%20DSA%20Electoral%20Committee":MAILTO:electoral@seattledsa.org
GEO:47.5586554;-122.2873569
X-APPLE-STRUCTURED-LOCATION;VALUE=URI;X-ADDRESS=Columbia City Farmers Market 3651 S Edmunds St Seattle WA 98118 United States;X-APPLE-RADIUS=500;X-TITLE=3651 S Edmunds St:geo:-122.2873569,47.5586554
END:VEVENT
BEGIN:VEVENT
DTSTART;TZID=America/Los_Angeles:20210804T160000
DTEND;TZID=America/Los_Angeles:20210804T180000
DTSTAMP:20230610T184938
CREATED:20210730T010045Z
LAST-MODIFIED:20210804T181708Z
UID:10005948-1628092800-1628100000@seattledsa.org
SUMMARY:DSA Tabling at Columbia City Farmers' Market
DESCRIPTION:Let’s get out there and talk to our neighbors about DSA-endorsed campaigns. In District 2 (south Seattle) we have: \n\nNikkita Oliver for city council\nStephanie Gallardo for Congress\nI-1362 Universal Healthcare signature gathering\n\nLook for the Seattle DSA table across the street from the PCC entrance on South Edmunds Street. \nWe will have table\, banner\, literature\, yards signs\, I-1362 signature forms\, hand sanitizer\, sunscreen etc. Just bring your positive attitude and a mask. \nPlease RSVP here (encouraged but not required)
URL:https://seattledsa.org/event/dsa-tabling-at-columbia-city-farmers-market/
LOCATION:Columbia City Farmers Market\, 3651 S Edmunds St\, Seattle\, WA\, 98118\, United States
CATEGORIES:Community Events,Electoral,New Member Friendly
ORGANIZER;CN="Seattle%20DSA%20Electoral%20Committee":MAILTO:electoral@seattledsa.org
GEO:47.5586554;-122.2873569
X-APPLE-STRUCTURED-LOCATION;VALUE=URI;X-ADDRESS=Columbia City Farmers Market 3651 S Edmunds St Seattle WA 98118 United States;X-APPLE-RADIUS=500;X-TITLE=3651 S Edmunds St:geo:-122.2873569,47.5586554
END:VEVENT
BEGIN:VEVENT
DTSTART;TZID=America/Los_Angeles:20210802T173000
DTEND;TZID=America/Los_Angeles:20210802T190000
DTSTAMP:20230610T184938
CREATED:20210709T064720Z
LAST-MODIFIED:20210709T064720Z
UID:10004723-1627925400-1627930800@seattledsa.org
SUMMARY:Seattle DSA for Stephanie subcommittee
DESCRIPTION:Monthly meeting of the Seattle DSA for Stephanie subcommittee. \nWe meet on the first Monday of the month. \nRSVP here and please spread the word. \nAgenda will be posted later. \nAlternatively\, if you want to help with the work but can’t make monthly meetings\, you can sign up to volunteer for specific tasks.
URL:https://seattledsa.org/event/seattle-dsa-for-stephanie-subcommittee-2/
LOCATION:On Zoom\, WA\, United States
CATEGORIES:Electoral,New Member Friendly
ORGANIZER;CN="Seattle%20DSA%20Electoral%20Committee":MAILTO:electoral@seattledsa.org
GEO:47.7510741;-120.7401385
END:VEVENT
BEGIN:VEVENT
DTSTART;TZID=America/Los_Angeles:20210718T160000
DTEND;TZID=America/Los_Angeles:20210718T203000
DTSTAMP:20230610T184938
CREATED:20210630T203317Z
LAST-MODIFIED:20210718T053216Z
UID:10005886-1626624000-1626640200@seattledsa.org
SUMMARY:Stop the Right-Wing Recall! SDSA In-Person Fundraiser with Kshama Sawant\, Briahna Joy Gray & Meagan Day
DESCRIPTION:Millionaires and billionaires are lining up against Kshama and supporting the recall effort. The Kshama Solidarity Campaign needs our material support.  \nJoin your comrades in-person for food\, drink\, and merriment in an effort to fundraise for the Kshama Solidarity Campaign\, featuring Briahna Joy Gray and Meagan Day as speakers\, as well as SDSA members! \n\nSunny R\, Seattle DSA member and PRO Act organizer\nOlivia L\, Seattle DSA Local Council member\nBriahna Joy Gray was press secretary for the Bernie Sanders campaign\, and is currently co-host of popular podcast Bad Faith.\nMeagan Day is a staff writer for Jacobin\, and co-author of the book Bigger Than Bernie: How We Go from the Sanders Campaign to Democratic Socialism\n\nKshama will need all the help she can get. Big money is lining up against her\, and the Recall Campaign has already raised over half a million dollars.  Donors to the recall campaign include Amazon Senior VP Doug Herrington and billionaire developer Martin Selig. To go up against this elite donor class\, we’ll need thousands of small-dollar donations.  \nCome on out and eat\, drink\, enjoy a bit of music\, and be merry with fellow socialists – and please bring your checkbook or credit card!  \nThe event will be held at a private home in Columbia City. Please RSVP at the link below\, and we will send you the venue information.   \nIf you can’t join us\, you can still make a contribution to this important campaign at https://www.kshamasolidarity.org/donate. \nNote: This event will be livestreamed starting at 5:30 PM. For details\, visit https://seattledsa.org/kshama/ \n  \nRSVP HERE FOR THE ADDRESS!
URL:https://seattledsa.org/event/sdsa-in-person-fundraiser-for-kshama-featuring-briahna-joy-gray-and-meagan-day/
LOCATION:Eightball Cafe in Everett\, 2727 Colby Ave\, Everett\, WA\, United States
CATEGORIES:New Member Friendly
ORGANIZER;CN="Seattle%20DSA%20Electoral%20Committee":MAILTO:electoral@seattledsa.org
GEO:37.09024;-95.712891
X-APPLE-STRUCTURED-LOCATION;VALUE=URI;X-ADDRESS=Eightball Cafe in Everett 2727 Colby Ave Everett WA United States;X-APPLE-RADIUS=500;X-TITLE=2727 Colby Ave:geo:-95.712891,37.09024
END:VEVENT
BEGIN:VEVENT
DTSTART;TZID=America/Los_Angeles:20210715T190000
DTEND;TZID=America/Los_Angeles:20210715T210000
DTSTAMP:20230610T184938
CREATED:20210625T040815Z
LAST-MODIFIED:20210715T065302Z
UID:10004707-1626375600-1626382800@seattledsa.org
SUMMARY:July Electoral Committee Meeting
DESCRIPTION:The Seattle DSA Electoral Committee normally meets on the third Thursday of the month at 7 PM. \nCheck the electoral committee channel on DSA Slack for an agenda. \nPlease RSVP here then check your email for zoom details.
URL:https://seattledsa.org/event/july-electoral-committee-meeting/
LOCATION:On Zoom\, WA\, United States
CATEGORIES:Electoral,New Member Friendly
ORGANIZER;CN="Seattle%20DSA%20Electoral%20Committee":MAILTO:electoral@seattledsa.org
GEO:47.7510741;-120.7401385
END:VEVENT
BEGIN:VEVENT
DTSTART;TZID=America/Los_Angeles:20210624T190000
DTEND;TZID=America/Los_Angeles:20210624T210000
DTSTAMP:20230610T184938
CREATED:20210607T024421Z
LAST-MODIFIED:20210611T000945Z
UID:10004631-1624561200-1624568400@seattledsa.org
SUMMARY:June Electoral Committee Meeting
DESCRIPTION:The Seattle DSA Electoral Committee normally meets on the third Thursday of the month at 7 PM. \nNote that in July we are meeting on the 4th Thursday\, in order to review/recommend endorsements that the membership will vote on at the July meeting. \nAn agenda will be added shortly. \nPlease RSVP here then check your email for zoom details.
URL:https://seattledsa.org/event/june-electoral-committee-meeting/
LOCATION:On Zoom\, WA\, United States
CATEGORIES:Electoral,New Member Friendly
ORGANIZER;CN="Seattle%20DSA%20Electoral%20Committee":MAILTO:electoral@seattledsa.org
GEO:47.7510741;-120.7401385
END:VEVENT
BEGIN:VEVENT
DTSTART;TZID=America/Los_Angeles:20210607T173000
DTEND;TZID=America/Los_Angeles:20210607T190000
DTSTAMP:20230610T184938
CREATED:20210510T065718Z
LAST-MODIFIED:20210510T065718Z
UID:10004590-1623087000-1623092400@seattledsa.org
SUMMARY:Seattle DSA for Stephanie subcommittee
DESCRIPTION:Monthly meeting of the Seattle DSA for Stephanie subcommittee. \nRSVP here and please spread the word. \nAgenda will be posted later. \nAlternatively\, if you want to help with the work but can’t make monthly meetings\, you can sign up to volunteer for specific tasks.
URL:https://seattledsa.org/event/seattle-dsa-for-stephanie-subcommittee/
LOCATION:On Zoom\, WA\, United States
CATEGORIES:Electoral,New Member Friendly
ORGANIZER;CN="Seattle%20DSA%20Electoral%20Committee":MAILTO:electoral@seattledsa.org
GEO:47.7510741;-120.7401385
END:VEVENT
BEGIN:VEVENT
DTSTART;TZID=America/Los_Angeles:20210511T183000
DTEND;TZID=America/Los_Angeles:20210511T200000
DTSTAMP:20230610T184938
CREATED:20210410T232318Z
LAST-MODIFIED:20210410T232318Z
UID:10005717-1620757800-1620763200@seattledsa.org
SUMMARY:Kshama Solidarity Phonebank 5
DESCRIPTION:Defend Seattle’s socialist city council member! After failing to buy District 3’s city council seat in 2019\, Seattle’s ruling class is attempting a right-wing recall of Kshama Sawant. We won’t let it happen! \nThe Washington Supreme Court just authorized the recall election\, so it’s time to go all-out to defend Kshama. Join us to phone-bank our membership about the Kshama Solidarity campaign. We’ll inform our comrades about the recall effort\, rally volunteers\, and ask for donations.  We’ll also be informing members about our next General Meeting\, with more electoral endorsements pending\, so we can make quorum! \nRSVP HERE!\nWe’ll meet over Zoom for a brief training on our call system\, then hit the phones. Phone-banking is a fun\, easy way to get involved with this campaign. We’ll be talking to our fellow neighborhood socialists\, so expect friendly conversations!
URL:https://seattledsa.org/event/kshama-solidarity-phonebank-5/
LOCATION:Eightball Cafe in Everett\, 2727 Colby Ave\, Everett\, WA\, United States
ORGANIZER;CN="Seattle%20DSA%20Electoral%20Committee":MAILTO:electoral@seattledsa.org
GEO:37.09024;-95.712891
X-APPLE-STRUCTURED-LOCATION;VALUE=URI;X-ADDRESS=Eightball Cafe in Everett 2727 Colby Ave Everett WA United States;X-APPLE-RADIUS=500;X-TITLE=2727 Colby Ave:geo:-95.712891,37.09024
END:VEVENT
BEGIN:VEVENT
DTSTART;TZID=America/Los_Angeles:20210418T140000
DTEND;TZID=America/Los_Angeles:20210418T170000
DTSTAMP:20230610T184938
CREATED:20210401T174123Z
LAST-MODIFIED:20210418T174909Z
UID:10005707-1618754400-1618765200@seattledsa.org
SUMMARY:Kshama Solidarity Tabling
DESCRIPTION:The Washington State supreme court has officially given the green light to the billionaire-backed\, right-wing recall campaign against Kshama Sawant\, Seattle’s socialist city councilmember. We need to go all out to defend Kshama and our movement! \nJoin Seattle DSA at a tabling event at Capitol Hill Farmer’s Market on Sunday\, April 18th at 2pm. We’ll be talking to passer-bys about the campaign\, handing out literature about Seattle DSA and Kshama’s Recall Campaign\, and continue looking for volunteers and apartment captains. \nNote the market’s new location\, on Denny between Broadway and 10th! \nRSVP Here!\n  \n 
URL:https://seattledsa.org/event/kshama-solidarity-tabling/
LOCATION:Capitol Hill Farmer’s Market\, E Denny Way between Broadway & 10th Ave E\, Seattle\, WA\, 98112\, United States
ORGANIZER;CN="Seattle%20DSA%20Electoral%20Committee":MAILTO:electoral@seattledsa.org
GEO:47.6154675;-122.3207974
X-APPLE-STRUCTURED-LOCATION;VALUE=URI;X-ADDRESS=Capitol Hill Farmer’s Market E Denny Way between Broadway & 10th Ave E Seattle WA 98112 United States;X-APPLE-RADIUS=500;X-TITLE=E Denny Way between Broadway & 10th Ave E:geo:-122.3207974,47.6154675
END:VEVENT
BEGIN:VEVENT
DTSTART;TZID=America/Los_Angeles:20210405T183000
DTEND;TZID=America/Los_Angeles:20210405T200000
DTSTAMP:20230610T184938
CREATED:20210403T200704Z
LAST-MODIFIED:20210403T200704Z
UID:10005710-1617647400-1617652800@seattledsa.org
SUMMARY:Kshama Solidarity Phonebank 4
DESCRIPTION:Defend Seattle’s socialist city council member! After failing to buy District 3’s city council seat in 2019\, Seattle’s ruling class is attempting a right-wing recall of Kshama Sawant. We won’t let it happen! \nThe Washington Supreme Court just authorized the recall election\, so it’s time to go all-out to defend Kshama. Join us to phone-bank our membership about the Kshama Solidarity campaign. We’ll inform our comrades about the recall effort\, rally volunteers\, and ask for donations.  We’ll also be informing members about our next General Meeting\, with more electoral endorsements pending\, so we can make quorum! \nRSVP HERE!\nWe’ll meet over Zoom for a brief training on our call system\, then hit the phones. Phone-banking is a fun\, easy way to get involved with this campaign. We’ll be talking to our fellow neighborhood socialists\, so expect friendly conversations!
URL:https://seattledsa.org/event/kshama-solidarity-phonebank-4/
LOCATION:Eightball Cafe in Everett\, 2727 Colby Ave\, Everett\, WA\, United States
ORGANIZER;CN="Seattle%20DSA%20Electoral%20Committee":MAILTO:electoral@seattledsa.org
GEO:37.09024;-95.712891
X-APPLE-STRUCTURED-LOCATION;VALUE=URI;X-ADDRESS=Eightball Cafe in Everett 2727 Colby Ave Everett WA United States;X-APPLE-RADIUS=500;X-TITLE=2727 Colby Ave:geo:-95.712891,37.09024
END:VEVENT
BEGIN:VEVENT
DTSTART;TZID=America/Los_Angeles:20210330T170000
DTEND;TZID=America/Los_Angeles:20210330T183000
DTSTAMP:20230610T184938
CREATED:20210329T172055Z
LAST-MODIFIED:20210329T172055Z
UID:10005706-1617123600-1617129000@seattledsa.org
SUMMARY:Kshama Solidarity Subcommittee Meeting
DESCRIPTION:Seattle DSA has endorsed the Kshama Solidarity Campaign\, and we will work to defend our only socialist city council member from the millionaire-funded recall effort coming in 2021. \nWe have formed a committee to lead this effort. Please join us for the next meeting of this committee. We will plan our next activities\, such as tabling in D3! \nPlease RSVP here\, then check your email for a confirmation with Zoom details. \nPlease invite two of your comrades!
URL:https://seattledsa.org/event/kshama-solidarity-subcommittee-meeting-2/
LOCATION:Eightball Cafe in Everett\, 2727 Colby Ave\, Everett\, WA\, United States
ORGANIZER;CN="Seattle%20DSA%20Electoral%20Committee":MAILTO:electoral@seattledsa.org
GEO:37.09024;-95.712891
X-APPLE-STRUCTURED-LOCATION;VALUE=URI;X-ADDRESS=Eightball Cafe in Everett 2727 Colby Ave Everett WA United States;X-APPLE-RADIUS=500;X-TITLE=2727 Colby Ave:geo:-95.712891,37.09024
END:VEVENT
BEGIN:VEVENT
DTSTART;TZID=America/Los_Angeles:20210323T190000
DTEND;TZID=America/Los_Angeles:20210323T200000
DTSTAMP:20230610T184938
CREATED:20210316T063521Z
LAST-MODIFIED:20210316T063521Z
UID:10005697-1616526000-1616529600@seattledsa.org
SUMMARY:Kshama Solidarity Phonebank 3
DESCRIPTION:Defend Seattle’s socialist city council member! After failing to buy District 3’s city council seat in 2019\, Seattle’s ruling class is attempting a right-wing recall of Kshama Sawant. We won’t let it happen! \nJoin us to phone-bank our membership about the Kshama Solidarity campaign. We’ll inform our comrades about the recall effort\, rally volunteers\, and ask for donations. \nRSVP HERE!\nWe’ll meet over Zoom for a brief training on our call system\, then hit the phones. Phone-banking is a fun\, easy way to get involved with this campaign. We’ll be talking to our fellow neighborhood socialists\, so expect friendly conversations! \n  \n 
URL:https://seattledsa.org/event/kshama-solidarity-phonebank-3/
LOCATION:Eightball Cafe in Everett\, 2727 Colby Ave\, Everett\, WA\, United States
ORGANIZER;CN="Seattle%20DSA%20Electoral%20Committee":MAILTO:electoral@seattledsa.org
GEO:37.09024;-95.712891
X-APPLE-STRUCTURED-LOCATION;VALUE=URI;X-ADDRESS=Eightball Cafe in Everett 2727 Colby Ave Everett WA United States;X-APPLE-RADIUS=500;X-TITLE=2727 Colby Ave:geo:-95.712891,37.09024
END:VEVENT
BEGIN:VEVENT
DTSTART;TZID=America/Los_Angeles:20210318T190000
DTEND;TZID=America/Los_Angeles:20210318T210000
DTSTAMP:20230610T184938
CREATED:20210219T070134Z
LAST-MODIFIED:20210219T070134Z
UID:10005668-1616094000-1616101200@seattledsa.org
SUMMARY:March Electoral Committee Meeting
DESCRIPTION:The Seattle DSA Electoral Committee meets on the third Thursday of the month at 7 PM. \nAn agenda will be added shortly. \nPlease RSVP here then check your email for zoom details.
URL:https://seattledsa.org/event/march-electoral-committee-meeting/
LOCATION:On Zoom\, WA\, United States
ORGANIZER;CN="Seattle%20DSA%20Electoral%20Committee":MAILTO:electoral@seattledsa.org
GEO:47.7510741;-120.7401385
END:VEVENT
BEGIN:VEVENT
DTSTART;TZID=America/Los_Angeles:20210228T170000
DTEND;TZID=America/Los_Angeles:20210228T183000
DTSTAMP:20230610T184938
CREATED:20210222T175132Z
LAST-MODIFIED:20210222T193131Z
UID:10005675-1614531600-1614537000@seattledsa.org
SUMMARY:Conversation with Robin Wonsley Worlobah\, BLM Activist & Socialist City Council Candidate in Minneapolis
DESCRIPTION:Robin is an organizer with the Minneapolis teachers union and a leading socialist voice in the Twin Cities BLM movement. She played a central role organizing DSA’s work in the uprising against George Floyd’s murder last year. Robin’s Ward 2 neighborhood was “ground zero” for the police riot and the widespread fires and destruction that followed\, where she organized a mutual aid food distribution center and community-led efforts to rebuild. Out of that work\, and following the Minneapolis City Council’s reversal of their promise to “dismantle” the Minneapolis Police Department\, Robin decided to run for City Council in Ward 2. \nMany Seattle DSA members will remember the inspiring front-line report that Robin gave at our June membership meeting last year. Please join us Sunday in welcoming Robin back to Seattle DSA for a discussion on the ongoing work for racial and economic justice in Minneapolis\, and her campaign for City Council. \nSponsored by the Seattle DSA Electoral Committee. For more information please contact Ty at tytymo __at__  gmail.com \n—–RSVP HERE—– for Zoom details.
URL:https://seattledsa.org/event/conversation-with-robin-wonsley-worlobah-blm-activist-socialist-city-council-candidate-in-minneapolis/
LOCATION:On Zoom\, WA\, United States
ORGANIZER;CN="Seattle%20DSA%20Electoral%20Committee":MAILTO:electoral@seattledsa.org
GEO:47.7510741;-120.7401385
END:VEVENT
END:VCALENDAR