BEGIN:VCALENDAR
VERSION:2.0
PRODID:-//Seattle Democratic Socialists of America - ECPv6.0.13.1//NONSGML v1.0//EN
CALSCALE:GREGORIAN
METHOD:PUBLISH
X-ORIGINAL-URL:https://seattledsa.org
X-WR-CALDESC:Events for Seattle Democratic Socialists of America
REFRESH-INTERVAL;VALUE=DURATION:PT1H
X-Robots-Tag:noindex
X-PUBLISHED-TTL:PT1H
BEGIN:VTIMEZONE
TZID:America/Los_Angeles
BEGIN:DAYLIGHT
TZOFFSETFROM:-0800
TZOFFSETTO:-0700
TZNAME:PDT
DTSTART:20190310T100000
END:DAYLIGHT
BEGIN:STANDARD
TZOFFSETFROM:-0700
TZOFFSETTO:-0800
TZNAME:PST
DTSTART:20191103T090000
END:STANDARD
BEGIN:DAYLIGHT
TZOFFSETFROM:-0800
TZOFFSETTO:-0700
TZNAME:PDT
DTSTART:20200308T100000
END:DAYLIGHT
BEGIN:STANDARD
TZOFFSETFROM:-0700
TZOFFSETTO:-0800
TZNAME:PST
DTSTART:20201101T090000
END:STANDARD
END:VTIMEZONE
BEGIN:VEVENT
DTSTART;TZID=America/Los_Angeles:20201029T183000
DTEND;TZID=America/Los_Angeles:20201029T200000
DTSTAMP:20230610T180517
CREATED:20201020T224607Z
LAST-MODIFIED:20201026T043245Z
UID:10004401-1603996200-1604001600@seattledsa.org
SUMMARY:New Member Recruitment Party
DESCRIPTION:RSVP Here \nAre you interested in building a better\, more equitable world? Are you “socialist curious” or just plain fed up with the current choices available to you this election? DSA might be for you! \nThe Democratic Socialists of America (DSA) is the largest and fastest growing socialist organization in the united states\, with 72\,000 members and over 200 chapters in communities and on campuses across the country and in every state. Together\, we are working to build a mass movement that can stop evictions\, defund the police\, and win Medicare for All\, a Green New Deal\, and so much more. We seek to organize the working class into fights against bosses\, landlords\, corporations\, and corrupt politicians and take back power from them. Our power comes from our strength in numbers\, and when we stand together we can win our transformative demands. \nAt this event\, we’ll discuss this current political moment\, the elections\, the pandemic\, and how we can learn from these to engage in mutual aid and build power for a socialist future in which people come before profits. You’ll also get a chance to hear from some of our caucuses and working groups to find out about the work that DSA is doing right now and how you can contribute! \nCurrent DSA member? Bring your friends to help get them involved too! \nRSVP Here
URL:https://seattledsa.org/event/new-member-recruitment-party/
LOCATION:Online (Zoom Call)\, WA
CATEGORIES:New Member Friendly
ATTACH;FMTTYPE=image/png:https://seattledsa.org/wp-content/uploads/2020/10/Better-World.png
GEO:47.6618326;-122.3425123
END:VEVENT
BEGIN:VEVENT
DTSTART;TZID=America/Los_Angeles:20201018T183000
DTEND;TZID=America/Los_Angeles:20201018T210000
DTSTAMP:20230610T180517
CREATED:20201012T180641Z
LAST-MODIFIED:20201012T181051Z
UID:10005581-1603045800-1603054800@seattledsa.org
SUMMARY:Sherae for State Trivia Fundraiser
DESCRIPTION:Join us this Sunday\, October 18th for a virtual trivia fundraiser for Sherae Lascelles\, running for State Legislature Pos. 2 in the 43rd district. Invite your friends and family to play as a team\, or just bring yourself and we can place you on a team! \nWhy you should come: Not only will trivia be extremely fun\, it will also be a great opportunity to see and play with friends\, new or old\, and family whom you may not be able to see as often due to the pandemic. This will also be an amazing opportunity to learn about and support a local candidate DSA has recently endorsed in a low barrier way. \nAbout Sherae: Sherae Lascelles is a coalition builder\, community legislator\, consultant\, and founding member of Decriminalize Seattle– one of the groups leading the movement to defund SPD and Reinvest in Black Communities. Sherae is also a founder of two direct outreach community orgs\, and is running a campaign of community empowerment and legislation by those most impacted rather than for those who have been systematically disenfranchised in electoral politics. \nOur suggested donation amount to attend is $30.99\, but we encourage you to inventory your privilege when donating and to consider donating to cover the cost of somebody who may not be able to. You do not need to donate to play! \nThis event is open to all. You don’t need to be involved with SDSA and you don’t even need to live in WA! So tell your friends\, tell your families\, tell your roommates\, your coworkers – invite everyone you know to participate in this night of virtual trivia fun and positive impact! \n  \n  \nRSVP here: https://actionnetwork.org/events/seattle-dsa-sherae-for-state-trivia-fundraiser/
URL:https://seattledsa.org/event/sherae-for-state-trivia-fundraiser/
LOCATION:Eightball Cafe in Everett\, 2727 Colby Ave\, Everett\, WA\, United States
CATEGORIES:Community Events,Electoral,General Membership Meeting,New Member Friendly,Socials
ATTACH;FMTTYPE=image/jpeg:https://seattledsa.org/wp-content/uploads/2020/10/sherae-for-state-trivia-fundraiser-oct-18.jpg
GEO:37.09024;-95.712891
X-APPLE-STRUCTURED-LOCATION;VALUE=URI;X-ADDRESS=Eightball Cafe in Everett 2727 Colby Ave Everett WA United States;X-APPLE-RADIUS=500;X-TITLE=2727 Colby Ave:geo:-95.712891,37.09024
END:VEVENT
BEGIN:VEVENT
DTSTART;TZID=America/Los_Angeles:20200715T170000
DTEND;TZID=America/Los_Angeles:20200715T193000
DTSTAMP:20230610T180517
CREATED:20200708T031124Z
LAST-MODIFIED:20200708T031403Z
UID:10005481-1594832400-1594841400@seattledsa.org
SUMMARY:SDSA Electoral Committee Happy Hour
DESCRIPTION:It’s been a minute since Seattle DSA held an electoral meeting and we have a lot to catch up on!  Join us on Wednesday July 15th for a happy hour via zoom! Whether you’re a seasoned vet with several campaigns worth of experience or broke your teeth on the Bernie campaign – we’d love to meet you! Newcomers welcome and DSA curious folks are welcome\, too! \nStop by any time between 5PM and 730PM to introduce yourself to others interested in the local Seattle and King County political scene. You don’t need to commit to the entire meeting time. \nIn this first meeting after the presidential primary we’ll be talking about the following; \n\nour personal experiences on the campaign trail since 2017;\nwhat DSAs involvement in local races has been;\nthe state of socialist electoral politics in Washington right now;\nand what the future holds for SDSA and the Electoral Committee!\n\nWe’re working to revive our electoral committee in preparation for 2021 and beyond – but we can’t do it without you. RSVP here. \n  \nhttps://actionnetwork.org/events/sdsa-electoral-committee-happy-hour
URL:https://seattledsa.org/event/sdsa-electoral-committee-happy-hour/
LOCATION:On Zoom\, WA\, United States
CATEGORIES:Caucus,Electoral,General Membership Meeting,New Member Friendly
ATTACH;FMTTYPE=image/png:https://seattledsa.org/wp-content/uploads/2019/08/banner-happyhr-AGuinn_JThacher.png
GEO:47.7510741;-120.7401385
END:VEVENT
BEGIN:VEVENT
DTSTART;TZID=America/Los_Angeles:20200610T180000
DTEND;TZID=America/Los_Angeles:20200610T193000
DTSTAMP:20230610T180517
CREATED:20200604T202638Z
LAST-MODIFIED:20200604T205010Z
UID:10005397-1591812000-1591817400@seattledsa.org
SUMMARY:SDSA New Member Orientation (online)
DESCRIPTION:Come to learn about what Democratic Socialism is all about\, what we can learn about capitalism and socialism from the current pandemic\, and how YOU can get involved with Seattle DSA’s efforts to engage in mutual aid and building power for a socialist future in which people come before profits. You don’t need to be an official member to attend – “DSA curious” folks are welcome! \nRSVP for zoom information here https://actionnetwork.org/events/online-new-member-orientation-4
URL:https://seattledsa.org/event/sdsa-new-member-orientation-online/
LOCATION:Virtual. RSVP for details\, WA\, United States
CATEGORIES:General Membership Meeting,New Member Friendly
GEO:47.7510741;-120.7401385
END:VEVENT
BEGIN:VEVENT
DTSTART;TZID=America/Los_Angeles:20200606T120000
DTEND;TZID=America/Los_Angeles:20200606T133000
DTSTAMP:20230610T180518
CREATED:20200604T201459Z
LAST-MODIFIED:20200604T204757Z
UID:10005396-1591444800-1591450200@seattledsa.org
SUMMARY:SDSA New Member Orientation (online)
DESCRIPTION:Come to learn about what Democratic Socialism is all about\, what we can learn about capitalism and socialism from the current pandemic\, and how YOU can get involved with Seattle DSA’s efforts to engage in mutual aid and building power for a socialist future in which people come before profits. You don’t need to be an official member to attend – “DSA curious” folks are welcome! \nRSVP for zoom information here https://actionnetwork.org/events/online-new-member-orientation-3
URL:https://seattledsa.org/event/sdsa-online-new-member-orientation/
LOCATION:Virtual. RSVP for details\, WA\, United States
CATEGORIES:General Membership Meeting,New Member Friendly
GEO:47.7510741;-120.7401385
END:VEVENT
BEGIN:VEVENT
DTSTART;TZID=America/Los_Angeles:20200521T180000
DTEND;TZID=America/Los_Angeles:20200521T193000
DTSTAMP:20230610T180518
CREATED:20200511T054416Z
LAST-MODIFIED:20200511T054416Z
UID:10005376-1590084000-1590089400@seattledsa.org
SUMMARY:Bigger than Bernie with Meagan Day and Micah Uetricht
DESCRIPTION:Bigger than Bernie: A panel discussion on building democratic socialism with Meagan Day and Micah Uetricht\nJoin Seattle DSA for a panel with Jacobin’s Meagan Day and Micah Uetricht\, authors of Bigger than Bernie: How We Go from the Sanders Campaign to Democratic Socialism. We’ll discuss the importance of building socialist organizations\, how we bring Bernie supporters into our movement\, and what we can do not to “demobilize” in the wake of Bernie dropping out. \nThe panel is on Thursday\, May 21st from 6 – 7:30 PM. \nThis is a virtual event. Please RSVP here. After registering\, you’ll receive a confirmation email with instructions on how to connect. We can’t wait to see you!
URL:https://seattledsa.org/event/bigger-than-bernie-with-meagan-day-and-micah-uetricht/
LOCATION:Virtual. RSVP for details\, WA\, United States
CATEGORIES:Bernie Sanders,General Membership Meeting,New Member Friendly
ATTACH;FMTTYPE=image/jpeg:https://seattledsa.org/wp-content/uploads/2020/05/bigger-bernie.jpg
GEO:47.7510741;-120.7401385
END:VEVENT
BEGIN:VEVENT
DTSTART;TZID=America/Los_Angeles:20200322T133000
DTEND;TZID=America/Los_Angeles:20200322T163000
DTSTAMP:20230610T180518
CREATED:20191230T155753Z
LAST-MODIFIED:20200320T234043Z
UID:10005043-1584883800-1584894600@seattledsa.org
SUMMARY:Chapter Convention RESCHEDULED to 3/29
DESCRIPTION:
URL:https://seattledsa.org/event/2020-seattle-dsa-chapter-convention/
LOCATION:Online (Zoom Call)\, WA
CATEGORIES:General Membership Meeting
GEO:47.6618326;-122.3425123
END:VEVENT
BEGIN:VEVENT
DTSTART;TZID=America/Los_Angeles:20200216T120000
DTEND;TZID=America/Los_Angeles:20200216T140000
DTSTAMP:20230610T180518
CREATED:20200124T192934Z
LAST-MODIFIED:20200129T173057Z
UID:10005118-1581854400-1581861600@seattledsa.org
SUMMARY:Immigrant Justice Working Group Meeting
DESCRIPTION:The Seattle DSA Immigrant Justice Working Group (IJWG) will be holding its first meeting of 2020 on Sunday February 16th from 12-2pm at the Rainier Beach library. Topics of discussion will include a report back on La Resistencia’s campaign to shut down the Northwest Detention Center\, future educational and solidarity events. New members welcome\, cause when we organize\, we win!
URL:https://seattledsa.org/event/immigrant-justice-working-group-meeting-4/
LOCATION:Rainier Beach Public Library\, 3801 Rainier Ave S\, Seattle\, WA\, United States
CATEGORIES:Immigration Justice,New Member Friendly
ATTACH;FMTTYPE=image/jpeg:https://seattledsa.org/wp-content/uploads/2020/01/abolishic3.jpg
GEO:47.5697685;-122.2907051
X-APPLE-STRUCTURED-LOCATION;VALUE=URI;X-ADDRESS=Rainier Beach Public Library 3801 Rainier Ave S Seattle WA United States;X-APPLE-RADIUS=500;X-TITLE=3801 Rainier Ave S:geo:-122.2907051,47.5697685
END:VEVENT
BEGIN:VEVENT
DTSTART;TZID=America/Los_Angeles:20200207T170000
DTEND;TZID=America/Los_Angeles:20200207T210000
DTSTAMP:20230610T180518
CREATED:20200131T035356Z
LAST-MODIFIED:20200131T035356Z
UID:10005158-1581094800-1581109200@seattledsa.org
SUMMARY:DSA Debate Watch Party!
DESCRIPTION:Bernie’s picking up more steam every day! Come join Seattle Democratic Socialists of America to celebrate our beautiful boy’s imminent victory. Cheer and jeer with your fellow left-of-the-dial north-enders over food and drinks at Elliott Bay Brewing Company. We’ve got a big private room downstairs that holds 100 people and there’ll be a big spread of vegetarian and meaty foods (donations appreciated!) so come hungry. These debate watch parties are a great way to meet left-leaning people in your community and get plugged in to Seattle DSA events — look forward to seeing many of you there!
URL:https://seattledsa.org/event/dsa-debate-watch-party/
LOCATION:Elliott Bay Brewing Company\, 12537 Lake City Way NE\, Seattle\, 98125
CATEGORIES:Bernie Sanders,Community Events,Socials
ATTACH;FMTTYPE=image/jpeg:https://seattledsa.org/wp-content/uploads/2020/01/2020-02-07-debate-watch-poster.jpg
GEO:47.7203828;-122.2950106
X-APPLE-STRUCTURED-LOCATION;VALUE=URI;X-ADDRESS=Elliott Bay Brewing Company 12537 Lake City Way NE Seattle 98125;X-APPLE-RADIUS=500;X-TITLE=12537 Lake City Way NE:geo:-122.2950106,47.7203828
END:VEVENT
BEGIN:VEVENT
DTSTART;TZID=America/Los_Angeles:20200128T070000
DTEND;TZID=America/Los_Angeles:20200131T073000
DTSTAMP:20230610T180518
CREATED:20200127T211956Z
LAST-MODIFIED:20200127T211956Z
UID:10005141-1580194800-1580455800@seattledsa.org
SUMMARY:Seattle DSA stands with SEIU 1199NW!
DESCRIPTION:—-> RSVP HERE <—– \nNurses and healthcare workers at Swedish Medical Center are going on strike January 28 – 30! We encourage all Seattle DSA members who are able to stand with SEIU 1199NW in their fight for a fair contract that addresses severe under-staffing and prioritizes patient safety. To learn more about their strike\, please read this press release from SEIU 1199NW. Better yet\, join the picket line\, ask them about their fight\, and listen to their stories! \nIf you are able\, join the picket line on DAY ONE! The strike begins at 7 AM on Tuesday\, 01/28. The picket lines will run continuously at First Hill\, Cherry Hill\, Ballard\, Edmonds and Issaquah campuses. The picket lines at Redmond and Mill Creek will run from 7 AM to 7 PM. The Edmonds\, Redmond\, or Issaquah pickets in particular need support! \nIf you can’t join us at the march or on the picket line\, if you are able please consider donating to the Swedish Strike Solidarity fund. This fund will help support the workers on strike\, and is especially important for low wage workers who will be most impacted by the loss of pay. \nPicket Line Locations\nJoin any time! Lines are 24hrs per day.\nFirst Hill – 747 Broadway\, Seattle\, WA\nCherry Hill – 500 17th Ave\, Seattle\, WA\nBallard – 5300 Tallman Ave NW\, Seattle\, WA\nEdmonds – 21601 76th Ave W\, Edmonds\, WA\nIssaquah – 751 NE Blakely Dr\, Issaquah\, WA \nJoin between 7 AM and 7 PM.\nRedmond – 18100 NE Union Hill Rd\, Redmond\, WA\nMill Creek – 13020 Meridian Ave S\, Everett\, WA \nGuidelines for joining the picket line\n– We are showing up to support the workers. Ask questions and listen. We are there to support their labor action\, not to promote the chapter.\n– Respect the workers’ plan for the strike. Follow their directions and defer to them while on the line. For example\, learn their chants rather than trying to step in with one of your own.\n– Be aware of media presence. Do not speak on behalf of the workers – step back and let them speak for themselves. Do not speak on behalf of the chapter.\n– Be respectful and kind at all times. \nDonate to the Swedish Solidarity Fund if you are able.\nStay up-to-date by checking the SEIU 1199NW strike page \n—-> Let us know if you can make it! <—–
URL:https://seattledsa.org/event/seattle-dsa-stands-with-seiu-1199nw-2/
LOCATION:Multiple Locations\, WA\, United States
CATEGORIES:Labor,New Member Friendly
GEO:47.7510741;-120.7401385
END:VEVENT
BEGIN:VEVENT
DTSTART;TZID=America/Los_Angeles:20190713T183000
DTEND;TZID=America/Los_Angeles:20190713T220000
DTSTAMP:20230610T180518
CREATED:20190624T215642Z
LAST-MODIFIED:20190624T215642Z
UID:10004580-1563042600-1563055200@seattledsa.org
SUMMARY:Seattle DSA Happy Hour
DESCRIPTION:Come join the Seattle Democratic Socialists for a socialist happy hour at Peddler Brewing! A great event for new and old members alike\, folks who are curious about democratic socialism and everyone in between! Hope to see you there!
URL:https://seattledsa.org/event/seattle-dsa-happy-hour-3/
LOCATION:Peddler Brewing Company\, 1514 NW Leary Way\, Seattle\, WA\, 98107\, United States
CATEGORIES:General Membership Meeting,New Member Friendly,Socials
GEO:47.6638795;-122.3771019
X-APPLE-STRUCTURED-LOCATION;VALUE=URI;X-ADDRESS=Peddler Brewing Company 1514 NW Leary Way Seattle WA 98107 United States;X-APPLE-RADIUS=500;X-TITLE=1514 NW Leary Way:geo:-122.3771019,47.6638795
END:VEVENT
BEGIN:VEVENT
DTSTART;TZID=America/Los_Angeles:20190707T110000
DTEND;TZID=America/Los_Angeles:20190707T150000
DTSTAMP:20230610T180518
CREATED:20190701T221916Z
LAST-MODIFIED:20190702T210044Z
UID:10003927-1562497200-1562511600@seattledsa.org
SUMMARY:DSA Canvass for Shaun Scott
DESCRIPTION:The 13th official DSA canvass for Shaun Scott. Shaun is a DSA member who is running for Seattle City Council District 4 and received the chapter’s endorsement. \nCome and canvass in your DSA swag and let’s get a socialist in City Hall to win affordable housing and Green New Seattle! \nWallingford is a great neighborhood for first-time canvassers; we’re usually done by 3pm and we usually have a quick social afterwards! \nLook forward to seeing you there! \nRSVP here
URL:https://seattledsa.org/event/dsa-canvass-for-shaun-scott-9/
LOCATION:Wallingford Playfield\, 4219 Wallingford Ave N\, Seattle\, WA\, United States
CATEGORIES:Electoral,New Member Friendly
ATTACH;FMTTYPE=image/jpeg:https://seattledsa.org/wp-content/uploads/2019/06/scott.jpg
GEO:47.6586714;-122.3362427
X-APPLE-STRUCTURED-LOCATION;VALUE=URI;X-ADDRESS=Wallingford Playfield 4219 Wallingford Ave N Seattle WA United States;X-APPLE-RADIUS=500;X-TITLE=4219 Wallingford Ave N:geo:-122.3362427,47.6586714
END:VEVENT
END:VCALENDAR