BEGIN:VCALENDAR
VERSION:2.0
PRODID:-//Seattle Democratic Socialists of America - ECPv6.0.13.1//NONSGML v1.0//EN
CALSCALE:GREGORIAN
METHOD:PUBLISH
X-ORIGINAL-URL:https://seattledsa.org
X-WR-CALDESC:Events for Seattle Democratic Socialists of America
REFRESH-INTERVAL;VALUE=DURATION:PT1H
X-Robots-Tag:noindex
X-PUBLISHED-TTL:PT1H
BEGIN:VTIMEZONE
TZID:America/Los_Angeles
BEGIN:DAYLIGHT
TZOFFSETFROM:-0800
TZOFFSETTO:-0700
TZNAME:PDT
DTSTART:20190310T100000
END:DAYLIGHT
BEGIN:STANDARD
TZOFFSETFROM:-0700
TZOFFSETTO:-0800
TZNAME:PST
DTSTART:20191103T090000
END:STANDARD
END:VTIMEZONE
BEGIN:VEVENT
DTSTART;TZID=America/Los_Angeles:20190609T110000
DTEND;TZID=America/Los_Angeles:20190609T150000
DTSTAMP:20230610T175639
CREATED:20190529T022515Z
LAST-MODIFIED:20190614T222348Z
UID:10004472-1560078000-1560092400@seattledsa.org
SUMMARY:DSA canvass for Shaun Scott
DESCRIPTION:The ninth official DSA canvass for Shaun Scott. Shaun is a DSA member who is running for Seattle City Council District 4 and received the chapter’s endorsement. \nCome and canvass in your DSA swag and let’s get a socialist in City Hall to win affordable housing and Green New Seattle! \nCanvassing begins at 11AM with a training; we’re usually done by 3pm with and a social afterwards. \nLook forward to seeing you there! \nRSVP here \n  \n 
URL:https://seattledsa.org/event/dsa-canvass-for-shaun-scott-6/
LOCATION:Gasworks East Entrance\, N Northlake Way and Meridian Ave N\, Seattle\, WA\, 98103\, United States
CATEGORIES:Electoral
ATTACH;FMTTYPE=image/jpeg:https://seattledsa.org/wp-content/uploads/2019/04/scott_glasses.jpg
GEO:47.646874;-122.333913
X-APPLE-STRUCTURED-LOCATION;VALUE=URI;X-ADDRESS=Gasworks East Entrance N Northlake Way and Meridian Ave N Seattle WA 98103 United States;X-APPLE-RADIUS=500;X-TITLE=N Northlake Way and Meridian Ave N:geo:-122.333913,47.646874
END:VEVENT
BEGIN:VEVENT
DTSTART;TZID=America/Los_Angeles:20190602T110000
DTEND;TZID=America/Los_Angeles:20190602T150000
DTSTAMP:20230610T175639
CREATED:20190529T021518Z
LAST-MODIFIED:20190614T222400Z
UID:10004470-1559473200-1559487600@seattledsa.org
SUMMARY:DSA Canvass for Shaun Scott
DESCRIPTION:The eighth official DSA canvass for Shaun Scott. Shaun is a DSA member who is running for Seattle City Council District 4 and received the chapter’s endorsement. \nCome and canvass in your DSA swag and let’s get a socialist in City Hall to win affordable housing and Green New Seattle! \nCanvassing begins at 11AM with a training; we’re usually done by 3pm with and a social afterwards. \nLook forward to seeing you there! \nRSVP here
URL:https://seattledsa.org/event/dsa-canvass-for-shaun-scott-5/
LOCATION:Bryant Neighborhood Playground\, 4103 NE 65th St\, Seattle\, WA\, 98115\, United States
CATEGORIES:Electoral
GEO:47.6752439;-122.2838298
X-APPLE-STRUCTURED-LOCATION;VALUE=URI;X-ADDRESS=Bryant Neighborhood Playground 4103 NE 65th St Seattle WA 98115 United States;X-APPLE-RADIUS=500;X-TITLE=4103 NE 65th St:geo:-122.2838298,47.6752439
END:VEVENT
BEGIN:VEVENT
DTSTART;TZID=America/Los_Angeles:20190413T100000
DTEND;TZID=America/Los_Angeles:20190413T140000
DTSTAMP:20230610T175639
CREATED:20190410T175725Z
LAST-MODIFIED:20190410T175725Z
UID:10003673-1555149600-1555164000@seattledsa.org
SUMMARY:Volunteer Canvass:  🌃❤ Scott 2019 Campaign
DESCRIPTION:As you may have heard\, Shaun Scott is currently in FIRST PLACE CITYWIDE for the most Democracy  Vouchers received (send yours in today!) AND just rolled out his Seattle Green New Deal platform. The campaign is thriving\, and you can continue supporting us by attending our regular volunteer canvass THIS SATURDAY (4/13)! \n  \n \n  \nUpcoming Volunteer Opportunities:\nOur next volunteer canvass will be THIS SATURDAY in Roosevelt! See the details below and PLEASE EMAIL THE CAMPAIGN IF YOU PLAN TO ATTEND. \nCorina: corina@electscott2019.com\nCassandra: cassandra@electscott2019.com \nWhat: Scott 2019 volunteer door canvass\nWhen: Saturday\, April 13th from 10:00am to 2:00pm\nWhere: Roosevelt – meet at Dahl Playfield (7700 25th Ave NE) at 10am and meet back up at Mojito (7545 Lake City Way NE\,) at 2pm.\nWhy: Face-to-face conversations with D4 voters are super important and we need your help to talk to our neighbors about the issues we care about. \n*We will also be adding additional volunteer opportunities this month\, so STAY TUNED!*
URL:https://seattledsa.org/event/volunteer-canvass-%f0%9f%8c%83%e2%9d%a4-scott-2019-campaign/
LOCATION:Dahl Playfield\, 7700 25th Ave NE\, Seattle\, WA\, United States
CATEGORIES:Electoral
GEO:47.6852674;-122.2993101
X-APPLE-STRUCTURED-LOCATION;VALUE=URI;X-ADDRESS=Dahl Playfield 7700 25th Ave NE Seattle WA United States;X-APPLE-RADIUS=500;X-TITLE=7700 25th Ave NE:geo:-122.2993101,47.6852674
END:VEVENT
END:VCALENDAR