BEGIN:VCALENDAR
VERSION:2.0
PRODID:-//Seattle Democratic Socialists of America - ECPv6.0.13.1//NONSGML v1.0//EN
CALSCALE:GREGORIAN
METHOD:PUBLISH
X-WR-CALNAME:Seattle Democratic Socialists of America
X-ORIGINAL-URL:https://seattledsa.org
X-WR-CALDESC:Events for Seattle Democratic Socialists of America
REFRESH-INTERVAL;VALUE=DURATION:PT1H
X-Robots-Tag:noindex
X-PUBLISHED-TTL:PT1H
BEGIN:VTIMEZONE
TZID:America/Los_Angeles
BEGIN:DAYLIGHT
TZOFFSETFROM:-0800
TZOFFSETTO:-0700
TZNAME:PDT
DTSTART:20250309T100000
END:DAYLIGHT
BEGIN:STANDARD
TZOFFSETFROM:-0700
TZOFFSETTO:-0800
TZNAME:PST
DTSTART:20251102T090000
END:STANDARD
END:VTIMEZONE
BEGIN:VEVENT
DTSTART;TZID=America/Los_Angeles:20250316T140000
DTEND;TZID=America/Los_Angeles:20250316T160000
DTSTAMP:20230610T183746
CREATED:20230331T030911Z
LAST-MODIFIED:20230331T031155Z
UID:10007265-1742133600-1742140800@seattledsa.org
SUMMARY:Socialist Soccer!
DESCRIPTION:Come play soccer with fellow socialists and bring your friends! This is a fun\, enjoyable way to get outdoors\, exercise\, and meet friendly socialists as well as other non-socialist soccer enthusiasts! \nAll genders and skill levels are welcome! Safety is our top priority. To participate you must abide by our norms and agreements to avoid injuries and help us take care of one another. \nJoin us at Brighton Playfield in South Seattle. Map: goo.gl/maps/c74cytjrRB1vpT7h7\nWe almost always play on the most southern edge of the field. \nWe confirm if we have enough players each Sunday on a socialist soccer Signal chat. To be added\, download the Signal app\, and email your phone number to ramy@seattledsa.org with a request to be added.
URL:https://seattledsa.org/event/socialist-soccer/2025-03-16/
LOCATION:Seattle\, WA\, United States
CATEGORIES:New Member Friendly,Socials
GEO:47.7510741;-120.7401385
END:VEVENT
BEGIN:VEVENT
DTSTART;TZID=America/Los_Angeles:20250323T140000
DTEND;TZID=America/Los_Angeles:20250323T160000
DTSTAMP:20230610T183746
CREATED:20230331T030911Z
LAST-MODIFIED:20230331T031155Z
UID:10007266-1742738400-1742745600@seattledsa.org
SUMMARY:Socialist Soccer!
DESCRIPTION:Come play soccer with fellow socialists and bring your friends! This is a fun\, enjoyable way to get outdoors\, exercise\, and meet friendly socialists as well as other non-socialist soccer enthusiasts! \nAll genders and skill levels are welcome! Safety is our top priority. To participate you must abide by our norms and agreements to avoid injuries and help us take care of one another. \nJoin us at Brighton Playfield in South Seattle. Map: goo.gl/maps/c74cytjrRB1vpT7h7\nWe almost always play on the most southern edge of the field. \nWe confirm if we have enough players each Sunday on a socialist soccer Signal chat. To be added\, download the Signal app\, and email your phone number to ramy@seattledsa.org with a request to be added.
URL:https://seattledsa.org/event/socialist-soccer/2025-03-23/
LOCATION:Seattle\, WA\, United States
CATEGORIES:New Member Friendly,Socials
GEO:47.7510741;-120.7401385
END:VEVENT
BEGIN:VEVENT
DTSTART;TZID=America/Los_Angeles:20250330T140000
DTEND;TZID=America/Los_Angeles:20250330T160000
DTSTAMP:20230610T183746
CREATED:20230331T030911Z
LAST-MODIFIED:20230331T031155Z
UID:10007267-1743343200-1743350400@seattledsa.org
SUMMARY:Socialist Soccer!
DESCRIPTION:Come play soccer with fellow socialists and bring your friends! This is a fun\, enjoyable way to get outdoors\, exercise\, and meet friendly socialists as well as other non-socialist soccer enthusiasts! \nAll genders and skill levels are welcome! Safety is our top priority. To participate you must abide by our norms and agreements to avoid injuries and help us take care of one another. \nJoin us at Brighton Playfield in South Seattle. Map: goo.gl/maps/c74cytjrRB1vpT7h7\nWe almost always play on the most southern edge of the field. \nWe confirm if we have enough players each Sunday on a socialist soccer Signal chat. To be added\, download the Signal app\, and email your phone number to ramy@seattledsa.org with a request to be added.
URL:https://seattledsa.org/event/socialist-soccer/2025-03-30/
LOCATION:Seattle\, WA\, United States
CATEGORIES:New Member Friendly,Socials
GEO:47.7510741;-120.7401385
END:VEVENT
END:VCALENDAR