BEGIN:VCALENDAR
VERSION:2.0
PRODID:-//Seattle Democratic Socialists of America - ECPv6.0.13.1//NONSGML v1.0//EN
CALSCALE:GREGORIAN
METHOD:PUBLISH
X-ORIGINAL-URL:https://seattledsa.org
X-WR-CALDESC:Events for Seattle Democratic Socialists of America
REFRESH-INTERVAL;VALUE=DURATION:PT1H
X-Robots-Tag:noindex
X-PUBLISHED-TTL:PT1H
BEGIN:VTIMEZONE
TZID:America/Los_Angeles
BEGIN:DAYLIGHT
TZOFFSETFROM:-0800
TZOFFSETTO:-0700
TZNAME:PDT
DTSTART:20230312T100000
END:DAYLIGHT
BEGIN:STANDARD
TZOFFSETFROM:-0700
TZOFFSETTO:-0800
TZNAME:PST
DTSTART:20231105T090000
END:STANDARD
END:VTIMEZONE
BEGIN:VEVENT
DTSTART;TZID=America/Los_Angeles:20230413T190000
DTEND;TZID=America/Los_Angeles:20230413T203000
DTSTAMP:20230610T175954
CREATED:20230404T235331Z
LAST-MODIFIED:20230404T235331Z
UID:10007269-1681412400-1681417800@seattledsa.org
SUMMARY:Women\, Race\, and Class Discussion
DESCRIPTION:Join us as we read and discuss Angela Davis’ groundbreaking book Women\, Race\, and Class. The text offers a Marxist analysis of gender oppression under racial capitalism and it is one of the earliest texts to offer an analysis of gender/racial/class oppression as not only intersecting but as structurally co-constituted. \nFor our first meeting on this book we’ll discuss chapter 3 & 4. RSVP here for the Zoom link. \nThis discussion is organized by the Reproductive Justice Working Group of Seattle DSA.
URL:https://seattledsa.org/event/women-race-and-class-discussion-3/
LOCATION:Seattle\, WA\, United States
CATEGORIES:Abortion,AfroSoc,New Member Friendly,Queer & Feminist,Reading Groups
ATTACH;FMTTYPE=image/jpeg:https://seattledsa.org/wp-content/uploads/2023/02/womenraceandclass.jpg
GEO:47.7510741;-120.7401385
END:VEVENT
BEGIN:VEVENT
DTSTART;TZID=America/Los_Angeles:20230416T140000
DTEND;TZID=America/Los_Angeles:20230416T160000
DTSTAMP:20230610T175954
CREATED:20230331T030911Z
LAST-MODIFIED:20230331T031155Z
UID:10007165-1681653600-1681660800@seattledsa.org
SUMMARY:Socialist Soccer!
DESCRIPTION:Come play soccer with fellow socialists and bring your friends! This is a fun\, enjoyable way to get outdoors\, exercise\, and meet friendly socialists as well as other non-socialist soccer enthusiasts! \nAll genders and skill levels are welcome! Safety is our top priority. To participate you must abide by our norms and agreements to avoid injuries and help us take care of one another. \nJoin us at Brighton Playfield in South Seattle. Map: goo.gl/maps/c74cytjrRB1vpT7h7\nWe almost always play on the most southern edge of the field. \nWe confirm if we have enough players each Sunday on a socialist soccer Signal chat. To be added\, download the Signal app\, and email your phone number to ramy@seattledsa.org with a request to be added.
URL:https://seattledsa.org/event/socialist-soccer/2023-04-16/
LOCATION:Seattle\, WA\, United States
CATEGORIES:New Member Friendly,Socials
GEO:47.7510741;-120.7401385
END:VEVENT
BEGIN:VEVENT
DTSTART;TZID=America/Los_Angeles:20230423T140000
DTEND;TZID=America/Los_Angeles:20230423T160000
DTSTAMP:20230610T175954
CREATED:20230331T030911Z
LAST-MODIFIED:20230331T031155Z
UID:10007166-1682258400-1682265600@seattledsa.org
SUMMARY:Socialist Soccer!
DESCRIPTION:Come play soccer with fellow socialists and bring your friends! This is a fun\, enjoyable way to get outdoors\, exercise\, and meet friendly socialists as well as other non-socialist soccer enthusiasts! \nAll genders and skill levels are welcome! Safety is our top priority. To participate you must abide by our norms and agreements to avoid injuries and help us take care of one another. \nJoin us at Brighton Playfield in South Seattle. Map: goo.gl/maps/c74cytjrRB1vpT7h7\nWe almost always play on the most southern edge of the field. \nWe confirm if we have enough players each Sunday on a socialist soccer Signal chat. To be added\, download the Signal app\, and email your phone number to ramy@seattledsa.org with a request to be added.
URL:https://seattledsa.org/event/socialist-soccer/2023-04-23/
LOCATION:Seattle\, WA\, United States
CATEGORIES:New Member Friendly,Socials
GEO:47.7510741;-120.7401385
END:VEVENT
BEGIN:VEVENT
DTSTART;TZID=America/Los_Angeles:20230424T183000
DTEND;TZID=America/Los_Angeles:20230424T193000
DTSTAMP:20230610T175954
CREATED:20230414T025049Z
LAST-MODIFIED:20230414T043445Z
UID:10007578-1682361000-1682364600@seattledsa.org
SUMMARY:OpenSlides Voting Walkthrough with DSA National
DESCRIPTION:Openslides is a voting tool for deliberative bodies used by large left political parties\, such as SPD and DIE LiNKE in Germany\, unions\, membership organizations\, etc. It is faster\, more efficient\, and more user friendly than the Airtable-voting system we just used\, compliant with our bylaws\, and has both voting and stack functionality. We will be using the OpenSlides voting system for our April General Membership meeting.\n\nWatch a youtube demo of the tool here and check out a supplemental help document from national here\n\n\n\nIf you are able to make it\, we recommend attending the Open Slides voting training from national ahead of our next general membership meeting. If you can’t\, no worries\, as there will be a shorter training at the meeting itself. However\, the more people attend this training\, the easier it will be on staff and our volunteers. \nThis is an online meeting.\nRSVP for Zoom link!\n 
URL:https://seattledsa.org/event/openslides-voting-walkthrough-with-dsa-national/
LOCATION:Seattle\, WA\, United States
CATEGORIES:New Member Friendly
ATTACH;FMTTYPE=image/png:https://seattledsa.org/wp-content/uploads/2023/04/openslides_new.png
GEO:47.7510741;-120.7401385
END:VEVENT
BEGIN:VEVENT
DTSTART;TZID=America/Los_Angeles:20230430T140000
DTEND;TZID=America/Los_Angeles:20230430T160000
DTSTAMP:20230610T175954
CREATED:20230331T030911Z
LAST-MODIFIED:20230331T031155Z
UID:10007167-1682863200-1682870400@seattledsa.org
SUMMARY:Socialist Soccer!
DESCRIPTION:Come play soccer with fellow socialists and bring your friends! This is a fun\, enjoyable way to get outdoors\, exercise\, and meet friendly socialists as well as other non-socialist soccer enthusiasts! \nAll genders and skill levels are welcome! Safety is our top priority. To participate you must abide by our norms and agreements to avoid injuries and help us take care of one another. \nJoin us at Brighton Playfield in South Seattle. Map: goo.gl/maps/c74cytjrRB1vpT7h7\nWe almost always play on the most southern edge of the field. \nWe confirm if we have enough players each Sunday on a socialist soccer Signal chat. To be added\, download the Signal app\, and email your phone number to ramy@seattledsa.org with a request to be added.
URL:https://seattledsa.org/event/socialist-soccer/2023-04-30/
LOCATION:Seattle\, WA\, United States
CATEGORIES:New Member Friendly,Socials
GEO:47.7510741;-120.7401385
END:VEVENT
BEGIN:VEVENT
DTSTART;TZID=America/Los_Angeles:20230502T180000
DTEND;TZID=America/Los_Angeles:20230502T193000
DTSTAMP:20230610T175954
CREATED:20230425T233855Z
LAST-MODIFIED:20230425T233855Z
UID:10007654-1683050400-1683055800@seattledsa.org
SUMMARY:Tech Worker Survey Campaign Kickoff
DESCRIPTION:Come discuss ideas for our cross-workplace tech working organizing campaign about pay transparency and equity! \nRSVP
URL:https://seattledsa.org/event/tech-worker-survey-campaign-kickoff/
LOCATION:Seattle\, WA\, United States
CATEGORIES:Labor,Tech Workers
ATTACH;FMTTYPE=image/png:https://seattledsa.org/wp-content/uploads/2021/07/computer_512.png
GEO:47.7510741;-120.7401385
END:VEVENT
BEGIN:VEVENT
DTSTART;TZID=America/Los_Angeles:20230507T140000
DTEND;TZID=America/Los_Angeles:20230507T160000
DTSTAMP:20230610T175954
CREATED:20230331T030911Z
LAST-MODIFIED:20230331T031155Z
UID:10007168-1683468000-1683475200@seattledsa.org
SUMMARY:Socialist Soccer!
DESCRIPTION:Come play soccer with fellow socialists and bring your friends! This is a fun\, enjoyable way to get outdoors\, exercise\, and meet friendly socialists as well as other non-socialist soccer enthusiasts! \nAll genders and skill levels are welcome! Safety is our top priority. To participate you must abide by our norms and agreements to avoid injuries and help us take care of one another. \nJoin us at Brighton Playfield in South Seattle. Map: goo.gl/maps/c74cytjrRB1vpT7h7\nWe almost always play on the most southern edge of the field. \nWe confirm if we have enough players each Sunday on a socialist soccer Signal chat. To be added\, download the Signal app\, and email your phone number to ramy@seattledsa.org with a request to be added.
URL:https://seattledsa.org/event/socialist-soccer/2023-05-07/
LOCATION:Seattle\, WA\, United States
CATEGORIES:New Member Friendly,Socials
GEO:47.7510741;-120.7401385
END:VEVENT
BEGIN:VEVENT
DTSTART;TZID=America/Los_Angeles:20230514T140000
DTEND;TZID=America/Los_Angeles:20230514T160000
DTSTAMP:20230610T175954
CREATED:20230331T030911Z
LAST-MODIFIED:20230331T031155Z
UID:10007169-1684072800-1684080000@seattledsa.org
SUMMARY:Socialist Soccer!
DESCRIPTION:Come play soccer with fellow socialists and bring your friends! This is a fun\, enjoyable way to get outdoors\, exercise\, and meet friendly socialists as well as other non-socialist soccer enthusiasts! \nAll genders and skill levels are welcome! Safety is our top priority. To participate you must abide by our norms and agreements to avoid injuries and help us take care of one another. \nJoin us at Brighton Playfield in South Seattle. Map: goo.gl/maps/c74cytjrRB1vpT7h7\nWe almost always play on the most southern edge of the field. \nWe confirm if we have enough players each Sunday on a socialist soccer Signal chat. To be added\, download the Signal app\, and email your phone number to ramy@seattledsa.org with a request to be added.
URL:https://seattledsa.org/event/socialist-soccer/2023-05-14/
LOCATION:Seattle\, WA\, United States
CATEGORIES:New Member Friendly,Socials
GEO:47.7510741;-120.7401385
END:VEVENT
BEGIN:VEVENT
DTSTART;TZID=America/Los_Angeles:20230521T140000
DTEND;TZID=America/Los_Angeles:20230521T160000
DTSTAMP:20230610T175954
CREATED:20230331T030911Z
LAST-MODIFIED:20230331T031155Z
UID:10007170-1684677600-1684684800@seattledsa.org
SUMMARY:Socialist Soccer!
DESCRIPTION:Come play soccer with fellow socialists and bring your friends! This is a fun\, enjoyable way to get outdoors\, exercise\, and meet friendly socialists as well as other non-socialist soccer enthusiasts! \nAll genders and skill levels are welcome! Safety is our top priority. To participate you must abide by our norms and agreements to avoid injuries and help us take care of one another. \nJoin us at Brighton Playfield in South Seattle. Map: goo.gl/maps/c74cytjrRB1vpT7h7\nWe almost always play on the most southern edge of the field. \nWe confirm if we have enough players each Sunday on a socialist soccer Signal chat. To be added\, download the Signal app\, and email your phone number to ramy@seattledsa.org with a request to be added.
URL:https://seattledsa.org/event/socialist-soccer/2023-05-21/
LOCATION:Seattle\, WA\, United States
CATEGORIES:New Member Friendly,Socials
GEO:47.7510741;-120.7401385
END:VEVENT
BEGIN:VEVENT
DTSTART;TZID=America/Los_Angeles:20230528T140000
DTEND;TZID=America/Los_Angeles:20230528T160000
DTSTAMP:20230610T175954
CREATED:20230331T030911Z
LAST-MODIFIED:20230331T031155Z
UID:10007171-1685282400-1685289600@seattledsa.org
SUMMARY:Socialist Soccer!
DESCRIPTION:Come play soccer with fellow socialists and bring your friends! This is a fun\, enjoyable way to get outdoors\, exercise\, and meet friendly socialists as well as other non-socialist soccer enthusiasts! \nAll genders and skill levels are welcome! Safety is our top priority. To participate you must abide by our norms and agreements to avoid injuries and help us take care of one another. \nJoin us at Brighton Playfield in South Seattle. Map: goo.gl/maps/c74cytjrRB1vpT7h7\nWe almost always play on the most southern edge of the field. \nWe confirm if we have enough players each Sunday on a socialist soccer Signal chat. To be added\, download the Signal app\, and email your phone number to ramy@seattledsa.org with a request to be added.
URL:https://seattledsa.org/event/socialist-soccer/2023-05-28/
LOCATION:Seattle\, WA\, United States
CATEGORIES:New Member Friendly,Socials
GEO:47.7510741;-120.7401385
END:VEVENT
BEGIN:VEVENT
DTSTART;TZID=America/Los_Angeles:20230601T190000
DTEND;TZID=America/Los_Angeles:20230601T200000
DTSTAMP:20230610T175954
CREATED:20230528T191019Z
LAST-MODIFIED:20230528T191019Z
UID:10007780-1685646000-1685649600@seattledsa.org
SUMMARY:RJWG Budget Meeting
DESCRIPTION:We need to come up with a budget proposal for the coming year to submit as an amendment. We’ll have a starting proposal to look at that we can adjust. Please come and help decide the group’s priorities for the next year! \nRSVP here
URL:https://seattledsa.org/event/rjwg-budget-meeting/
LOCATION:Seattle\, WA\, United States
CATEGORIES:Abortion
GEO:47.7510741;-120.7401385
END:VEVENT
BEGIN:VEVENT
DTSTART;TZID=America/Los_Angeles:20230604T103000
DTEND;TZID=America/Los_Angeles:20230604T170000
DTSTAMP:20230610T175954
CREATED:20230524T013832Z
LAST-MODIFIED:20230524T013834Z
UID:10007774-1685874600-1685898000@seattledsa.org
SUMMARY:Raise the Wage Renton Tabling - QFC
DESCRIPTION:Join us at our weekly Raise The Wage Renton signature gathering table at QFC. \nTalk to retail/service workers and their customers\, meet cool people from around King County who care about workers’ standard of living\, and contribute to a great cause! \nSee you there! \nRSVP Here!
URL:https://seattledsa.org/event/raise-the-wage-renton-tabling-qfc-2/
LOCATION:Seattle\, WA\, United States
ATTACH;FMTTYPE=image/png:https://seattledsa.org/wp-content/uploads/2023/02/rtw-renton-approved-2-THUMBNAIL.png
GEO:47.7510741;-120.7401385
END:VEVENT
BEGIN:VEVENT
DTSTART;TZID=America/Los_Angeles:20230604T140000
DTEND;TZID=America/Los_Angeles:20230604T160000
DTSTAMP:20230610T175954
CREATED:20230331T030911Z
LAST-MODIFIED:20230331T031155Z
UID:10007172-1685887200-1685894400@seattledsa.org
SUMMARY:Socialist Soccer!
DESCRIPTION:Come play soccer with fellow socialists and bring your friends! This is a fun\, enjoyable way to get outdoors\, exercise\, and meet friendly socialists as well as other non-socialist soccer enthusiasts! \nAll genders and skill levels are welcome! Safety is our top priority. To participate you must abide by our norms and agreements to avoid injuries and help us take care of one another. \nJoin us at Brighton Playfield in South Seattle. Map: goo.gl/maps/c74cytjrRB1vpT7h7\nWe almost always play on the most southern edge of the field. \nWe confirm if we have enough players each Sunday on a socialist soccer Signal chat. To be added\, download the Signal app\, and email your phone number to ramy@seattledsa.org with a request to be added.
URL:https://seattledsa.org/event/socialist-soccer/2023-06-04/
LOCATION:Seattle\, WA\, United States
CATEGORIES:New Member Friendly,Socials
GEO:47.7510741;-120.7401385
END:VEVENT
BEGIN:VEVENT
DTSTART;TZID=America/Los_Angeles:20230608T183000
DTEND;TZID=America/Los_Angeles:20230608T183000
DTSTAMP:20230610T175954
CREATED:20230604T202418Z
LAST-MODIFIED:20230604T202936Z
UID:10007823-1686249000-1686249000@seattledsa.org
SUMMARY:D4/D5/Ecosoc Reading Group on Vacation
DESCRIPTION:Regular bi-weekly meeting schedule suspended. Come see us 6/22 (details in that calendar event). In the meantime we’ve swerved technical for the summer.  Consider reading Electrify: An Optimist’s Playbook for Our Clean Energy Future by Saul Griffith\, OR No Miracles Needed: How Today’s Technology Can Save Our Climate and Clean Our Air by Mark Jacobson. Or just come for the discussion 6/22.
URL:https://seattledsa.org/event/d4-d5-ecosoc-reading-group-on-vacation/
LOCATION:Seattle\, WA\, United States
GEO:47.7510741;-120.7401385
END:VEVENT
END:VCALENDAR