BEGIN:VCALENDAR
VERSION:2.0
PRODID:-//Seattle Democratic Socialists of America - ECPv6.0.13.1//NONSGML v1.0//EN
CALSCALE:GREGORIAN
METHOD:PUBLISH
X-WR-CALNAME:Seattle Democratic Socialists of America
X-ORIGINAL-URL:https://seattledsa.org
X-WR-CALDESC:Events for Seattle Democratic Socialists of America
REFRESH-INTERVAL;VALUE=DURATION:PT1H
X-Robots-Tag:noindex
X-PUBLISHED-TTL:PT1H
BEGIN:VTIMEZONE
TZID:America/Los_Angeles
BEGIN:DAYLIGHT
TZOFFSETFROM:-0800
TZOFFSETTO:-0700
TZNAME:PDT
DTSTART:20220313T100000
END:DAYLIGHT
BEGIN:STANDARD
TZOFFSETFROM:-0700
TZOFFSETTO:-0800
TZNAME:PST
DTSTART:20221106T090000
END:STANDARD
BEGIN:DAYLIGHT
TZOFFSETFROM:-0800
TZOFFSETTO:-0700
TZNAME:PDT
DTSTART:20230312T100000
END:DAYLIGHT
BEGIN:STANDARD
TZOFFSETFROM:-0700
TZOFFSETTO:-0800
TZNAME:PST
DTSTART:20231105T090000
END:STANDARD
END:VTIMEZONE
BEGIN:VEVENT
DTSTART;TZID=America/Los_Angeles:20220710T130000
DTEND;TZID=America/Los_Angeles:20220710T140000
DTSTAMP:20230610T184744
CREATED:20220103T014816Z
LAST-MODIFIED:20220107T050103Z
UID:10006248-1657458000-1657461600@seattledsa.org
SUMMARY:Marxist Reading Group
DESCRIPTION:Meeting for the Marxist reading group. New and seasoned readers of Marxist literature welcome! \n  \nFor the kick-off meeting (1/9)\, we’ll be reading The Communist Manifesto. \nKick-off agenda: \n1. Intros and such (10 mins)\n2. Discussion of the Manifesto (40 mins)\n3. Planning future meetings (10 mins) \n  \nRSVP for the first meeting here: https://actionnetwork.org/events/marxist-reading-group/ \nRead the Communist Manifesto online
URL:https://seattledsa.org/event/marxist-reading-group/2022-07-10/
LOCATION:Online\, Seattle\, WA\, United States
CATEGORIES:New Member Friendly,Reading Groups
ATTACH;FMTTYPE=image/jpeg:https://seattledsa.org/wp-content/uploads/2022/01/800px-Karl_Marx_001.jpg
ORGANIZER;CN="Seattle%20Democratic%20Socialists%20of%20America":MAILTO:info@seattledsa.org
GEO:47.7510741;-120.7401385
END:VEVENT
BEGIN:VEVENT
DTSTART;TZID=America/Los_Angeles:20220717T123000
DTEND;TZID=America/Los_Angeles:20220717T140000
DTSTAMP:20230610T184744
CREATED:20210702T143458Z
LAST-MODIFIED:20220717T203639Z
UID:10005901-1658061000-1658066400@seattledsa.org
SUMMARY:Green New Deal and Ecosocialism Meeting
DESCRIPTION:Join us bi-weekly Sunday’s at 12:30 pm to pursue a fair and effective Green New Deal to halt climate change and win environmental justice. We explore ecosocialist theory\, organize with climate groups\, fight for Green New Deal measures at state and local levels\, and are participating in the national DSA’s Green New Deal campaign. Questions? Email greennewdeal@seattledsa.org \nZoom info: https://us02web.zoom.us/j/81706731716?pwd=cHNqNE5qVHNudG1laUYzTWlVUnhNQT09 \nJoin by phone: 253 215 8782 \nMeeting ID: 817 0673 1716\nPasscode: 784159
URL:https://seattledsa.org/event/green-new-deal-and-ecosocialsm-meeting/2022-07-17/
LOCATION:Online\, Seattle\, WA\, United States
CATEGORIES:Ecosocialism,Green New Deal,New Member Friendly
ATTACH;FMTTYPE=image/png:https://seattledsa.org/wp-content/uploads/2022/01/sdsa_green_new_deal_and_ecosocialism_caucus.png
GEO:47.7510741;-120.7401385
END:VEVENT
BEGIN:VEVENT
DTSTART;TZID=America/Los_Angeles:20220718T180000
DTEND;TZID=America/Los_Angeles:20220718T190000
DTSTAMP:20230610T184744
CREATED:20220228T195727Z
LAST-MODIFIED:20220717T043737Z
UID:10005138-1658167200-1658170800@seattledsa.org
SUMMARY:Starbucks Subcom Meeting
DESCRIPTION:Labor working group subcommittee meeting to organize Starbucks campaign. Stand in solidarity with starbucks workers as they fight for unions all over the country and help organize events for our Starbucks Solidarity campaign! \n\n\nRSVP for Zoom Information
URL:https://seattledsa.org/event/starbucks-subcom-meeting-2022-03-14-2022-07-18/
LOCATION:Online\, Seattle\, WA\, United States
CATEGORIES:New Member Friendly
ATTACH;FMTTYPE=image/jpeg:https://seattledsa.org/wp-content/uploads/2022/05/017109CB-12C4-454B-9098-238EAF8B2467.jpeg
GEO:47.7510741;-120.7401385
END:VEVENT
BEGIN:VEVENT
DTSTART;TZID=America/Los_Angeles:20220724T130000
DTEND;TZID=America/Los_Angeles:20220724T140000
DTSTAMP:20230610T184744
CREATED:20220103T014816Z
LAST-MODIFIED:20220107T050103Z
UID:10006249-1658667600-1658671200@seattledsa.org
SUMMARY:Marxist Reading Group
DESCRIPTION:Meeting for the Marxist reading group. New and seasoned readers of Marxist literature welcome! \n  \nFor the kick-off meeting (1/9)\, we’ll be reading The Communist Manifesto. \nKick-off agenda: \n1. Intros and such (10 mins)\n2. Discussion of the Manifesto (40 mins)\n3. Planning future meetings (10 mins) \n  \nRSVP for the first meeting here: https://actionnetwork.org/events/marxist-reading-group/ \nRead the Communist Manifesto online
URL:https://seattledsa.org/event/marxist-reading-group/2022-07-24/
LOCATION:Online\, Seattle\, WA\, United States
CATEGORIES:New Member Friendly,Reading Groups
ATTACH;FMTTYPE=image/jpeg:https://seattledsa.org/wp-content/uploads/2022/01/800px-Karl_Marx_001.jpg
ORGANIZER;CN="Seattle%20Democratic%20Socialists%20of%20America":MAILTO:info@seattledsa.org
GEO:47.7510741;-120.7401385
END:VEVENT
BEGIN:VEVENT
DTSTART;TZID=America/Los_Angeles:20220801T180000
DTEND;TZID=America/Los_Angeles:20220801T190000
DTSTAMP:20230610T184744
CREATED:20220228T195727Z
LAST-MODIFIED:20220802T011925Z
UID:10005140-1659376800-1659380400@seattledsa.org
SUMMARY:*CANCELLED* Starbucks Subcom Meeting
DESCRIPTION:Labor working group subcommittee meeting to organize Starbucks campaign. Stand in solidarity with starbucks workers as they fight for unions all over the country and help organize events for our Starbucks Solidarity campaign! \n  \nThis meeting has been canceled so that people can attend the national Starbucks Solidarity call \n\n\nRSVP for Zoom Information
URL:https://seattledsa.org/event/starbucks-subcom-meeting-2022-03-14-2022-08-01/
LOCATION:Online\, Seattle\, WA\, United States
CATEGORIES:New Member Friendly
ATTACH;FMTTYPE=image/jpeg:https://seattledsa.org/wp-content/uploads/2022/05/017109CB-12C4-454B-9098-238EAF8B2467.jpeg
GEO:47.7510741;-120.7401385
END:VEVENT
BEGIN:VEVENT
DTSTART;TZID=America/Los_Angeles:20220803T180000
DTEND;TZID=America/Los_Angeles:20220803T190000
DTSTAMP:20230610T184744
CREATED:20220726T212548Z
LAST-MODIFIED:20220726T212548Z
UID:10006552-1659549600-1659553200@seattledsa.org
SUMMARY:Member Engagement Committee Meeting
DESCRIPTION:The Member Engagement Committee is meeting to check in and discuss current projects. \n  \nRSVP Here: https://actionnetwork.org/events/member-engagement-committee-meeting-4/
URL:https://seattledsa.org/event/member-engagement-committee-meeting-3/
LOCATION:Online\, Seattle\, WA\, United States
CATEGORIES:Member Engagement Team
GEO:47.7510741;-120.7401385
END:VEVENT
BEGIN:VEVENT
DTSTART;TZID=America/Los_Angeles:20220807T130000
DTEND;TZID=America/Los_Angeles:20220807T140000
DTSTAMP:20230610T184744
CREATED:20220103T014816Z
LAST-MODIFIED:20220107T050103Z
UID:10006250-1659877200-1659880800@seattledsa.org
SUMMARY:Marxist Reading Group
DESCRIPTION:Meeting for the Marxist reading group. New and seasoned readers of Marxist literature welcome! \n  \nFor the kick-off meeting (1/9)\, we’ll be reading The Communist Manifesto. \nKick-off agenda: \n1. Intros and such (10 mins)\n2. Discussion of the Manifesto (40 mins)\n3. Planning future meetings (10 mins) \n  \nRSVP for the first meeting here: https://actionnetwork.org/events/marxist-reading-group/ \nRead the Communist Manifesto online
URL:https://seattledsa.org/event/marxist-reading-group/2022-08-07/
LOCATION:Online\, Seattle\, WA\, United States
CATEGORIES:New Member Friendly,Reading Groups
ATTACH;FMTTYPE=image/jpeg:https://seattledsa.org/wp-content/uploads/2022/01/800px-Karl_Marx_001.jpg
ORGANIZER;CN="Seattle%20Democratic%20Socialists%20of%20America":MAILTO:info@seattledsa.org
GEO:47.7510741;-120.7401385
END:VEVENT
BEGIN:VEVENT
DTSTART;TZID=America/Los_Angeles:20220821T130000
DTEND;TZID=America/Los_Angeles:20220821T140000
DTSTAMP:20230610T184744
CREATED:20220103T014816Z
LAST-MODIFIED:20220107T050103Z
UID:10006251-1661086800-1661090400@seattledsa.org
SUMMARY:Marxist Reading Group
DESCRIPTION:Meeting for the Marxist reading group. New and seasoned readers of Marxist literature welcome! \n  \nFor the kick-off meeting (1/9)\, we’ll be reading The Communist Manifesto. \nKick-off agenda: \n1. Intros and such (10 mins)\n2. Discussion of the Manifesto (40 mins)\n3. Planning future meetings (10 mins) \n  \nRSVP for the first meeting here: https://actionnetwork.org/events/marxist-reading-group/ \nRead the Communist Manifesto online
URL:https://seattledsa.org/event/marxist-reading-group/2022-08-21/
LOCATION:Online\, Seattle\, WA\, United States
CATEGORIES:New Member Friendly,Reading Groups
ATTACH;FMTTYPE=image/jpeg:https://seattledsa.org/wp-content/uploads/2022/01/800px-Karl_Marx_001.jpg
ORGANIZER;CN="Seattle%20Democratic%20Socialists%20of%20America":MAILTO:info@seattledsa.org
GEO:47.7510741;-120.7401385
END:VEVENT
BEGIN:VEVENT
DTSTART;TZID=America/Los_Angeles:20220904T130000
DTEND;TZID=America/Los_Angeles:20220904T140000
DTSTAMP:20230610T184744
CREATED:20220103T014816Z
LAST-MODIFIED:20220107T050103Z
UID:10006252-1662296400-1662300000@seattledsa.org
SUMMARY:Marxist Reading Group
DESCRIPTION:Meeting for the Marxist reading group. New and seasoned readers of Marxist literature welcome! \n  \nFor the kick-off meeting (1/9)\, we’ll be reading The Communist Manifesto. \nKick-off agenda: \n1. Intros and such (10 mins)\n2. Discussion of the Manifesto (40 mins)\n3. Planning future meetings (10 mins) \n  \nRSVP for the first meeting here: https://actionnetwork.org/events/marxist-reading-group/ \nRead the Communist Manifesto online
URL:https://seattledsa.org/event/marxist-reading-group/2022-09-04/
LOCATION:Online\, Seattle\, WA\, United States
CATEGORIES:New Member Friendly,Reading Groups
ATTACH;FMTTYPE=image/jpeg:https://seattledsa.org/wp-content/uploads/2022/01/800px-Karl_Marx_001.jpg
ORGANIZER;CN="Seattle%20Democratic%20Socialists%20of%20America":MAILTO:info@seattledsa.org
GEO:47.7510741;-120.7401385
END:VEVENT
BEGIN:VEVENT
DTSTART;TZID=America/Los_Angeles:20220918T130000
DTEND;TZID=America/Los_Angeles:20220918T140000
DTSTAMP:20230610T184744
CREATED:20220103T014816Z
LAST-MODIFIED:20220107T050103Z
UID:10006253-1663506000-1663509600@seattledsa.org
SUMMARY:Marxist Reading Group
DESCRIPTION:Meeting for the Marxist reading group. New and seasoned readers of Marxist literature welcome! \n  \nFor the kick-off meeting (1/9)\, we’ll be reading The Communist Manifesto. \nKick-off agenda: \n1. Intros and such (10 mins)\n2. Discussion of the Manifesto (40 mins)\n3. Planning future meetings (10 mins) \n  \nRSVP for the first meeting here: https://actionnetwork.org/events/marxist-reading-group/ \nRead the Communist Manifesto online
URL:https://seattledsa.org/event/marxist-reading-group/2022-09-18/
LOCATION:Online\, Seattle\, WA\, United States
CATEGORIES:New Member Friendly,Reading Groups
ATTACH;FMTTYPE=image/jpeg:https://seattledsa.org/wp-content/uploads/2022/01/800px-Karl_Marx_001.jpg
ORGANIZER;CN="Seattle%20Democratic%20Socialists%20of%20America":MAILTO:info@seattledsa.org
GEO:47.7510741;-120.7401385
END:VEVENT
BEGIN:VEVENT
DTSTART;TZID=America/Los_Angeles:20221002T130000
DTEND;TZID=America/Los_Angeles:20221002T140000
DTSTAMP:20230610T184744
CREATED:20220103T014816Z
LAST-MODIFIED:20220107T050103Z
UID:10006254-1664715600-1664719200@seattledsa.org
SUMMARY:Marxist Reading Group
DESCRIPTION:Meeting for the Marxist reading group. New and seasoned readers of Marxist literature welcome! \n  \nFor the kick-off meeting (1/9)\, we’ll be reading The Communist Manifesto. \nKick-off agenda: \n1. Intros and such (10 mins)\n2. Discussion of the Manifesto (40 mins)\n3. Planning future meetings (10 mins) \n  \nRSVP for the first meeting here: https://actionnetwork.org/events/marxist-reading-group/ \nRead the Communist Manifesto online
URL:https://seattledsa.org/event/marxist-reading-group/2022-10-02/
LOCATION:Online\, Seattle\, WA\, United States
CATEGORIES:New Member Friendly,Reading Groups
ATTACH;FMTTYPE=image/jpeg:https://seattledsa.org/wp-content/uploads/2022/01/800px-Karl_Marx_001.jpg
ORGANIZER;CN="Seattle%20Democratic%20Socialists%20of%20America":MAILTO:info@seattledsa.org
GEO:47.7510741;-120.7401385
END:VEVENT
BEGIN:VEVENT
DTSTART;TZID=America/Los_Angeles:20221016T130000
DTEND;TZID=America/Los_Angeles:20221016T140000
DTSTAMP:20230610T184744
CREATED:20220103T014816Z
LAST-MODIFIED:20220107T050103Z
UID:10006255-1665925200-1665928800@seattledsa.org
SUMMARY:Marxist Reading Group
DESCRIPTION:Meeting for the Marxist reading group. New and seasoned readers of Marxist literature welcome! \n  \nFor the kick-off meeting (1/9)\, we’ll be reading The Communist Manifesto. \nKick-off agenda: \n1. Intros and such (10 mins)\n2. Discussion of the Manifesto (40 mins)\n3. Planning future meetings (10 mins) \n  \nRSVP for the first meeting here: https://actionnetwork.org/events/marxist-reading-group/ \nRead the Communist Manifesto online
URL:https://seattledsa.org/event/marxist-reading-group/2022-10-16/
LOCATION:Online\, Seattle\, WA\, United States
CATEGORIES:New Member Friendly,Reading Groups
ATTACH;FMTTYPE=image/jpeg:https://seattledsa.org/wp-content/uploads/2022/01/800px-Karl_Marx_001.jpg
ORGANIZER;CN="Seattle%20Democratic%20Socialists%20of%20America":MAILTO:info@seattledsa.org
GEO:47.7510741;-120.7401385
END:VEVENT
BEGIN:VEVENT
DTSTART;TZID=America/Los_Angeles:20221030T130000
DTEND;TZID=America/Los_Angeles:20221030T140000
DTSTAMP:20230610T184744
CREATED:20220103T014816Z
LAST-MODIFIED:20220107T050103Z
UID:10006256-1667134800-1667138400@seattledsa.org
SUMMARY:Marxist Reading Group
DESCRIPTION:Meeting for the Marxist reading group. New and seasoned readers of Marxist literature welcome! \n  \nFor the kick-off meeting (1/9)\, we’ll be reading The Communist Manifesto. \nKick-off agenda: \n1. Intros and such (10 mins)\n2. Discussion of the Manifesto (40 mins)\n3. Planning future meetings (10 mins) \n  \nRSVP for the first meeting here: https://actionnetwork.org/events/marxist-reading-group/ \nRead the Communist Manifesto online
URL:https://seattledsa.org/event/marxist-reading-group/2022-10-30/
LOCATION:Online\, Seattle\, WA\, United States
CATEGORIES:New Member Friendly,Reading Groups
ATTACH;FMTTYPE=image/jpeg:https://seattledsa.org/wp-content/uploads/2022/01/800px-Karl_Marx_001.jpg
ORGANIZER;CN="Seattle%20Democratic%20Socialists%20of%20America":MAILTO:info@seattledsa.org
GEO:47.7510741;-120.7401385
END:VEVENT
BEGIN:VEVENT
DTSTART;TZID=America/Los_Angeles:20221113T130000
DTEND;TZID=America/Los_Angeles:20221113T140000
DTSTAMP:20230610T184744
CREATED:20220103T014816Z
LAST-MODIFIED:20220107T050103Z
UID:10006257-1668344400-1668348000@seattledsa.org
SUMMARY:Marxist Reading Group
DESCRIPTION:Meeting for the Marxist reading group. New and seasoned readers of Marxist literature welcome! \n  \nFor the kick-off meeting (1/9)\, we’ll be reading The Communist Manifesto. \nKick-off agenda: \n1. Intros and such (10 mins)\n2. Discussion of the Manifesto (40 mins)\n3. Planning future meetings (10 mins) \n  \nRSVP for the first meeting here: https://actionnetwork.org/events/marxist-reading-group/ \nRead the Communist Manifesto online
URL:https://seattledsa.org/event/marxist-reading-group/2022-11-13/
LOCATION:Online\, Seattle\, WA\, United States
CATEGORIES:New Member Friendly,Reading Groups
ATTACH;FMTTYPE=image/jpeg:https://seattledsa.org/wp-content/uploads/2022/01/800px-Karl_Marx_001.jpg
ORGANIZER;CN="Seattle%20Democratic%20Socialists%20of%20America":MAILTO:info@seattledsa.org
GEO:47.7510741;-120.7401385
END:VEVENT
BEGIN:VEVENT
DTSTART;TZID=America/Los_Angeles:20221127T130000
DTEND;TZID=America/Los_Angeles:20221127T140000
DTSTAMP:20230610T184744
CREATED:20220103T014816Z
LAST-MODIFIED:20220107T050103Z
UID:10006258-1669554000-1669557600@seattledsa.org
SUMMARY:Marxist Reading Group
DESCRIPTION:Meeting for the Marxist reading group. New and seasoned readers of Marxist literature welcome! \n  \nFor the kick-off meeting (1/9)\, we’ll be reading The Communist Manifesto. \nKick-off agenda: \n1. Intros and such (10 mins)\n2. Discussion of the Manifesto (40 mins)\n3. Planning future meetings (10 mins) \n  \nRSVP for the first meeting here: https://actionnetwork.org/events/marxist-reading-group/ \nRead the Communist Manifesto online
URL:https://seattledsa.org/event/marxist-reading-group/2022-11-27/
LOCATION:Online\, Seattle\, WA\, United States
CATEGORIES:New Member Friendly,Reading Groups
ATTACH;FMTTYPE=image/jpeg:https://seattledsa.org/wp-content/uploads/2022/01/800px-Karl_Marx_001.jpg
ORGANIZER;CN="Seattle%20Democratic%20Socialists%20of%20America":MAILTO:info@seattledsa.org
GEO:47.7510741;-120.7401385
END:VEVENT
BEGIN:VEVENT
DTSTART;TZID=America/Los_Angeles:20221211T130000
DTEND;TZID=America/Los_Angeles:20221211T140000
DTSTAMP:20230610T184745
CREATED:20220103T014816Z
LAST-MODIFIED:20220107T050103Z
UID:10006259-1670763600-1670767200@seattledsa.org
SUMMARY:Marxist Reading Group
DESCRIPTION:Meeting for the Marxist reading group. New and seasoned readers of Marxist literature welcome! \n  \nFor the kick-off meeting (1/9)\, we’ll be reading The Communist Manifesto. \nKick-off agenda: \n1. Intros and such (10 mins)\n2. Discussion of the Manifesto (40 mins)\n3. Planning future meetings (10 mins) \n  \nRSVP for the first meeting here: https://actionnetwork.org/events/marxist-reading-group/ \nRead the Communist Manifesto online
URL:https://seattledsa.org/event/marxist-reading-group/2022-12-11/
LOCATION:Online\, Seattle\, WA\, United States
CATEGORIES:New Member Friendly,Reading Groups
ATTACH;FMTTYPE=image/jpeg:https://seattledsa.org/wp-content/uploads/2022/01/800px-Karl_Marx_001.jpg
ORGANIZER;CN="Seattle%20Democratic%20Socialists%20of%20America":MAILTO:info@seattledsa.org
GEO:47.7510741;-120.7401385
END:VEVENT
BEGIN:VEVENT
DTSTART;TZID=America/Los_Angeles:20221225T130000
DTEND;TZID=America/Los_Angeles:20221225T140000
DTSTAMP:20230610T184745
CREATED:20220103T014816Z
LAST-MODIFIED:20220107T050103Z
UID:10006260-1671973200-1671976800@seattledsa.org
SUMMARY:Marxist Reading Group
DESCRIPTION:Meeting for the Marxist reading group. New and seasoned readers of Marxist literature welcome! \n  \nFor the kick-off meeting (1/9)\, we’ll be reading The Communist Manifesto. \nKick-off agenda: \n1. Intros and such (10 mins)\n2. Discussion of the Manifesto (40 mins)\n3. Planning future meetings (10 mins) \n  \nRSVP for the first meeting here: https://actionnetwork.org/events/marxist-reading-group/ \nRead the Communist Manifesto online
URL:https://seattledsa.org/event/marxist-reading-group/2022-12-25/
LOCATION:Online\, Seattle\, WA\, United States
CATEGORIES:New Member Friendly,Reading Groups
ATTACH;FMTTYPE=image/jpeg:https://seattledsa.org/wp-content/uploads/2022/01/800px-Karl_Marx_001.jpg
ORGANIZER;CN="Seattle%20Democratic%20Socialists%20of%20America":MAILTO:info@seattledsa.org
GEO:47.7510741;-120.7401385
END:VEVENT
BEGIN:VEVENT
DTSTART;TZID=America/Los_Angeles:20230108T130000
DTEND;TZID=America/Los_Angeles:20230108T140000
DTSTAMP:20230610T184745
CREATED:20220103T014816Z
LAST-MODIFIED:20220107T050103Z
UID:10006261-1673182800-1673186400@seattledsa.org
SUMMARY:Marxist Reading Group
DESCRIPTION:Meeting for the Marxist reading group. New and seasoned readers of Marxist literature welcome! \n  \nFor the kick-off meeting (1/9)\, we’ll be reading The Communist Manifesto. \nKick-off agenda: \n1. Intros and such (10 mins)\n2. Discussion of the Manifesto (40 mins)\n3. Planning future meetings (10 mins) \n  \nRSVP for the first meeting here: https://actionnetwork.org/events/marxist-reading-group/ \nRead the Communist Manifesto online
URL:https://seattledsa.org/event/marxist-reading-group/2023-01-08/
LOCATION:Online\, Seattle\, WA\, United States
CATEGORIES:New Member Friendly,Reading Groups
ATTACH;FMTTYPE=image/jpeg:https://seattledsa.org/wp-content/uploads/2022/01/800px-Karl_Marx_001.jpg
ORGANIZER;CN="Seattle%20Democratic%20Socialists%20of%20America":MAILTO:info@seattledsa.org
GEO:47.7510741;-120.7401385
END:VEVENT
END:VCALENDAR