BEGIN:VCALENDAR
VERSION:2.0
PRODID:-//Seattle Democratic Socialists of America - ECPv6.0.13.1//NONSGML v1.0//EN
CALSCALE:GREGORIAN
METHOD:PUBLISH
X-WR-CALNAME:Seattle Democratic Socialists of America
X-ORIGINAL-URL:https://seattledsa.org
X-WR-CALDESC:Events for Seattle Democratic Socialists of America
REFRESH-INTERVAL;VALUE=DURATION:PT1H
X-Robots-Tag:noindex
X-PUBLISHED-TTL:PT1H
BEGIN:VTIMEZONE
TZID:America/Los_Angeles
BEGIN:DAYLIGHT
TZOFFSETFROM:-0800
TZOFFSETTO:-0700
TZNAME:PDT
DTSTART:20170312T100000
END:DAYLIGHT
BEGIN:STANDARD
TZOFFSETFROM:-0700
TZOFFSETTO:-0800
TZNAME:PST
DTSTART:20171105T090000
END:STANDARD
END:VTIMEZONE
BEGIN:VEVENT
DTSTART;TZID=America/Los_Angeles:20171017T170000
DTEND;TZID=America/Los_Angeles:20171017T200000
DTSTAMP:20230610T164241
CREATED:20170928T223446Z
LAST-MODIFIED:20170928T224909Z
UID:10003660-1508259600-1508270400@seattledsa.org
SUMMARY:Phone Bank for Jon Grant
DESCRIPTION:We need your help calling thousands of voters by November! Please bring a computer\, cell phone\, and headphones if you can. Contact shaun@electjongrant.com to let us know you’re coming.
URL:https://seattledsa.org/event/phone-bank-for-jon-grant-11/
LOCATION:715 S Lane St\, Seattle\, WA 98104\, USA
CATEGORIES:General Membership Meeting
END:VEVENT
BEGIN:VEVENT
DTSTART;TZID=America/Los_Angeles:20171018T170000
DTEND;TZID=America/Los_Angeles:20171018T200000
DTSTAMP:20230610T164241
CREATED:20170928T223446Z
LAST-MODIFIED:20170928T224917Z
UID:10003407-1508346000-1508356800@seattledsa.org
SUMMARY:Phone Bank for Jon Grant
DESCRIPTION:
URL:https://seattledsa.org/event/phone-bank-for-jon-grant-12/
LOCATION:715 S Lane St\, Seattle\, WA 98104\, USA
CATEGORIES:General Membership Meeting
END:VEVENT
BEGIN:VEVENT
DTSTART;TZID=America/Los_Angeles:20171019T170000
DTEND;TZID=America/Los_Angeles:20171019T200000
DTSTAMP:20230610T164241
CREATED:20170928T223446Z
LAST-MODIFIED:20170928T224939Z
UID:10003409-1508432400-1508443200@seattledsa.org
SUMMARY:Phone Bank for Jon Grant
DESCRIPTION:We need your help calling thousands of voters by November! Please bring a computer\, cell phone\, and headphones if you can. Contact shaun@electjongrant.com to let us know you’re coming.
URL:https://seattledsa.org/event/phone-bank-for-jon-grant-13/
LOCATION:715 S Lane St\, Seattle\, WA 98104\, USA
CATEGORIES:General Membership Meeting
END:VEVENT
BEGIN:VEVENT
DTSTART;TZID=America/Los_Angeles:20171023T170000
DTEND;TZID=America/Los_Angeles:20171023T200000
DTSTAMP:20230610T164241
CREATED:20170928T223446Z
LAST-MODIFIED:20170928T224933Z
UID:10003417-1508778000-1508788800@seattledsa.org
SUMMARY:Phone Bank for Jon Grant
DESCRIPTION:
URL:https://seattledsa.org/event/phone-bank-for-jon-grant-14/
LOCATION:715 S Lane St\, Seattle\, WA 98104\, USA
CATEGORIES:General Membership Meeting
END:VEVENT
BEGIN:VEVENT
DTSTART;TZID=America/Los_Angeles:20171024T170000
DTEND;TZID=America/Los_Angeles:20171024T200000
DTSTAMP:20230610T164241
CREATED:20170928T223446Z
LAST-MODIFIED:20170928T224951Z
UID:10003419-1508864400-1508875200@seattledsa.org
SUMMARY:Phone Bank for Jon Grant
DESCRIPTION:We need your help calling thousands of voters by November! Please bring a computer\, cell phone\, and headphones if you can. Contact shaun@electjongrant.com to let us know you’re coming.
URL:https://seattledsa.org/event/phone-bank-for-jon-grant-15/
LOCATION:715 S Lane St\, Seattle\, WA 98104\, USA
CATEGORIES:General Membership Meeting
END:VEVENT
BEGIN:VEVENT
DTSTART;TZID=America/Los_Angeles:20171025T170000
DTEND;TZID=America/Los_Angeles:20171025T200000
DTSTAMP:20230610T164241
CREATED:20170928T223446Z
LAST-MODIFIED:20170928T224959Z
UID:10003423-1508950800-1508961600@seattledsa.org
SUMMARY:Phone Bank for Jon Grant
DESCRIPTION:
URL:https://seattledsa.org/event/phone-bank-for-jon-grant-16/
LOCATION:715 S Lane St\, Seattle\, WA 98104\, USA
CATEGORIES:General Membership Meeting
END:VEVENT
BEGIN:VEVENT
DTSTART;TZID=America/Los_Angeles:20171026T170000
DTEND;TZID=America/Los_Angeles:20171026T200000
DTSTAMP:20230610T164241
CREATED:20170928T223446Z
LAST-MODIFIED:20170928T225008Z
UID:10003665-1509037200-1509048000@seattledsa.org
SUMMARY:Phone Bank for Jon Grant
DESCRIPTION:We need your help calling thousands of voters by November! Please bring a computer\, cell phone\, and headphones if you can. Contact shaun@electjongrant.com to let us know you’re coming.
URL:https://seattledsa.org/event/phone-bank-for-jon-grant-17/
LOCATION:715 S Lane St\, Seattle\, WA 98104\, USA
CATEGORIES:General Membership Meeting
END:VEVENT
END:VCALENDAR