BEGIN:VCALENDAR
VERSION:2.0
PRODID:-//Seattle Democratic Socialists of America - ECPv6.0.13.1//NONSGML v1.0//EN
CALSCALE:GREGORIAN
METHOD:PUBLISH
X-ORIGINAL-URL:https://seattledsa.org
X-WR-CALDESC:Events for Seattle Democratic Socialists of America
REFRESH-INTERVAL;VALUE=DURATION:PT1H
X-Robots-Tag:noindex
X-PUBLISHED-TTL:PT1H
BEGIN:VTIMEZONE
TZID:America/Los_Angeles
BEGIN:DAYLIGHT
TZOFFSETFROM:-0800
TZOFFSETTO:-0700
TZNAME:PDT
DTSTART:20190310T100000
END:DAYLIGHT
BEGIN:STANDARD
TZOFFSETFROM:-0700
TZOFFSETTO:-0800
TZNAME:PST
DTSTART:20191103T090000
END:STANDARD
BEGIN:DAYLIGHT
TZOFFSETFROM:-0800
TZOFFSETTO:-0700
TZNAME:PDT
DTSTART:20200308T100000
END:DAYLIGHT
BEGIN:STANDARD
TZOFFSETFROM:-0700
TZOFFSETTO:-0800
TZNAME:PST
DTSTART:20201101T090000
END:STANDARD
END:VTIMEZONE
BEGIN:VEVENT
DTSTART;TZID=America/Los_Angeles:20190818T130000
DTEND;TZID=America/Los_Angeles:20190818T153000
DTSTAMP:20230610T173210
CREATED:20190709T231629Z
LAST-MODIFIED:20190709T232720Z
UID:10004598-1566133200-1566142200@seattledsa.org
SUMMARY:SDSA Ecosocialist Caucus Meeting 🌹
DESCRIPTION:Let’s sharpen our thinking and build a powerful movement to halt climate change and win environmental justice. Join us.
URL:https://seattledsa.org/event/sdsa-ecosocialist-caucus-meeting-%f0%9f%8c%b9-3/
LOCATION:Beacon Hill Branch – Seattle Public Library\, 2821 Beacon Ave S\, Seattle\, WA\, 98144\, United States
CATEGORIES:General Membership Meeting
ORGANIZER;CN="SDSA%20Ecosocialism%20Caucus":MAILTO:info@seattledsa.org
GEO:47.5779493;-122.311379
X-APPLE-STRUCTURED-LOCATION;VALUE=URI;X-ADDRESS=Beacon Hill Branch – Seattle Public Library 2821 Beacon Ave S Seattle WA 98144 United States;X-APPLE-RADIUS=500;X-TITLE=2821 Beacon Ave S:geo:-122.311379,47.5779493
END:VEVENT
BEGIN:VEVENT
DTSTART;TZID=America/Los_Angeles:20200329T130000
DTEND;TZID=America/Los_Angeles:20200329T130000
DTSTAMP:20230610T173210
CREATED:20200126T033436Z
LAST-MODIFIED:20200321T182802Z
UID:10005128-1585486800-1585486800@seattledsa.org
SUMMARY:Green New Deal and Ecosocialism CANCELLED
DESCRIPTION:See you in 2 weeks! \nWe envision a fair and effective Green New Deal to halt climate change and win environmental justice. In the short term\, Seattle DSA’s Green New Deal Committee is developing a campaign to win Free Transit county-wide. Join us and the Ecosocialism Caucus\, which offers a reading group every other Monday evening. \nQuestions? Ask GreenNewDeal@seattledsa.org.
URL:https://seattledsa.org/event/green-new-deal-and-ecosocialism-meeting-9/
LOCATION:Beacon Hill Branch – Seattle Public Library\, 2821 Beacon Ave S\, Seattle\, WA\, 98144\, United States
CATEGORIES:Activism,General Membership Meeting,New Member Friendly
GEO:47.5779493;-122.311379
X-APPLE-STRUCTURED-LOCATION;VALUE=URI;X-ADDRESS=Beacon Hill Branch – Seattle Public Library 2821 Beacon Ave S Seattle WA 98144 United States;X-APPLE-RADIUS=500;X-TITLE=2821 Beacon Ave S:geo:-122.311379,47.5779493
END:VEVENT
END:VCALENDAR