BEGIN:VCALENDAR
VERSION:2.0
PRODID:-//Seattle Democratic Socialists of America - ECPv6.0.13.1//NONSGML v1.0//EN
CALSCALE:GREGORIAN
METHOD:PUBLISH
X-ORIGINAL-URL:https://seattledsa.org
X-WR-CALDESC:Events for Seattle Democratic Socialists of America
REFRESH-INTERVAL;VALUE=DURATION:PT1H
X-Robots-Tag:noindex
X-PUBLISHED-TTL:PT1H
BEGIN:VTIMEZONE
TZID:America/Los_Angeles
BEGIN:DAYLIGHT
TZOFFSETFROM:-0800
TZOFFSETTO:-0700
TZNAME:PDT
DTSTART:20220313T100000
END:DAYLIGHT
BEGIN:STANDARD
TZOFFSETFROM:-0700
TZOFFSETTO:-0800
TZNAME:PST
DTSTART:20221106T090000
END:STANDARD
END:VTIMEZONE
BEGIN:VEVENT
DTSTART;TZID=America/Los_Angeles:20220814T140000
DTEND;TZID=America/Los_Angeles:20220814T160000
DTSTAMP:20230610T180849
CREATED:20220519T215708Z
LAST-MODIFIED:20220519T215708Z
UID:10006441-1660485600-1660492800@seattledsa.org
SUMMARY:District 2: Soccer @Brighton Playfield - everybody welcome!
DESCRIPTION:Socialist soccer: join us for some fun game\, all skill-levels welcome!
URL:https://seattledsa.org/event/district-2-soccer-brighton-playfield-everybody-welcome/2022-08-14/
LOCATION:Brighton Playfield (next to Aki Kurose Middle School)\, 6000 39th Ave S\, Seattle\, WA\, 98118\, United States
CATEGORIES:District Meeting,New Member Friendly
ATTACH;FMTTYPE=image/png:https://seattledsa.org/wp-content/uploads/2021/06/soccer.png
GEO:47.5487636;-122.2829643
X-APPLE-STRUCTURED-LOCATION;VALUE=URI;X-ADDRESS=Brighton Playfield (next to Aki Kurose Middle School) 6000 39th Ave S Seattle WA 98118 United States;X-APPLE-RADIUS=500;X-TITLE=6000 39th Ave S:geo:-122.2829643,47.5487636
END:VEVENT
BEGIN:VEVENT
DTSTART;TZID=America/Los_Angeles:20220821T140000
DTEND;TZID=America/Los_Angeles:20220821T160000
DTSTAMP:20230610T180849
CREATED:20220519T215708Z
LAST-MODIFIED:20220519T215708Z
UID:10006442-1661090400-1661097600@seattledsa.org
SUMMARY:District 2: Soccer @Brighton Playfield - everybody welcome!
DESCRIPTION:Socialist soccer: join us for some fun game\, all skill-levels welcome!
URL:https://seattledsa.org/event/district-2-soccer-brighton-playfield-everybody-welcome/2022-08-21/
LOCATION:Brighton Playfield (next to Aki Kurose Middle School)\, 6000 39th Ave S\, Seattle\, WA\, 98118\, United States
CATEGORIES:District Meeting,New Member Friendly
ATTACH;FMTTYPE=image/png:https://seattledsa.org/wp-content/uploads/2021/06/soccer.png
GEO:47.5487636;-122.2829643
X-APPLE-STRUCTURED-LOCATION;VALUE=URI;X-ADDRESS=Brighton Playfield (next to Aki Kurose Middle School) 6000 39th Ave S Seattle WA 98118 United States;X-APPLE-RADIUS=500;X-TITLE=6000 39th Ave S:geo:-122.2829643,47.5487636
END:VEVENT
BEGIN:VEVENT
DTSTART;TZID=America/Los_Angeles:20220828T140000
DTEND;TZID=America/Los_Angeles:20220828T160000
DTSTAMP:20230610T180849
CREATED:20220519T215708Z
LAST-MODIFIED:20220519T215708Z
UID:10006443-1661695200-1661702400@seattledsa.org
SUMMARY:District 2: Soccer @Brighton Playfield - everybody welcome!
DESCRIPTION:Socialist soccer: join us for some fun game\, all skill-levels welcome!
URL:https://seattledsa.org/event/district-2-soccer-brighton-playfield-everybody-welcome/2022-08-28/
LOCATION:Brighton Playfield (next to Aki Kurose Middle School)\, 6000 39th Ave S\, Seattle\, WA\, 98118\, United States
CATEGORIES:District Meeting,New Member Friendly
ATTACH;FMTTYPE=image/png:https://seattledsa.org/wp-content/uploads/2021/06/soccer.png
GEO:47.5487636;-122.2829643
X-APPLE-STRUCTURED-LOCATION;VALUE=URI;X-ADDRESS=Brighton Playfield (next to Aki Kurose Middle School) 6000 39th Ave S Seattle WA 98118 United States;X-APPLE-RADIUS=500;X-TITLE=6000 39th Ave S:geo:-122.2829643,47.5487636
END:VEVENT
BEGIN:VEVENT
DTSTART;TZID=America/Los_Angeles:20220904T140000
DTEND;TZID=America/Los_Angeles:20220904T160000
DTSTAMP:20230610T180849
CREATED:20220519T215708Z
LAST-MODIFIED:20220519T215708Z
UID:10006444-1662300000-1662307200@seattledsa.org
SUMMARY:District 2: Soccer @Brighton Playfield - everybody welcome!
DESCRIPTION:Socialist soccer: join us for some fun game\, all skill-levels welcome!
URL:https://seattledsa.org/event/district-2-soccer-brighton-playfield-everybody-welcome/2022-09-04/
LOCATION:Brighton Playfield (next to Aki Kurose Middle School)\, 6000 39th Ave S\, Seattle\, WA\, 98118\, United States
CATEGORIES:District Meeting,New Member Friendly
ATTACH;FMTTYPE=image/png:https://seattledsa.org/wp-content/uploads/2021/06/soccer.png
GEO:47.5487636;-122.2829643
X-APPLE-STRUCTURED-LOCATION;VALUE=URI;X-ADDRESS=Brighton Playfield (next to Aki Kurose Middle School) 6000 39th Ave S Seattle WA 98118 United States;X-APPLE-RADIUS=500;X-TITLE=6000 39th Ave S:geo:-122.2829643,47.5487636
END:VEVENT
BEGIN:VEVENT
DTSTART;TZID=America/Los_Angeles:20220911T140000
DTEND;TZID=America/Los_Angeles:20220911T160000
DTSTAMP:20230610T180849
CREATED:20220519T215708Z
LAST-MODIFIED:20220519T215708Z
UID:10006445-1662904800-1662912000@seattledsa.org
SUMMARY:District 2: Soccer @Brighton Playfield - everybody welcome!
DESCRIPTION:Socialist soccer: join us for some fun game\, all skill-levels welcome!
URL:https://seattledsa.org/event/district-2-soccer-brighton-playfield-everybody-welcome/2022-09-11/
LOCATION:Brighton Playfield (next to Aki Kurose Middle School)\, 6000 39th Ave S\, Seattle\, WA\, 98118\, United States
CATEGORIES:District Meeting,New Member Friendly
ATTACH;FMTTYPE=image/png:https://seattledsa.org/wp-content/uploads/2021/06/soccer.png
GEO:47.5487636;-122.2829643
X-APPLE-STRUCTURED-LOCATION;VALUE=URI;X-ADDRESS=Brighton Playfield (next to Aki Kurose Middle School) 6000 39th Ave S Seattle WA 98118 United States;X-APPLE-RADIUS=500;X-TITLE=6000 39th Ave S:geo:-122.2829643,47.5487636
END:VEVENT
BEGIN:VEVENT
DTSTART;TZID=America/Los_Angeles:20220918T140000
DTEND;TZID=America/Los_Angeles:20220918T160000
DTSTAMP:20230610T180849
CREATED:20220519T215708Z
LAST-MODIFIED:20220519T215708Z
UID:10006446-1663509600-1663516800@seattledsa.org
SUMMARY:District 2: Soccer @Brighton Playfield - everybody welcome!
DESCRIPTION:Socialist soccer: join us for some fun game\, all skill-levels welcome!
URL:https://seattledsa.org/event/district-2-soccer-brighton-playfield-everybody-welcome/2022-09-18/
LOCATION:Brighton Playfield (next to Aki Kurose Middle School)\, 6000 39th Ave S\, Seattle\, WA\, 98118\, United States
CATEGORIES:District Meeting,New Member Friendly
ATTACH;FMTTYPE=image/png:https://seattledsa.org/wp-content/uploads/2021/06/soccer.png
GEO:47.5487636;-122.2829643
X-APPLE-STRUCTURED-LOCATION;VALUE=URI;X-ADDRESS=Brighton Playfield (next to Aki Kurose Middle School) 6000 39th Ave S Seattle WA 98118 United States;X-APPLE-RADIUS=500;X-TITLE=6000 39th Ave S:geo:-122.2829643,47.5487636
END:VEVENT
BEGIN:VEVENT
DTSTART;TZID=America/Los_Angeles:20220925T140000
DTEND;TZID=America/Los_Angeles:20220925T160000
DTSTAMP:20230610T180849
CREATED:20220519T215708Z
LAST-MODIFIED:20220519T215708Z
UID:10006447-1664114400-1664121600@seattledsa.org
SUMMARY:District 2: Soccer @Brighton Playfield - everybody welcome!
DESCRIPTION:Socialist soccer: join us for some fun game\, all skill-levels welcome!
URL:https://seattledsa.org/event/district-2-soccer-brighton-playfield-everybody-welcome/2022-09-25/
LOCATION:Brighton Playfield (next to Aki Kurose Middle School)\, 6000 39th Ave S\, Seattle\, WA\, 98118\, United States
CATEGORIES:District Meeting,New Member Friendly
ATTACH;FMTTYPE=image/png:https://seattledsa.org/wp-content/uploads/2021/06/soccer.png
GEO:47.5487636;-122.2829643
X-APPLE-STRUCTURED-LOCATION;VALUE=URI;X-ADDRESS=Brighton Playfield (next to Aki Kurose Middle School) 6000 39th Ave S Seattle WA 98118 United States;X-APPLE-RADIUS=500;X-TITLE=6000 39th Ave S:geo:-122.2829643,47.5487636
END:VEVENT
BEGIN:VEVENT
DTSTART;TZID=America/Los_Angeles:20221002T140000
DTEND;TZID=America/Los_Angeles:20221002T160000
DTSTAMP:20230610T180849
CREATED:20220519T215708Z
LAST-MODIFIED:20220519T215708Z
UID:10006448-1664719200-1664726400@seattledsa.org
SUMMARY:District 2: Soccer @Brighton Playfield - everybody welcome!
DESCRIPTION:Socialist soccer: join us for some fun game\, all skill-levels welcome!
URL:https://seattledsa.org/event/district-2-soccer-brighton-playfield-everybody-welcome/2022-10-02/
LOCATION:Brighton Playfield (next to Aki Kurose Middle School)\, 6000 39th Ave S\, Seattle\, WA\, 98118\, United States
CATEGORIES:District Meeting,New Member Friendly
ATTACH;FMTTYPE=image/png:https://seattledsa.org/wp-content/uploads/2021/06/soccer.png
GEO:47.5487636;-122.2829643
X-APPLE-STRUCTURED-LOCATION;VALUE=URI;X-ADDRESS=Brighton Playfield (next to Aki Kurose Middle School) 6000 39th Ave S Seattle WA 98118 United States;X-APPLE-RADIUS=500;X-TITLE=6000 39th Ave S:geo:-122.2829643,47.5487636
END:VEVENT
BEGIN:VEVENT
DTSTART;TZID=America/Los_Angeles:20221009T140000
DTEND;TZID=America/Los_Angeles:20221009T160000
DTSTAMP:20230610T180849
CREATED:20220519T215708Z
LAST-MODIFIED:20220519T215708Z
UID:10006449-1665324000-1665331200@seattledsa.org
SUMMARY:District 2: Soccer @Brighton Playfield - everybody welcome!
DESCRIPTION:Socialist soccer: join us for some fun game\, all skill-levels welcome!
URL:https://seattledsa.org/event/district-2-soccer-brighton-playfield-everybody-welcome/2022-10-09/
LOCATION:Brighton Playfield (next to Aki Kurose Middle School)\, 6000 39th Ave S\, Seattle\, WA\, 98118\, United States
CATEGORIES:District Meeting,New Member Friendly
ATTACH;FMTTYPE=image/png:https://seattledsa.org/wp-content/uploads/2021/06/soccer.png
GEO:47.5487636;-122.2829643
X-APPLE-STRUCTURED-LOCATION;VALUE=URI;X-ADDRESS=Brighton Playfield (next to Aki Kurose Middle School) 6000 39th Ave S Seattle WA 98118 United States;X-APPLE-RADIUS=500;X-TITLE=6000 39th Ave S:geo:-122.2829643,47.5487636
END:VEVENT
BEGIN:VEVENT
DTSTART;TZID=America/Los_Angeles:20221016T140000
DTEND;TZID=America/Los_Angeles:20221016T160000
DTSTAMP:20230610T180849
CREATED:20220519T215708Z
LAST-MODIFIED:20220519T215708Z
UID:10006450-1665928800-1665936000@seattledsa.org
SUMMARY:District 2: Soccer @Brighton Playfield - everybody welcome!
DESCRIPTION:Socialist soccer: join us for some fun game\, all skill-levels welcome!
URL:https://seattledsa.org/event/district-2-soccer-brighton-playfield-everybody-welcome/2022-10-16/
LOCATION:Brighton Playfield (next to Aki Kurose Middle School)\, 6000 39th Ave S\, Seattle\, WA\, 98118\, United States
CATEGORIES:District Meeting,New Member Friendly
ATTACH;FMTTYPE=image/png:https://seattledsa.org/wp-content/uploads/2021/06/soccer.png
GEO:47.5487636;-122.2829643
X-APPLE-STRUCTURED-LOCATION;VALUE=URI;X-ADDRESS=Brighton Playfield (next to Aki Kurose Middle School) 6000 39th Ave S Seattle WA 98118 United States;X-APPLE-RADIUS=500;X-TITLE=6000 39th Ave S:geo:-122.2829643,47.5487636
END:VEVENT
BEGIN:VEVENT
DTSTART;TZID=America/Los_Angeles:20221023T140000
DTEND;TZID=America/Los_Angeles:20221023T160000
DTSTAMP:20230610T180849
CREATED:20220519T215708Z
LAST-MODIFIED:20220519T215708Z
UID:10006451-1666533600-1666540800@seattledsa.org
SUMMARY:District 2: Soccer @Brighton Playfield - everybody welcome!
DESCRIPTION:Socialist soccer: join us for some fun game\, all skill-levels welcome!
URL:https://seattledsa.org/event/district-2-soccer-brighton-playfield-everybody-welcome/2022-10-23/
LOCATION:Brighton Playfield (next to Aki Kurose Middle School)\, 6000 39th Ave S\, Seattle\, WA\, 98118\, United States
CATEGORIES:District Meeting,New Member Friendly
ATTACH;FMTTYPE=image/png:https://seattledsa.org/wp-content/uploads/2021/06/soccer.png
GEO:47.5487636;-122.2829643
X-APPLE-STRUCTURED-LOCATION;VALUE=URI;X-ADDRESS=Brighton Playfield (next to Aki Kurose Middle School) 6000 39th Ave S Seattle WA 98118 United States;X-APPLE-RADIUS=500;X-TITLE=6000 39th Ave S:geo:-122.2829643,47.5487636
END:VEVENT
BEGIN:VEVENT
DTSTART;TZID=America/Los_Angeles:20221030T140000
DTEND;TZID=America/Los_Angeles:20221030T160000
DTSTAMP:20230610T180849
CREATED:20220519T215708Z
LAST-MODIFIED:20220519T215708Z
UID:10006452-1667138400-1667145600@seattledsa.org
SUMMARY:District 2: Soccer @Brighton Playfield - everybody welcome!
DESCRIPTION:Socialist soccer: join us for some fun game\, all skill-levels welcome!
URL:https://seattledsa.org/event/district-2-soccer-brighton-playfield-everybody-welcome/2022-10-30/
LOCATION:Brighton Playfield (next to Aki Kurose Middle School)\, 6000 39th Ave S\, Seattle\, WA\, 98118\, United States
CATEGORIES:District Meeting,New Member Friendly
ATTACH;FMTTYPE=image/png:https://seattledsa.org/wp-content/uploads/2021/06/soccer.png
GEO:47.5487636;-122.2829643
X-APPLE-STRUCTURED-LOCATION;VALUE=URI;X-ADDRESS=Brighton Playfield (next to Aki Kurose Middle School) 6000 39th Ave S Seattle WA 98118 United States;X-APPLE-RADIUS=500;X-TITLE=6000 39th Ave S:geo:-122.2829643,47.5487636
END:VEVENT
BEGIN:VEVENT
DTSTART;TZID=America/Los_Angeles:20221106T140000
DTEND;TZID=America/Los_Angeles:20221106T160000
DTSTAMP:20230610T180849
CREATED:20220519T215708Z
LAST-MODIFIED:20220519T215708Z
UID:10006453-1667743200-1667750400@seattledsa.org
SUMMARY:District 2: Soccer @Brighton Playfield - everybody welcome!
DESCRIPTION:Socialist soccer: join us for some fun game\, all skill-levels welcome!
URL:https://seattledsa.org/event/district-2-soccer-brighton-playfield-everybody-welcome/2022-11-06/
LOCATION:Brighton Playfield (next to Aki Kurose Middle School)\, 6000 39th Ave S\, Seattle\, WA\, 98118\, United States
CATEGORIES:District Meeting,New Member Friendly
ATTACH;FMTTYPE=image/png:https://seattledsa.org/wp-content/uploads/2021/06/soccer.png
GEO:47.5487636;-122.2829643
X-APPLE-STRUCTURED-LOCATION;VALUE=URI;X-ADDRESS=Brighton Playfield (next to Aki Kurose Middle School) 6000 39th Ave S Seattle WA 98118 United States;X-APPLE-RADIUS=500;X-TITLE=6000 39th Ave S:geo:-122.2829643,47.5487636
END:VEVENT
BEGIN:VEVENT
DTSTART;TZID=America/Los_Angeles:20221113T140000
DTEND;TZID=America/Los_Angeles:20221113T160000
DTSTAMP:20230610T180849
CREATED:20220519T215708Z
LAST-MODIFIED:20220519T215708Z
UID:10006454-1668348000-1668355200@seattledsa.org
SUMMARY:District 2: Soccer @Brighton Playfield - everybody welcome!
DESCRIPTION:Socialist soccer: join us for some fun game\, all skill-levels welcome!
URL:https://seattledsa.org/event/district-2-soccer-brighton-playfield-everybody-welcome/2022-11-13/
LOCATION:Brighton Playfield (next to Aki Kurose Middle School)\, 6000 39th Ave S\, Seattle\, WA\, 98118\, United States
CATEGORIES:District Meeting,New Member Friendly
ATTACH;FMTTYPE=image/png:https://seattledsa.org/wp-content/uploads/2021/06/soccer.png
GEO:47.5487636;-122.2829643
X-APPLE-STRUCTURED-LOCATION;VALUE=URI;X-ADDRESS=Brighton Playfield (next to Aki Kurose Middle School) 6000 39th Ave S Seattle WA 98118 United States;X-APPLE-RADIUS=500;X-TITLE=6000 39th Ave S:geo:-122.2829643,47.5487636
END:VEVENT
BEGIN:VEVENT
DTSTART;TZID=America/Los_Angeles:20221120T140000
DTEND;TZID=America/Los_Angeles:20221120T160000
DTSTAMP:20230610T180849
CREATED:20220519T215708Z
LAST-MODIFIED:20220519T215708Z
UID:10006455-1668952800-1668960000@seattledsa.org
SUMMARY:District 2: Soccer @Brighton Playfield - everybody welcome!
DESCRIPTION:Socialist soccer: join us for some fun game\, all skill-levels welcome!
URL:https://seattledsa.org/event/district-2-soccer-brighton-playfield-everybody-welcome/2022-11-20/
LOCATION:Brighton Playfield (next to Aki Kurose Middle School)\, 6000 39th Ave S\, Seattle\, WA\, 98118\, United States
CATEGORIES:District Meeting,New Member Friendly
ATTACH;FMTTYPE=image/png:https://seattledsa.org/wp-content/uploads/2021/06/soccer.png
GEO:47.5487636;-122.2829643
X-APPLE-STRUCTURED-LOCATION;VALUE=URI;X-ADDRESS=Brighton Playfield (next to Aki Kurose Middle School) 6000 39th Ave S Seattle WA 98118 United States;X-APPLE-RADIUS=500;X-TITLE=6000 39th Ave S:geo:-122.2829643,47.5487636
END:VEVENT
BEGIN:VEVENT
DTSTART;TZID=America/Los_Angeles:20221127T140000
DTEND;TZID=America/Los_Angeles:20221127T160000
DTSTAMP:20230610T180849
CREATED:20220519T215708Z
LAST-MODIFIED:20220519T215708Z
UID:10006456-1669557600-1669564800@seattledsa.org
SUMMARY:District 2: Soccer @Brighton Playfield - everybody welcome!
DESCRIPTION:Socialist soccer: join us for some fun game\, all skill-levels welcome!
URL:https://seattledsa.org/event/district-2-soccer-brighton-playfield-everybody-welcome/2022-11-27/
LOCATION:Brighton Playfield (next to Aki Kurose Middle School)\, 6000 39th Ave S\, Seattle\, WA\, 98118\, United States
CATEGORIES:District Meeting,New Member Friendly
ATTACH;FMTTYPE=image/png:https://seattledsa.org/wp-content/uploads/2021/06/soccer.png
GEO:47.5487636;-122.2829643
X-APPLE-STRUCTURED-LOCATION;VALUE=URI;X-ADDRESS=Brighton Playfield (next to Aki Kurose Middle School) 6000 39th Ave S Seattle WA 98118 United States;X-APPLE-RADIUS=500;X-TITLE=6000 39th Ave S:geo:-122.2829643,47.5487636
END:VEVENT
BEGIN:VEVENT
DTSTART;TZID=America/Los_Angeles:20221204T140000
DTEND;TZID=America/Los_Angeles:20221204T160000
DTSTAMP:20230610T180849
CREATED:20220519T215708Z
LAST-MODIFIED:20220519T215708Z
UID:10006457-1670162400-1670169600@seattledsa.org
SUMMARY:District 2: Soccer @Brighton Playfield - everybody welcome!
DESCRIPTION:Socialist soccer: join us for some fun game\, all skill-levels welcome!
URL:https://seattledsa.org/event/district-2-soccer-brighton-playfield-everybody-welcome/2022-12-04/
LOCATION:Brighton Playfield (next to Aki Kurose Middle School)\, 6000 39th Ave S\, Seattle\, WA\, 98118\, United States
CATEGORIES:District Meeting,New Member Friendly
ATTACH;FMTTYPE=image/png:https://seattledsa.org/wp-content/uploads/2021/06/soccer.png
GEO:47.5487636;-122.2829643
X-APPLE-STRUCTURED-LOCATION;VALUE=URI;X-ADDRESS=Brighton Playfield (next to Aki Kurose Middle School) 6000 39th Ave S Seattle WA 98118 United States;X-APPLE-RADIUS=500;X-TITLE=6000 39th Ave S:geo:-122.2829643,47.5487636
END:VEVENT
BEGIN:VEVENT
DTSTART;TZID=America/Los_Angeles:20221211T140000
DTEND;TZID=America/Los_Angeles:20221211T160000
DTSTAMP:20230610T180849
CREATED:20220519T215708Z
LAST-MODIFIED:20220519T215708Z
UID:10006458-1670767200-1670774400@seattledsa.org
SUMMARY:District 2: Soccer @Brighton Playfield - everybody welcome!
DESCRIPTION:Socialist soccer: join us for some fun game\, all skill-levels welcome!
URL:https://seattledsa.org/event/district-2-soccer-brighton-playfield-everybody-welcome/2022-12-11/
LOCATION:Brighton Playfield (next to Aki Kurose Middle School)\, 6000 39th Ave S\, Seattle\, WA\, 98118\, United States
CATEGORIES:District Meeting,New Member Friendly
ATTACH;FMTTYPE=image/png:https://seattledsa.org/wp-content/uploads/2021/06/soccer.png
GEO:47.5487636;-122.2829643
X-APPLE-STRUCTURED-LOCATION;VALUE=URI;X-ADDRESS=Brighton Playfield (next to Aki Kurose Middle School) 6000 39th Ave S Seattle WA 98118 United States;X-APPLE-RADIUS=500;X-TITLE=6000 39th Ave S:geo:-122.2829643,47.5487636
END:VEVENT
BEGIN:VEVENT
DTSTART;TZID=America/Los_Angeles:20221218T140000
DTEND;TZID=America/Los_Angeles:20221218T160000
DTSTAMP:20230610T180849
CREATED:20220519T215708Z
LAST-MODIFIED:20220519T215708Z
UID:10006459-1671372000-1671379200@seattledsa.org
SUMMARY:District 2: Soccer @Brighton Playfield - everybody welcome!
DESCRIPTION:Socialist soccer: join us for some fun game\, all skill-levels welcome!
URL:https://seattledsa.org/event/district-2-soccer-brighton-playfield-everybody-welcome/2022-12-18/
LOCATION:Brighton Playfield (next to Aki Kurose Middle School)\, 6000 39th Ave S\, Seattle\, WA\, 98118\, United States
CATEGORIES:District Meeting,New Member Friendly
ATTACH;FMTTYPE=image/png:https://seattledsa.org/wp-content/uploads/2021/06/soccer.png
GEO:47.5487636;-122.2829643
X-APPLE-STRUCTURED-LOCATION;VALUE=URI;X-ADDRESS=Brighton Playfield (next to Aki Kurose Middle School) 6000 39th Ave S Seattle WA 98118 United States;X-APPLE-RADIUS=500;X-TITLE=6000 39th Ave S:geo:-122.2829643,47.5487636
END:VEVENT
END:VCALENDAR