BEGIN:VCALENDAR
VERSION:2.0
PRODID:-//Seattle Democratic Socialists of America - ECPv6.0.13.1//NONSGML v1.0//EN
CALSCALE:GREGORIAN
METHOD:PUBLISH
X-ORIGINAL-URL:https://seattledsa.org
X-WR-CALDESC:Events for Seattle Democratic Socialists of America
REFRESH-INTERVAL;VALUE=DURATION:PT1H
X-Robots-Tag:noindex
X-PUBLISHED-TTL:PT1H
BEGIN:VTIMEZONE
TZID:America/Los_Angeles
BEGIN:DAYLIGHT
TZOFFSETFROM:-0800
TZOFFSETTO:-0700
TZNAME:PDT
DTSTART:20220313T100000
END:DAYLIGHT
BEGIN:STANDARD
TZOFFSETFROM:-0700
TZOFFSETTO:-0800
TZNAME:PST
DTSTART:20221106T090000
END:STANDARD
BEGIN:DAYLIGHT
TZOFFSETFROM:-0800
TZOFFSETTO:-0700
TZNAME:PDT
DTSTART:20230312T100000
END:DAYLIGHT
BEGIN:STANDARD
TZOFFSETFROM:-0700
TZOFFSETTO:-0800
TZNAME:PST
DTSTART:20231105T090000
END:STANDARD
END:VTIMEZONE
BEGIN:VEVENT
DTSTART;TZID=America/Los_Angeles:20221207T183000
DTEND;TZID=America/Los_Angeles:20221207T193000
DTSTAMP:20230610T182250
CREATED:20190807T165930Z
LAST-MODIFIED:20190807T170453Z
UID:10004701-1670437800-1670441400@seattledsa.org
SUMMARY:Seattle DSA Political Education Working Group Monthly Meeting
DESCRIPTION:Monthly meeting of the SDSA Political Education Working Group. If you’re interested in working on member political education efforts\, come on by! Look for us at the reserved table in the back or upstairs.
URL:https://seattledsa.org/event/seattle-dsa-political-education-working-group-monthly-meeting/2022-12-07/
LOCATION:Cafe Solstice (Capitol Hill)\, 925 E Thomas St\, Seattle\, WA\, 98102\, United States
GEO:47.6209468;-122.3197692
X-APPLE-STRUCTURED-LOCATION;VALUE=URI;X-ADDRESS=Cafe Solstice (Capitol Hill) 925 E Thomas St Seattle WA 98102 United States;X-APPLE-RADIUS=500;X-TITLE=925 E Thomas St:geo:-122.3197692,47.6209468
END:VEVENT
BEGIN:VEVENT
DTSTART;TZID=America/Los_Angeles:20230104T183000
DTEND;TZID=America/Los_Angeles:20230104T193000
DTSTAMP:20230610T182250
CREATED:20190807T165930Z
LAST-MODIFIED:20190807T170453Z
UID:10004702-1672857000-1672860600@seattledsa.org
SUMMARY:Seattle DSA Political Education Working Group Monthly Meeting
DESCRIPTION:Monthly meeting of the SDSA Political Education Working Group. If you’re interested in working on member political education efforts\, come on by! Look for us at the reserved table in the back or upstairs.
URL:https://seattledsa.org/event/seattle-dsa-political-education-working-group-monthly-meeting/2023-01-04/
LOCATION:Cafe Solstice (Capitol Hill)\, 925 E Thomas St\, Seattle\, WA\, 98102\, United States
GEO:47.6209468;-122.3197692
X-APPLE-STRUCTURED-LOCATION;VALUE=URI;X-ADDRESS=Cafe Solstice (Capitol Hill) 925 E Thomas St Seattle WA 98102 United States;X-APPLE-RADIUS=500;X-TITLE=925 E Thomas St:geo:-122.3197692,47.6209468
END:VEVENT
END:VCALENDAR