BEGIN:VCALENDAR
VERSION:2.0
PRODID:-//Seattle Democratic Socialists of America - ECPv6.0.13.1//NONSGML v1.0//EN
CALSCALE:GREGORIAN
METHOD:PUBLISH
X-ORIGINAL-URL:https://seattledsa.org
X-WR-CALDESC:Events for Seattle Democratic Socialists of America
REFRESH-INTERVAL;VALUE=DURATION:PT1H
X-Robots-Tag:noindex
X-PUBLISHED-TTL:PT1H
BEGIN:VTIMEZONE
TZID:America/Los_Angeles
BEGIN:DAYLIGHT
TZOFFSETFROM:-0800
TZOFFSETTO:-0700
TZNAME:PDT
DTSTART:20200308T100000
END:DAYLIGHT
BEGIN:STANDARD
TZOFFSETFROM:-0700
TZOFFSETTO:-0800
TZNAME:PST
DTSTART:20201101T090000
END:STANDARD
BEGIN:DAYLIGHT
TZOFFSETFROM:-0800
TZOFFSETTO:-0700
TZNAME:PDT
DTSTART:20210314T100000
END:DAYLIGHT
BEGIN:STANDARD
TZOFFSETFROM:-0700
TZOFFSETTO:-0800
TZNAME:PST
DTSTART:20211107T090000
END:STANDARD
BEGIN:DAYLIGHT
TZOFFSETFROM:-0800
TZOFFSETTO:-0700
TZNAME:PDT
DTSTART:20220313T100000
END:DAYLIGHT
BEGIN:STANDARD
TZOFFSETFROM:-0700
TZOFFSETTO:-0800
TZNAME:PST
DTSTART:20221106T090000
END:STANDARD
BEGIN:DAYLIGHT
TZOFFSETFROM:-0800
TZOFFSETTO:-0700
TZNAME:PDT
DTSTART:20230312T100000
END:DAYLIGHT
BEGIN:STANDARD
TZOFFSETFROM:-0700
TZOFFSETTO:-0800
TZNAME:PST
DTSTART:20231105T090000
END:STANDARD
END:VTIMEZONE
BEGIN:VEVENT
DTSTART;TZID=America/Los_Angeles:20200426T143000
DTEND;TZID=America/Los_Angeles:20200426T160000
DTSTAMP:20230610T175135
CREATED:20200126T034251Z
LAST-MODIFIED:20200425T181008Z
UID:10005131-1587911400-1587916800@seattledsa.org
SUMMARY:Green New Deal and Ecosocialism Meeting NOTE TIME CHANGE!
DESCRIPTION:We pursue a fair and effective Green New Deal to halt climate change and win environmental justice. We explore ecosocialist theory\, and are developing a campaign for fare-free transit. Email GreenNewDeal@seattledsa.org for password (or see slack) and join us via zoom info below. \nhttps://us02web.zoom.us/j/89248900517?pwd=UGUzZStmWTZzNkJyY1B1SGlBaHpPQT09\nMeeting ID: 892 4890 0517\nDial in:\n+1 253 215 8782 US\n+1 301 715 8592 US\nMeeting ID: 892 4890 0517 \nQuestions? Ask GreenNewDeal@seattledsa.org.
URL:https://seattledsa.org/event/green-new-deal-and-ecosocialism-meeting-10/
LOCATION:Capitol Hill Branch Library\, 425 Harvard Ave E\, Seattle\, WA\, 98102\, United States
CATEGORIES:Activism,General Membership Meeting,New Member Friendly
GEO:47.6229294;-122.3223185
X-APPLE-STRUCTURED-LOCATION;VALUE=URI;X-ADDRESS=Capitol Hill Branch Library 425 Harvard Ave E Seattle WA 98102 United States;X-APPLE-RADIUS=500;X-TITLE=425 Harvard Ave E:geo:-122.3223185,47.6229294
END:VEVENT
BEGIN:VEVENT
DTSTART;TZID=America/Los_Angeles:20220625T110000
DTEND;TZID=America/Los_Angeles:20220625T140000
DTSTAMP:20230610T175135
CREATED:20220607T230217Z
LAST-MODIFIED:20220616T172843Z
UID:10006481-1656154800-1656165600@seattledsa.org
SUMMARY:Labor organizing workshop
DESCRIPTION:Join fellow workers in the Seattle area at this workshop focused on identifying leaders and workplace mapping\, how to have organizing conversations\, and building a successful organizing campaign with your coworkers. \nRSVP Here: https://actionnetwork.org/events/labor-organizing-workshop/
URL:https://seattledsa.org/event/labor-organizing-workshop/
LOCATION:Capitol Hill Branch Library\, 425 Harvard Ave E\, Seattle\, WA\, 98102\, United States
CATEGORIES:Labor,New Member Friendly
ATTACH;FMTTYPE=image/png:https://seattledsa.org/wp-content/uploads/2022/06/labor-workshop.png
GEO:47.6229294;-122.3223185
X-APPLE-STRUCTURED-LOCATION;VALUE=URI;X-ADDRESS=Capitol Hill Branch Library 425 Harvard Ave E Seattle WA 98102 United States;X-APPLE-RADIUS=500;X-TITLE=425 Harvard Ave E:geo:-122.3223185,47.6229294
END:VEVENT
BEGIN:VEVENT
DTSTART;TZID=America/Los_Angeles:20220924T110000
DTEND;TZID=America/Los_Angeles:20220924T140000
DTSTAMP:20230610T175135
CREATED:20220829T162608Z
LAST-MODIFIED:20220829T162744Z
UID:10005196-1664017200-1664028000@seattledsa.org
SUMMARY:Labor Organizing Workshop
DESCRIPTION:Working people across the US are standing up for their rights\, building collective power\, and organizing unions. Do you and your co-workers want to join them and win better conditions on the job? \nJoin your Seattle DSA comrades for an in-person workshop that will teach you the skills you need to organize your workplace. It’s this Saturday\, September 24 from 11AM – 2PM at the Capitol Hill Branch of the Seattle Public Library. \nThis workshop will cover the fundamentals of labor organizing\, including identifying leaders\, workplace mapping\, organizing conversations\, and building a successful organizing campaign with your coworkers. A light lunch and snacks will be provided\, and we strongly encourage all attendees to wear masks. \nRSVP Here.
URL:https://seattledsa.org/event/labor-organizing-workshop-2/
LOCATION:Capitol Hill Branch Library\, 425 Harvard Ave E\, Seattle\, WA\, 98102\, United States
CATEGORIES:Labor
GEO:47.6229294;-122.3223185
X-APPLE-STRUCTURED-LOCATION;VALUE=URI;X-ADDRESS=Capitol Hill Branch Library 425 Harvard Ave E Seattle WA 98102 United States;X-APPLE-RADIUS=500;X-TITLE=425 Harvard Ave E:geo:-122.3223185,47.6229294
END:VEVENT
BEGIN:VEVENT
DTSTART;TZID=America/Los_Angeles:20230530T180000
DTEND;TZID=America/Los_Angeles:20230530T193000
DTSTAMP:20230610T175135
CREATED:20221122T173114Z
LAST-MODIFIED:20230526T052757Z
UID:10006646-1685469600-1685475000@seattledsa.org
SUMMARY:Labor Working Group Meeting
DESCRIPTION:Hybrid Meeting at Capital Hill Library Meeting Room! \nJoin comrades for a discussion on our on going labor organizing and to meet others involved in labor organizing work. We will discuss and plan any upcoming labor work and ongoing campaigns. There will also be updates on any labor organizing our members are involved in. \nAfter the meeting join us at Comet Tavern to discuss chapter 7 of Hammer Hoe. This chapter focuses on the relationship of the Alabama Communist Party with CIO in the 1930s. \nLook for the full agenda in the labor channel on slack! \nFor in person attendees the meeting will be in the Capital Hill library meeting room. \nRSVP Here: https://actionnetwork.org/events/labor-committee-meeting-40/
URL:https://seattledsa.org/event/labor-committee-meeting-13-2023-04-25-2023-05-30/
LOCATION:Capitol Hill Branch Library\, 425 Harvard Ave E\, Seattle\, WA\, 98102\, United States
CATEGORIES:Labor
ATTACH;FMTTYPE=image/png:https://seattledsa.org/wp-content/uploads/2022/01/sdsa_labor_working_group.png
ORGANIZER;CN="SDSA%20Labor%20Working%20Group":MAILTO:labor@seattledsa.org
GEO:47.6229294;-122.3223185
X-APPLE-STRUCTURED-LOCATION;VALUE=URI;X-ADDRESS=Capitol Hill Branch Library 425 Harvard Ave E Seattle WA 98102 United States;X-APPLE-RADIUS=500;X-TITLE=425 Harvard Ave E:geo:-122.3223185,47.6229294
END:VEVENT
END:VCALENDAR