BEGIN:VCALENDAR
VERSION:2.0
PRODID:-//Seattle Democratic Socialists of America - ECPv6.0.13.1//NONSGML v1.0//EN
CALSCALE:GREGORIAN
METHOD:PUBLISH
X-WR-CALNAME:Seattle Democratic Socialists of America
X-ORIGINAL-URL:https://seattledsa.org
X-WR-CALDESC:Events for Seattle Democratic Socialists of America
REFRESH-INTERVAL;VALUE=DURATION:PT1H
X-Robots-Tag:noindex
X-PUBLISHED-TTL:PT1H
BEGIN:VTIMEZONE
TZID:America/Los_Angeles
BEGIN:DAYLIGHT
TZOFFSETFROM:-0800
TZOFFSETTO:-0700
TZNAME:PDT
DTSTART:20190310T100000
END:DAYLIGHT
BEGIN:STANDARD
TZOFFSETFROM:-0700
TZOFFSETTO:-0800
TZNAME:PST
DTSTART:20191103T090000
END:STANDARD
END:VTIMEZONE
BEGIN:VEVENT
DTSTART;TZID=America/Los_Angeles:20190919T180000
DTEND;TZID=America/Los_Angeles:20190919T193000
DTSTAMP:20230610T173135
CREATED:20190906T214400Z
LAST-MODIFIED:20190906T214400Z
UID:10004758-1568916000-1568921400@seattledsa.org
SUMMARY:Electoral Committee Meeting
DESCRIPTION:Join us as we continue our electoral work locally.
URL:https://seattledsa.org/event/electoral-committee-meeting-11/
LOCATION:Columbia Branch – Seattle Public Library\, 4721 Rainier Ave S\, Seattle\, 98118\, United States
CATEGORIES:Electoral,General Membership Meeting,New Member Friendly
GEO:47.5599019;-122.2870631
X-APPLE-STRUCTURED-LOCATION;VALUE=URI;X-ADDRESS=Columbia Branch – Seattle Public Library 4721 Rainier Ave S Seattle 98118 United States;X-APPLE-RADIUS=500;X-TITLE=4721 Rainier Ave S:geo:-122.2870631,47.5599019
END:VEVENT
END:VCALENDAR