BEGIN:VCALENDAR
VERSION:2.0
PRODID:-//Seattle Democratic Socialists of America - ECPv6.0.13.1//NONSGML v1.0//EN
CALSCALE:GREGORIAN
METHOD:PUBLISH
X-WR-CALNAME:Seattle Democratic Socialists of America
X-ORIGINAL-URL:https://seattledsa.org
X-WR-CALDESC:Events for Seattle Democratic Socialists of America
REFRESH-INTERVAL;VALUE=DURATION:PT1H
X-Robots-Tag:noindex
X-PUBLISHED-TTL:PT1H
BEGIN:VTIMEZONE
TZID:America/Los_Angeles
BEGIN:DAYLIGHT
TZOFFSETFROM:-0800
TZOFFSETTO:-0700
TZNAME:PDT
DTSTART:20220313T100000
END:DAYLIGHT
BEGIN:STANDARD
TZOFFSETFROM:-0700
TZOFFSETTO:-0800
TZNAME:PST
DTSTART:20221106T090000
END:STANDARD
END:VTIMEZONE
BEGIN:VEVENT
DTSTART;TZID=America/Los_Angeles:20220601T160000
DTEND;TZID=America/Los_Angeles:20220601T190000
DTSTAMP:20230610T164229
CREATED:20220528T181503Z
LAST-MODIFIED:20220528T181504Z
UID:10005066-1654099200-1654110000@seattledsa.org
SUMMARY:DSA for Gallardo Tabling at Columbia City Farmers' Market
DESCRIPTION:Continuing our regular Wednesday tabling at the Columbia City farmers’ market. \nLet’s get out there and promote our endorsed campaigns. \nWe will have campaign materials\, signature forms\, and DSA literature to hand out. Just bring your positive attitude and your mask. Training provided on site! \nLook for the DSA table near the PCC entrance on South Edmunds St. \nRSVP here.
URL:https://seattledsa.org/event/dsa-for-gallardo-tabling-at-columbia-city-farmers-market-2/
LOCATION:Columbia City PCC\, 3610 S Edmunds St\, Seattle\, WA\, 98118\, United States
CATEGORIES:Electoral,New Member Friendly,SDSA for Stephanie Gallardo
ATTACH;FMTTYPE=image/jpeg:https://seattledsa.org/wp-content/uploads/2022/04/StephanieforCongress_Banner-2.jpg
ORGANIZER;CN="Seattle%20DSA%20Electoral%20Committee":MAILTO:electoral@seattledsa.org
GEO:47.5592235;-122.2867939
X-APPLE-STRUCTURED-LOCATION;VALUE=URI;X-ADDRESS=Columbia City PCC 3610 S Edmunds St Seattle WA 98118 United States;X-APPLE-RADIUS=500;X-TITLE=3610 S Edmunds St:geo:-122.2867939,47.5592235
END:VEVENT
BEGIN:VEVENT
DTSTART;TZID=America/Los_Angeles:20220615T150000
DTEND;TZID=America/Los_Angeles:20220615T190000
DTSTAMP:20230610T164229
CREATED:20220615T060744Z
LAST-MODIFIED:20220615T061150Z
UID:10006492-1655305200-1655319600@seattledsa.org
SUMMARY:DSA for Gallardo Tabling & Canvassing - South Seattle - Columbia City - June 15
DESCRIPTION:Join us to table at the farmers’ market and knock doors across the district! \nWe will be talking to voters about voting for Stephanie Gallardo for Congress in the upcoming Primary Election on August 2. This is a critical step in getting her elected! \nWe will have a table near the PCC entrance on South Edmunds St. We will talk to farmers market patrons 3-5 PM\, then send pairs of volunteers out to talk to voters in Columbia City 5-7 PM. \nWe will have clipboards\, buttons\, and campaign literature packets. \nNo experience required\, training on site provided. We will be using the Field Edge for NationBuilder app\, which we encourage you to download and create an account beforehand. \nIf you plan to canvass with us\, make sure you bring good walking shoes for a couple hours of walking\, a charged phone\, and check the weather for rain. \nRSVP here (encouraged but not required\, so we can prepare turfs beforehand). \nWe are excited to build our movement together!
URL:https://seattledsa.org/event/dsa-for-gallardo-tabling-canvassing-south-seattle-columbia-city-june-15/
LOCATION:Columbia City PCC\, 3610 S Edmunds St\, Seattle\, WA\, 98118\, United States
CATEGORIES:Electoral,New Member Friendly,SDSA for Stephanie Gallardo
ATTACH;FMTTYPE=image/jpeg:https://seattledsa.org/wp-content/uploads/2022/04/StephanieforCongress_Banner-2.jpg
ORGANIZER;CN="Seattle%20DSA%20Electoral%20Committee":MAILTO:electoral@seattledsa.org
GEO:47.5592235;-122.2867939
X-APPLE-STRUCTURED-LOCATION;VALUE=URI;X-ADDRESS=Columbia City PCC 3610 S Edmunds St Seattle WA 98118 United States;X-APPLE-RADIUS=500;X-TITLE=3610 S Edmunds St:geo:-122.2867939,47.5592235
END:VEVENT
BEGIN:VEVENT
DTSTART;TZID=America/Los_Angeles:20220713T160000
DTEND;TZID=America/Los_Angeles:20220713T180000
DTSTAMP:20230610T164229
CREATED:20220712T072528Z
LAST-MODIFIED:20220712T073419Z
UID:10006527-1657728000-1657735200@seattledsa.org
SUMMARY:DSA for Gallardo Tabling at Columbia City Farmers’ Market
DESCRIPTION:Continuing our regular Wednesday tabling at the Columbia City farmers’ market. \nWe only have about 3 weeks until the voting deadline. \nLet’s get out there and promote our endorsed campaigns. \nWe will have campaign materials\, signature forms\, and DSA literature to hand out. Just bring your positive attitude and your mask. Training provided on site! \nLook for the DSA table near the PCC entrance on South Edmunds St. \nRSVP here.
URL:https://seattledsa.org/event/dsa-for-gallardo-tabling-at-columbia-city-farmers-market-3/
LOCATION:Columbia City PCC\, 3610 S Edmunds St\, Seattle\, WA\, 98118\, United States
CATEGORIES:Electoral,New Member Friendly,SDSA for Stephanie Gallardo
ATTACH;FMTTYPE=image/jpeg:https://seattledsa.org/wp-content/uploads/2022/04/StephanieforCongress_Banner-2.jpg
ORGANIZER;CN="Seattle%20DSA%20Electoral%20Committee":MAILTO:electoral@seattledsa.org
GEO:47.5592235;-122.2867939
X-APPLE-STRUCTURED-LOCATION;VALUE=URI;X-ADDRESS=Columbia City PCC 3610 S Edmunds St Seattle WA 98118 United States;X-APPLE-RADIUS=500;X-TITLE=3610 S Edmunds St:geo:-122.2867939,47.5592235
END:VEVENT
BEGIN:VEVENT
DTSTART;TZID=America/Los_Angeles:20220720T160000
DTEND;TZID=America/Los_Angeles:20220720T180000
DTSTAMP:20230610T164229
CREATED:20220712T073604Z
LAST-MODIFIED:20220712T073605Z
UID:10006528-1658332800-1658340000@seattledsa.org
SUMMARY:DSA for Gallardo Tabling at Columbia City Farmers’ Market
DESCRIPTION:Continuing our regular Wednesday tabling at the Columbia City farmers’ market. \nWe only have about 3 weeks until the voting deadline. \nLet’s get out there and promote our endorsed campaigns. \nWe will have campaign materials\, signature forms\, and DSA literature to hand out. Just bring your positive attitude and your mask. Training provided on site! \nLook for the DSA table near the PCC entrance on South Edmunds St. \nRSVP here.
URL:https://seattledsa.org/event/dsa-for-gallardo-tabling-at-columbia-city-farmers-market-4/
LOCATION:Columbia City PCC\, 3610 S Edmunds St\, Seattle\, WA\, 98118\, United States
CATEGORIES:Electoral,New Member Friendly,SDSA for Stephanie Gallardo
ATTACH;FMTTYPE=image/jpeg:https://seattledsa.org/wp-content/uploads/2022/04/StephanieforCongress_Banner-2.jpg
ORGANIZER;CN="Seattle%20DSA%20Electoral%20Committee":MAILTO:electoral@seattledsa.org
GEO:47.5592235;-122.2867939
X-APPLE-STRUCTURED-LOCATION;VALUE=URI;X-ADDRESS=Columbia City PCC 3610 S Edmunds St Seattle WA 98118 United States;X-APPLE-RADIUS=500;X-TITLE=3610 S Edmunds St:geo:-122.2867939,47.5592235
END:VEVENT
BEGIN:VEVENT
DTSTART;TZID=America/Los_Angeles:20220727T160000
DTEND;TZID=America/Los_Angeles:20220727T190000
DTSTAMP:20230610T164229
CREATED:20220717T055202Z
LAST-MODIFIED:20220722T061822Z
UID:10005150-1658937600-1658948400@seattledsa.org
SUMMARY:DSA Tabling at Columbia City Farmers’ Market for Gallardo and Starbux Solidarity
DESCRIPTION:Continuing our regular Wednesday tabling at the Columbia City farmers’ market. \nThis will be our last Columbia City farmers market table before the voting deadline. \nAnd we are thrilled to be joined by the Starbux worker solidarity team! \nLet’s get out there and promote our endorsed campaigns. \nWe will have campaign materials\, and DSA literature to hand out. Just bring your positive attitude and your mask. Training provided on site! \nLook for the DSA table near the PCC entrance on South Edmunds St. \nRSVP here.
URL:https://seattledsa.org/event/dsa-for-gallardo-tabling-at-columbia-city-farmers-market-5/
LOCATION:Columbia City PCC\, 3610 S Edmunds St\, Seattle\, WA\, 98118\, United States
CATEGORIES:Electoral,New Member Friendly,SDSA for Stephanie Gallardo
ATTACH;FMTTYPE=image/jpeg:https://seattledsa.org/wp-content/uploads/2022/04/StephanieforCongress_Banner-2.jpg
GEO:47.5592235;-122.2867939
X-APPLE-STRUCTURED-LOCATION;VALUE=URI;X-ADDRESS=Columbia City PCC 3610 S Edmunds St Seattle WA 98118 United States;X-APPLE-RADIUS=500;X-TITLE=3610 S Edmunds St:geo:-122.2867939,47.5592235
END:VEVENT
END:VCALENDAR