BEGIN:VCALENDAR
VERSION:2.0
PRODID:-//Seattle Democratic Socialists of America - ECPv6.0.13.1//NONSGML v1.0//EN
CALSCALE:GREGORIAN
METHOD:PUBLISH
X-ORIGINAL-URL:https://seattledsa.org
X-WR-CALDESC:Events for Seattle Democratic Socialists of America
REFRESH-INTERVAL;VALUE=DURATION:PT1H
X-Robots-Tag:noindex
X-PUBLISHED-TTL:PT1H
BEGIN:VTIMEZONE
TZID:America/Los_Angeles
BEGIN:DAYLIGHT
TZOFFSETFROM:-0800
TZOFFSETTO:-0700
TZNAME:PDT
DTSTART:20190310T100000
END:DAYLIGHT
BEGIN:STANDARD
TZOFFSETFROM:-0700
TZOFFSETTO:-0800
TZNAME:PST
DTSTART:20191103T090000
END:STANDARD
BEGIN:DAYLIGHT
TZOFFSETFROM:-0800
TZOFFSETTO:-0700
TZNAME:PDT
DTSTART:20200308T100000
END:DAYLIGHT
BEGIN:STANDARD
TZOFFSETFROM:-0700
TZOFFSETTO:-0800
TZNAME:PST
DTSTART:20201101T090000
END:STANDARD
END:VTIMEZONE
BEGIN:VEVENT
DTSTART;TZID=America/Los_Angeles:20191110T133000
DTEND;TZID=America/Los_Angeles:20191110T150000
DTSTAMP:20230610T164305
CREATED:20191105T054151Z
LAST-MODIFIED:20191105T054331Z
UID:10004045-1573392600-1573398000@seattledsa.org
SUMMARY:New Member Orientation 🌹
DESCRIPTION:Are you new to Seattle DSA and interested in learning more about us or socialism in general? \nIf so\, this New Member Orientation is for you! We’ll give a brief introduction to Democratic Socialism\, an overview of the Seattle DSA\, and a summary of the projects Seattle DSA is currently engaged in as well as ways you can get involved. \nAfter this session\, we’ll be getting together afterward for pizza if you’d like to stick around and chat — please join us!
URL:https://seattledsa.org/event/new-member-orientation-5/
LOCATION:Douglass-Truth Branch – Seattle Public Library\, 2300 E Yesler Way\, Seattle\, WA\, United States
CATEGORIES:General Membership Meeting,New Member Friendly
GEO:47.6019092;-122.3017313
X-APPLE-STRUCTURED-LOCATION;VALUE=URI;X-ADDRESS=Douglass-Truth Branch – Seattle Public Library 2300 E Yesler Way Seattle WA United States;X-APPLE-RADIUS=500;X-TITLE=2300 E Yesler Way:geo:-122.3017313,47.6019092
END:VEVENT
BEGIN:VEVENT
DTSTART;TZID=America/Los_Angeles:20200127T180000
DTEND;TZID=America/Los_Angeles:20200127T193000
DTSTAMP:20230610T164305
CREATED:20200109T231348Z
LAST-MODIFIED:20200109T231348Z
UID:10004096-1580148000-1580153400@seattledsa.org
SUMMARY:SDSA Electoral Committee Meeting
DESCRIPTION:Join us for our January 2020 meeting. We’ll strategize how we’ll win at the ballot box in 2020 and beyond.
URL:https://seattledsa.org/event/sdsa-electoral-committee-meeting/
LOCATION:Douglass-Truth Branch – Seattle Public Library\, 2300 E Yesler Way\, Seattle\, WA\, United States
CATEGORIES:Electoral,General Membership Meeting
GEO:47.6019092;-122.3017313
X-APPLE-STRUCTURED-LOCATION;VALUE=URI;X-ADDRESS=Douglass-Truth Branch – Seattle Public Library 2300 E Yesler Way Seattle WA United States;X-APPLE-RADIUS=500;X-TITLE=2300 E Yesler Way:geo:-122.3017313,47.6019092
END:VEVENT
BEGIN:VEVENT
DTSTART;TZID=America/Los_Angeles:20200216T130000
DTEND;TZID=America/Los_Angeles:20200216T150000
DTSTAMP:20230610T164305
CREATED:20191214T012911Z
LAST-MODIFIED:20200126T025640Z
UID:10005026-1581858000-1581865200@seattledsa.org
SUMMARY:Green New Deal and Ecosocialism Meeting
DESCRIPTION:We envision a fair and effective Green New Deal to halt climate change and win environmental justice. In the short term\, Seattle DSA’s Green New Deal Committee is developing a campaign to win Free Transit county-wide. Join us and the Ecosocialism Caucus\, which offers a reading group every other Monday evening. \nQuestions? Ask GreenNewDeal@seattledsa.org.
URL:https://seattledsa.org/event/green-new-deal-and-ecosocialism-meeting-6/
LOCATION:Douglass-Truth Branch – Seattle Public Library\, 2300 E Yesler Way\, Seattle\, WA\, United States
CATEGORIES:General Membership Meeting,New Member Friendly
GEO:47.6019092;-122.3017313
X-APPLE-STRUCTURED-LOCATION;VALUE=URI;X-ADDRESS=Douglass-Truth Branch – Seattle Public Library 2300 E Yesler Way Seattle WA United States;X-APPLE-RADIUS=500;X-TITLE=2300 E Yesler Way:geo:-122.3017313,47.6019092
END:VEVENT
BEGIN:VEVENT
DTSTART;TZID=America/Los_Angeles:20200301T130000
DTEND;TZID=America/Los_Angeles:20200301T150000
DTSTAMP:20230610T164305
CREATED:20200126T030543Z
LAST-MODIFIED:20200126T030543Z
UID:10004117-1583067600-1583074800@seattledsa.org
SUMMARY:Green New Deal and Ecosocialism Meeting
DESCRIPTION:We envision a fair and effective Green New Deal to halt climate change and win environmental justice. In the short term\, Seattle DSA’s Green New Deal Committee is developing a campaign to win Free Transit county-wide. Join us and the Ecosocialism Caucus\, which offers a reading group every other Monday evening. \nQuestions? Ask GreenNewDeal@seattledsa.org.
URL:https://seattledsa.org/event/green-new-deal-and-ecosocialism-meeting-7/
LOCATION:Douglass-Truth Branch – Seattle Public Library\, 2300 E Yesler Way\, Seattle\, WA\, United States
CATEGORIES:Activism,General Membership Meeting,New Member Friendly
GEO:47.6019092;-122.3017313
X-APPLE-STRUCTURED-LOCATION;VALUE=URI;X-ADDRESS=Douglass-Truth Branch – Seattle Public Library 2300 E Yesler Way Seattle WA United States;X-APPLE-RADIUS=500;X-TITLE=2300 E Yesler Way:geo:-122.3017313,47.6019092
END:VEVENT
END:VCALENDAR