BEGIN:VCALENDAR
VERSION:2.0
PRODID:-//Seattle Democratic Socialists of America - ECPv6.0.13.1//NONSGML v1.0//EN
CALSCALE:GREGORIAN
METHOD:PUBLISH
X-WR-CALNAME:Seattle Democratic Socialists of America
X-ORIGINAL-URL:https://seattledsa.org
X-WR-CALDESC:Events for Seattle Democratic Socialists of America
REFRESH-INTERVAL;VALUE=DURATION:PT1H
X-Robots-Tag:noindex
X-PUBLISHED-TTL:PT1H
BEGIN:VTIMEZONE
TZID:America/Los_Angeles
BEGIN:DAYLIGHT
TZOFFSETFROM:-0800
TZOFFSETTO:-0700
TZNAME:PDT
DTSTART:20240310T100000
END:DAYLIGHT
BEGIN:STANDARD
TZOFFSETFROM:-0700
TZOFFSETTO:-0800
TZNAME:PST
DTSTART:20241103T090000
END:STANDARD
BEGIN:DAYLIGHT
TZOFFSETFROM:-0800
TZOFFSETTO:-0700
TZNAME:PDT
DTSTART:20250309T100000
END:DAYLIGHT
BEGIN:STANDARD
TZOFFSETFROM:-0700
TZOFFSETTO:-0800
TZNAME:PST
DTSTART:20251102T090000
END:STANDARD
END:VTIMEZONE
BEGIN:VEVENT
DTSTART;TZID=America/Los_Angeles:20240905T190000
DTEND;TZID=America/Los_Angeles:20240905T203000
DTSTAMP:20230610T185059
CREATED:20230404T235604Z
LAST-MODIFIED:20230404T235626Z
UID:10007284-1725562800-1725568200@seattledsa.org
SUMMARY:SDSA Reproductive Justice Working Group Meeting
DESCRIPTION:Join us for the next meeting of Seattle DSA’s Reproductive Justice Working Group! \nRSVP here for meeting details. \nAnd mark your calendar to join us!
URL:https://seattledsa.org/event/sdsa-reproductive-justice-working-group-meeting-2022-11-10-5-2/2024-09-05/
LOCATION:Online (Zoom Call)\, WA
CATEGORIES:Activism,New Member Friendly
ATTACH;FMTTYPE=image/jpeg:https://seattledsa.org/wp-content/uploads/2022/07/Socialist-Feminist-Resistance.jpg
GEO:47.6618326;-122.3425123
END:VEVENT
BEGIN:VEVENT
DTSTART;TZID=America/Los_Angeles:20240917T183000
DTEND;TZID=America/Los_Angeles:20240917T193000
DTSTAMP:20230610T185059
CREATED:20230123T171827Z
LAST-MODIFIED:20230123T171827Z
UID:10006724-1726597800-1726601400@seattledsa.org
SUMMARY:Electoral Working Group Monthly Meeting
DESCRIPTION:Come join our Electoral Working Group Meeting (Virtually) where we’ll be discussing all things elections! Our top priorities currently are planning for upcoming 2023 and 2024 ballot initiatives and candidate endorsement processes!
URL:https://seattledsa.org/event/electoral-working-group-monthly-meeting-2/2024-09-17/
LOCATION:Online (Zoom Call)\, WA
CATEGORIES:Electoral,New Member Friendly
GEO:47.6618326;-122.3425123
END:VEVENT
BEGIN:VEVENT
DTSTART;TZID=America/Los_Angeles:20241003T190000
DTEND;TZID=America/Los_Angeles:20241003T203000
DTSTAMP:20230610T185059
CREATED:20230404T235604Z
LAST-MODIFIED:20230404T235626Z
UID:10007285-1727982000-1727987400@seattledsa.org
SUMMARY:SDSA Reproductive Justice Working Group Meeting
DESCRIPTION:Join us for the next meeting of Seattle DSA’s Reproductive Justice Working Group! \nRSVP here for meeting details. \nAnd mark your calendar to join us!
URL:https://seattledsa.org/event/sdsa-reproductive-justice-working-group-meeting-2022-11-10-5-2/2024-10-03/
LOCATION:Online (Zoom Call)\, WA
CATEGORIES:Activism,New Member Friendly
ATTACH;FMTTYPE=image/jpeg:https://seattledsa.org/wp-content/uploads/2022/07/Socialist-Feminist-Resistance.jpg
GEO:47.6618326;-122.3425123
END:VEVENT
BEGIN:VEVENT
DTSTART;TZID=America/Los_Angeles:20241015T183000
DTEND;TZID=America/Los_Angeles:20241015T193000
DTSTAMP:20230610T185059
CREATED:20230123T171827Z
LAST-MODIFIED:20230123T171827Z
UID:10006725-1729017000-1729020600@seattledsa.org
SUMMARY:Electoral Working Group Monthly Meeting
DESCRIPTION:Come join our Electoral Working Group Meeting (Virtually) where we’ll be discussing all things elections! Our top priorities currently are planning for upcoming 2023 and 2024 ballot initiatives and candidate endorsement processes!
URL:https://seattledsa.org/event/electoral-working-group-monthly-meeting-2/2024-10-15/
LOCATION:Online (Zoom Call)\, WA
CATEGORIES:Electoral,New Member Friendly
GEO:47.6618326;-122.3425123
END:VEVENT
BEGIN:VEVENT
DTSTART;TZID=America/Los_Angeles:20241031T190000
DTEND;TZID=America/Los_Angeles:20241031T203000
DTSTAMP:20230610T185059
CREATED:20230404T235604Z
LAST-MODIFIED:20230404T235626Z
UID:10007286-1730401200-1730406600@seattledsa.org
SUMMARY:SDSA Reproductive Justice Working Group Meeting
DESCRIPTION:Join us for the next meeting of Seattle DSA’s Reproductive Justice Working Group! \nRSVP here for meeting details. \nAnd mark your calendar to join us!
URL:https://seattledsa.org/event/sdsa-reproductive-justice-working-group-meeting-2022-11-10-5-2/2024-10-31/
LOCATION:Online (Zoom Call)\, WA
CATEGORIES:Activism,New Member Friendly
ATTACH;FMTTYPE=image/jpeg:https://seattledsa.org/wp-content/uploads/2022/07/Socialist-Feminist-Resistance.jpg
GEO:47.6618326;-122.3425123
END:VEVENT
BEGIN:VEVENT
DTSTART;TZID=America/Los_Angeles:20241119T183000
DTEND;TZID=America/Los_Angeles:20241119T193000
DTSTAMP:20230610T185059
CREATED:20230123T171827Z
LAST-MODIFIED:20230123T171827Z
UID:10006726-1732041000-1732044600@seattledsa.org
SUMMARY:Electoral Working Group Monthly Meeting
DESCRIPTION:Come join our Electoral Working Group Meeting (Virtually) where we’ll be discussing all things elections! Our top priorities currently are planning for upcoming 2023 and 2024 ballot initiatives and candidate endorsement processes!
URL:https://seattledsa.org/event/electoral-working-group-monthly-meeting-2/2024-11-19/
LOCATION:Online (Zoom Call)\, WA
CATEGORIES:Electoral,New Member Friendly
GEO:47.6618326;-122.3425123
END:VEVENT
BEGIN:VEVENT
DTSTART;TZID=America/Los_Angeles:20241128T190000
DTEND;TZID=America/Los_Angeles:20241128T203000
DTSTAMP:20230610T185059
CREATED:20230404T235604Z
LAST-MODIFIED:20230404T235626Z
UID:10007007-1732820400-1732825800@seattledsa.org
SUMMARY:SDSA Reproductive Justice Working Group Meeting
DESCRIPTION:Join us for the next meeting of Seattle DSA’s Reproductive Justice Working Group! \nRSVP here for meeting details. \nAnd mark your calendar to join us!
URL:https://seattledsa.org/event/sdsa-reproductive-justice-working-group-meeting-2022-11-10-5-2/2024-11-28/
LOCATION:Online (Zoom Call)\, WA
CATEGORIES:Activism,New Member Friendly
ATTACH;FMTTYPE=image/jpeg:https://seattledsa.org/wp-content/uploads/2022/07/Socialist-Feminist-Resistance.jpg
GEO:47.6618326;-122.3425123
END:VEVENT
BEGIN:VEVENT
DTSTART;TZID=America/Los_Angeles:20241226T190000
DTEND;TZID=America/Los_Angeles:20241226T203000
DTSTAMP:20230610T185059
CREATED:20230404T235604Z
LAST-MODIFIED:20230404T235626Z
UID:10007008-1735239600-1735245000@seattledsa.org
SUMMARY:SDSA Reproductive Justice Working Group Meeting
DESCRIPTION:Join us for the next meeting of Seattle DSA’s Reproductive Justice Working Group! \nRSVP here for meeting details. \nAnd mark your calendar to join us!
URL:https://seattledsa.org/event/sdsa-reproductive-justice-working-group-meeting-2022-11-10-5-2/2024-12-26/
LOCATION:Online (Zoom Call)\, WA
CATEGORIES:Activism,New Member Friendly
ATTACH;FMTTYPE=image/jpeg:https://seattledsa.org/wp-content/uploads/2022/07/Socialist-Feminist-Resistance.jpg
GEO:47.6618326;-122.3425123
END:VEVENT
BEGIN:VEVENT
DTSTART;TZID=America/Los_Angeles:20250123T190000
DTEND;TZID=America/Los_Angeles:20250123T203000
DTSTAMP:20230610T185059
CREATED:20230404T235604Z
LAST-MODIFIED:20230404T235626Z
UID:10007009-1737658800-1737664200@seattledsa.org
SUMMARY:SDSA Reproductive Justice Working Group Meeting
DESCRIPTION:Join us for the next meeting of Seattle DSA’s Reproductive Justice Working Group! \nRSVP here for meeting details. \nAnd mark your calendar to join us!
URL:https://seattledsa.org/event/sdsa-reproductive-justice-working-group-meeting-2022-11-10-5-2/2025-01-23/
LOCATION:Online (Zoom Call)\, WA
CATEGORIES:Activism,New Member Friendly
ATTACH;FMTTYPE=image/jpeg:https://seattledsa.org/wp-content/uploads/2022/07/Socialist-Feminist-Resistance.jpg
GEO:47.6618326;-122.3425123
END:VEVENT
BEGIN:VEVENT
DTSTART;TZID=America/Los_Angeles:20250220T190000
DTEND;TZID=America/Los_Angeles:20250220T203000
DTSTAMP:20230610T185059
CREATED:20230404T235604Z
LAST-MODIFIED:20230404T235626Z
UID:10007287-1740078000-1740083400@seattledsa.org
SUMMARY:SDSA Reproductive Justice Working Group Meeting
DESCRIPTION:Join us for the next meeting of Seattle DSA’s Reproductive Justice Working Group! \nRSVP here for meeting details. \nAnd mark your calendar to join us!
URL:https://seattledsa.org/event/sdsa-reproductive-justice-working-group-meeting-2022-11-10-5-2/2025-02-20/
LOCATION:Online (Zoom Call)\, WA
CATEGORIES:Activism,New Member Friendly
ATTACH;FMTTYPE=image/jpeg:https://seattledsa.org/wp-content/uploads/2022/07/Socialist-Feminist-Resistance.jpg
GEO:47.6618326;-122.3425123
END:VEVENT
BEGIN:VEVENT
DTSTART;TZID=America/Los_Angeles:20250320T190000
DTEND;TZID=America/Los_Angeles:20250320T203000
DTSTAMP:20230610T185059
CREATED:20230404T235604Z
LAST-MODIFIED:20230404T235626Z
UID:10007288-1742497200-1742502600@seattledsa.org
SUMMARY:SDSA Reproductive Justice Working Group Meeting
DESCRIPTION:Join us for the next meeting of Seattle DSA’s Reproductive Justice Working Group! \nRSVP here for meeting details. \nAnd mark your calendar to join us!
URL:https://seattledsa.org/event/sdsa-reproductive-justice-working-group-meeting-2022-11-10-5-2/2025-03-20/
LOCATION:Online (Zoom Call)\, WA
CATEGORIES:Activism,New Member Friendly
ATTACH;FMTTYPE=image/jpeg:https://seattledsa.org/wp-content/uploads/2022/07/Socialist-Feminist-Resistance.jpg
GEO:47.6618326;-122.3425123
END:VEVENT
END:VCALENDAR