BEGIN:VCALENDAR
VERSION:2.0
PRODID:-//Seattle Democratic Socialists of America - ECPv6.0.13.1//NONSGML v1.0//EN
CALSCALE:GREGORIAN
METHOD:PUBLISH
X-ORIGINAL-URL:https://seattledsa.org
X-WR-CALDESC:Events for Seattle Democratic Socialists of America
REFRESH-INTERVAL;VALUE=DURATION:PT1H
X-Robots-Tag:noindex
X-PUBLISHED-TTL:PT1H
BEGIN:VTIMEZONE
TZID:America/Los_Angeles
BEGIN:DAYLIGHT
TZOFFSETFROM:-0800
TZOFFSETTO:-0700
TZNAME:PDT
DTSTART:20230312T100000
END:DAYLIGHT
BEGIN:STANDARD
TZOFFSETFROM:-0700
TZOFFSETTO:-0800
TZNAME:PST
DTSTART:20231105T090000
END:STANDARD
END:VTIMEZONE
BEGIN:VEVENT
DTSTART;TZID=America/Los_Angeles:20230516T190000
DTEND;TZID=America/Los_Angeles:20230516T210000
DTSTAMP:20230610T175309
CREATED:20230405T011214Z
LAST-MODIFIED:20230405T011317Z
UID:10007297-1684263600-1684270800@seattledsa.org
SUMMARY:Board Games and Buddies: Capitol Hill
DESCRIPTION:Putting the party back in politics.\nBoard games and (root) beer with some local left homies at a cool bar.\nNo agenda and no lecture to sit through.\nJust having a good time + getting to know folks.\nFeel free to bring your own games as well! \nNOTES:\nPlease eat beforehand unless you’re fine with $8.00 grilled cheeses! \n \nContact JJ B. at 360-319-2009 to meet up!\nHosted by the Housing Justice Working Group.
URL:https://seattledsa.org/event/board-games-and-buddies-capitol-hill-3/2023-05-16/
LOCATION:Raygun Lounge\, 501 E Pine St\, Seattle\, WA\, 98122\, United States
CATEGORIES:Housing,New Member Friendly,Socials
GEO:47.6150502;-122.3252425
X-APPLE-STRUCTURED-LOCATION;VALUE=URI;X-ADDRESS=Raygun Lounge 501 E Pine St Seattle WA 98122 United States;X-APPLE-RADIUS=500;X-TITLE=501 E Pine St:geo:-122.3252425,47.6150502
END:VEVENT
BEGIN:VEVENT
DTSTART;TZID=America/Los_Angeles:20230523T190000
DTEND;TZID=America/Los_Angeles:20230523T210000
DTSTAMP:20230610T175309
CREATED:20230405T011214Z
LAST-MODIFIED:20230405T011317Z
UID:10007298-1684868400-1684875600@seattledsa.org
SUMMARY:Board Games and Buddies: Capitol Hill
DESCRIPTION:Putting the party back in politics.\nBoard games and (root) beer with some local left homies at a cool bar.\nNo agenda and no lecture to sit through.\nJust having a good time + getting to know folks.\nFeel free to bring your own games as well! \nNOTES:\nPlease eat beforehand unless you’re fine with $8.00 grilled cheeses! \n \nContact JJ B. at 360-319-2009 to meet up!\nHosted by the Housing Justice Working Group.
URL:https://seattledsa.org/event/board-games-and-buddies-capitol-hill-3/2023-05-23/
LOCATION:Raygun Lounge\, 501 E Pine St\, Seattle\, WA\, 98122\, United States
CATEGORIES:Housing,New Member Friendly,Socials
GEO:47.6150502;-122.3252425
X-APPLE-STRUCTURED-LOCATION;VALUE=URI;X-ADDRESS=Raygun Lounge 501 E Pine St Seattle WA 98122 United States;X-APPLE-RADIUS=500;X-TITLE=501 E Pine St:geo:-122.3252425,47.6150502
END:VEVENT
BEGIN:VEVENT
DTSTART;TZID=America/Los_Angeles:20230530T190000
DTEND;TZID=America/Los_Angeles:20230530T210000
DTSTAMP:20230610T175309
CREATED:20230405T011214Z
LAST-MODIFIED:20230405T011317Z
UID:10007299-1685473200-1685480400@seattledsa.org
SUMMARY:Board Games and Buddies: Capitol Hill
DESCRIPTION:Putting the party back in politics.\nBoard games and (root) beer with some local left homies at a cool bar.\nNo agenda and no lecture to sit through.\nJust having a good time + getting to know folks.\nFeel free to bring your own games as well! \nNOTES:\nPlease eat beforehand unless you’re fine with $8.00 grilled cheeses! \n \nContact JJ B. at 360-319-2009 to meet up!\nHosted by the Housing Justice Working Group.
URL:https://seattledsa.org/event/board-games-and-buddies-capitol-hill-3/2023-05-30/
LOCATION:Raygun Lounge\, 501 E Pine St\, Seattle\, WA\, 98122\, United States
CATEGORIES:Housing,New Member Friendly,Socials
GEO:47.6150502;-122.3252425
X-APPLE-STRUCTURED-LOCATION;VALUE=URI;X-ADDRESS=Raygun Lounge 501 E Pine St Seattle WA 98122 United States;X-APPLE-RADIUS=500;X-TITLE=501 E Pine St:geo:-122.3252425,47.6150502
END:VEVENT
BEGIN:VEVENT
DTSTART;TZID=America/Los_Angeles:20230606T190000
DTEND;TZID=America/Los_Angeles:20230606T210000
DTSTAMP:20230610T175309
CREATED:20230405T011214Z
LAST-MODIFIED:20230405T011317Z
UID:10007300-1686078000-1686085200@seattledsa.org
SUMMARY:Board Games and Buddies: Capitol Hill
DESCRIPTION:Putting the party back in politics.\nBoard games and (root) beer with some local left homies at a cool bar.\nNo agenda and no lecture to sit through.\nJust having a good time + getting to know folks.\nFeel free to bring your own games as well! \nNOTES:\nPlease eat beforehand unless you’re fine with $8.00 grilled cheeses! \n \nContact JJ B. at 360-319-2009 to meet up!\nHosted by the Housing Justice Working Group.
URL:https://seattledsa.org/event/board-games-and-buddies-capitol-hill-3/2023-06-06/
LOCATION:Raygun Lounge\, 501 E Pine St\, Seattle\, WA\, 98122\, United States
CATEGORIES:Housing,New Member Friendly,Socials
GEO:47.6150502;-122.3252425
X-APPLE-STRUCTURED-LOCATION;VALUE=URI;X-ADDRESS=Raygun Lounge 501 E Pine St Seattle WA 98122 United States;X-APPLE-RADIUS=500;X-TITLE=501 E Pine St:geo:-122.3252425,47.6150502
END:VEVENT
END:VCALENDAR