BEGIN:VCALENDAR
VERSION:2.0
PRODID:-//Seattle Democratic Socialists of America - ECPv6.0.13.1//NONSGML v1.0//EN
CALSCALE:GREGORIAN
METHOD:PUBLISH
X-WR-CALNAME:Seattle Democratic Socialists of America
X-ORIGINAL-URL:https://seattledsa.org
X-WR-CALDESC:Events for Seattle Democratic Socialists of America
REFRESH-INTERVAL;VALUE=DURATION:PT1H
X-Robots-Tag:noindex
X-PUBLISHED-TTL:PT1H
BEGIN:VTIMEZONE
TZID:America/Los_Angeles
BEGIN:DAYLIGHT
TZOFFSETFROM:-0800
TZOFFSETTO:-0700
TZNAME:PDT
DTSTART:20230312T100000
END:DAYLIGHT
BEGIN:STANDARD
TZOFFSETFROM:-0700
TZOFFSETTO:-0800
TZNAME:PST
DTSTART:20231105T090000
END:STANDARD
END:VTIMEZONE
BEGIN:VEVENT
DTSTART;TZID=America/Los_Angeles:20230427T170000
DTEND;TZID=America/Los_Angeles:20230427T190000
DTSTAMP:20230610T163400
CREATED:20230424T161640Z
LAST-MODIFIED:20230424T161645Z
UID:10007651-1682614800-1682622000@seattledsa.org
SUMMARY:Raise The Wage Renton Canvass - Renton Highlands
DESCRIPTION:Join Raise the Wage Renton as we reach out to voters about raising the minimum wage! We’ll be knocking doors in the Renton Highlands to let people know about our campaign\, collect signatures\, and recruit volunteers. \nWe’ll be meeting at the NE 4th St Starbucks (4112 NE 4th St\, Renton\, WA 98059\, and then heading out to canvass. \nSee you there! \nRSVP Here (very helpful for organizers!)
URL:https://seattledsa.org/event/raise-the-wage-renton-canvass-renton-highlands/
LOCATION:Renton 4th St NE QFC\, 4800 NE 4th St\, Renton\, WA\, 98059\, United States
CATEGORIES:New Member Friendly,Raise the Wage Renton,South King County
ATTACH;FMTTYPE=image/png:https://seattledsa.org/wp-content/uploads/2023/02/rtw-renton-approved-2-THUMBNAIL.png
ORGANIZER;CN="Seattle%20DSA%20Electoral%20Committee":MAILTO:electoral@seattledsa.org
END:VEVENT
BEGIN:VEVENT
DTSTART;TZID=America/Los_Angeles:20230427T173000
DTEND;TZID=America/Los_Angeles:20230427T193000
DTSTAMP:20230610T163400
CREATED:20230412T220041Z
LAST-MODIFIED:20230412T220044Z
UID:10007499-1682616600-1682623800@seattledsa.org
SUMMARY:Raise the Wage Renton Tabling – QFC
DESCRIPTION:Join us at our Raise The Wage Renton signature gathering table at QFC. \nTalk to retail/service workers and their customers\, meet cool people from around King County who care about workers’ standard of living\, and contribute to a great cause! \nSee you there! \nRSVP here (not required\, but strongly encouraged so we have a sense of how many volunteers to expect)
URL:https://seattledsa.org/event/raise-the-wage-renton-tabling-uwajimaya-3-3-2-2/
LOCATION:Renton 4th St NE QFC\, 4800 NE 4th St\, Renton\, WA\, 98059\, United States
CATEGORIES:New Member Friendly,Raise the Wage Renton,South King County
ATTACH;FMTTYPE=image/png:https://seattledsa.org/wp-content/uploads/2023/02/rtw-renton-approved-2-THUMBNAIL.png
ORGANIZER;CN="Seattle%20DSA%20Electoral%20Committee":MAILTO:electoral@seattledsa.org
END:VEVENT
BEGIN:VEVENT
DTSTART;TZID=America/Los_Angeles:20230430T103000
DTEND;TZID=America/Los_Angeles:20230430T200000
DTSTAMP:20230610T163400
CREATED:20230408T223140Z
LAST-MODIFIED:20230411T224931Z
UID:10007468-1682850600-1682884800@seattledsa.org
SUMMARY:Raise the Wage Renton - QFC
DESCRIPTION:NOTE: On April 30 we will be at the NE 4th St QFC from 10:30 AM – 8:00 PM! Please try to RSVP to give organizers an idea of when you’ll be stopping by! \nJoin us at our weekly Raise The Wage Renton signature gathering table at QFC. \nTalk to retail/service workers and their customers\, meet cool people from around King County who care about workers’ standard of living\, and contribute to a great cause! \nSee you there! \nRSVP Here.
URL:https://seattledsa.org/event/raise-the-wage-renton-qfc-3-2-2/
LOCATION:Renton 4th St NE QFC\, 4800 NE 4th St\, Renton\, WA\, 98059\, United States
CATEGORIES:New Member Friendly,Raise the Wage Renton,South King County
ATTACH;FMTTYPE=image/png:https://seattledsa.org/wp-content/uploads/2023/02/rtw-renton-approved-2-THUMBNAIL.png
END:VEVENT
BEGIN:VEVENT
DTSTART;TZID=America/Los_Angeles:20230504T173000
DTEND;TZID=America/Los_Angeles:20230504T193000
DTSTAMP:20230610T163400
CREATED:20230412T220418Z
LAST-MODIFIED:20230412T220421Z
UID:10007500-1683221400-1683228600@seattledsa.org
SUMMARY:Raise the Wage Renton Tabling – QFC
DESCRIPTION:Join us at our Raise The Wage Renton signature gathering table at QFC. \nTalk to retail/service workers and their customers\, meet cool people from around King County who care about workers’ standard of living\, and contribute to a great cause! \nSee you there! \nRSVP here (not required\, but strongly encouraged so we have a sense of how many volunteers to expect)
URL:https://seattledsa.org/event/raise-the-wage-renton-tabling-uwajimaya-3-3-2-3/
LOCATION:Renton 4th St NE QFC\, 4800 NE 4th St\, Renton\, WA\, 98059\, United States
CATEGORIES:New Member Friendly,Raise the Wage Renton,South King County
ATTACH;FMTTYPE=image/png:https://seattledsa.org/wp-content/uploads/2023/02/rtw-renton-approved-2-THUMBNAIL.png
ORGANIZER;CN="Seattle%20DSA%20Electoral%20Committee":MAILTO:electoral@seattledsa.org
END:VEVENT
BEGIN:VEVENT
DTSTART;TZID=America/Los_Angeles:20230507T103000
DTEND;TZID=America/Los_Angeles:20230507T170000
DTSTAMP:20230610T163400
CREATED:20230411T224031Z
LAST-MODIFIED:20230427T204032Z
UID:10007031-1683455400-1683478800@seattledsa.org
SUMMARY:Raise the Wage Renton - QFC
DESCRIPTION:NOTE: On May 7 we will be at the NE 4th St QFC from 10:30 AM – 5:00 PM! Please try to RSVP to give organizers an idea of when you’ll be stopping by! \nJoin us at our weekly Raise The Wage Renton signature gathering table at QFC. \nTalk to retail/service workers and their customers\, meet cool people from around King County who care about workers’ standard of living\, and contribute to a great cause! \nSee you there! \nRSVP Here.
URL:https://seattledsa.org/event/raise-the-wage-renton-qfc-4-2/
LOCATION:Renton 4th St NE QFC\, 4800 NE 4th St\, Renton\, WA\, 98059\, United States
CATEGORIES:New Member Friendly,Raise the Wage Renton,South King County
ATTACH;FMTTYPE=image/png:https://seattledsa.org/wp-content/uploads/2023/02/rtw-renton-approved-2-THUMBNAIL.png
ORGANIZER;CN="Seattle%20DSA%20Electoral%20Committee":MAILTO:electoral@seattledsa.org
END:VEVENT
BEGIN:VEVENT
DTSTART;TZID=America/Los_Angeles:20230514T103000
DTEND;TZID=America/Los_Angeles:20230514T200000
DTSTAMP:20230610T163400
CREATED:20230411T223841Z
LAST-MODIFIED:20230411T225223Z
UID:10007032-1684060200-1684094400@seattledsa.org
SUMMARY:Raise the Wage Renton - QFC
DESCRIPTION:NOTE: On May 14 we will be at the NE 4th St QFC from 10:30 AM – 8:00 PM! Please try to RSVP to give organizers an idea of when you’ll be stopping by! \nJoin us at our weekly Raise The Wage Renton signature gathering table at QFC. \nTalk to retail/service workers and their customers\, meet cool people from around King County who care about workers’ standard of living\, and contribute to a great cause! \nSee you there! \nRSVP Here.
URL:https://seattledsa.org/event/raise-the-wage-renton-qfc-4/
LOCATION:Renton 4th St NE QFC\, 4800 NE 4th St\, Renton\, WA\, 98059\, United States
CATEGORIES:New Member Friendly,Raise the Wage Renton,South King County
ATTACH;FMTTYPE=image/png:https://seattledsa.org/wp-content/uploads/2023/02/rtw-renton-approved-2-THUMBNAIL.png
ORGANIZER;CN="Seattle%20DSA%20Electoral%20Committee":MAILTO:electoral@seattledsa.org
END:VEVENT
END:VCALENDAR