BEGIN:VCALENDAR
VERSION:2.0
PRODID:-//Seattle Democratic Socialists of America - ECPv6.0.13.1//NONSGML v1.0//EN
CALSCALE:GREGORIAN
METHOD:PUBLISH
X-WR-CALNAME:Seattle Democratic Socialists of America
X-ORIGINAL-URL:https://seattledsa.org
X-WR-CALDESC:Events for Seattle Democratic Socialists of America
REFRESH-INTERVAL;VALUE=DURATION:PT1H
X-Robots-Tag:noindex
X-PUBLISHED-TTL:PT1H
BEGIN:VTIMEZONE
TZID:America/Los_Angeles
BEGIN:DAYLIGHT
TZOFFSETFROM:-0800
TZOFFSETTO:-0700
TZNAME:PDT
DTSTART:20230312T100000
END:DAYLIGHT
BEGIN:STANDARD
TZOFFSETFROM:-0700
TZOFFSETTO:-0800
TZNAME:PST
DTSTART:20231105T090000
END:STANDARD
END:VTIMEZONE
BEGIN:VEVENT
DTSTART;TZID=America/Los_Angeles:20230520T140000
DTEND;TZID=America/Los_Angeles:20230520T160000
DTSTAMP:20230610T164126
CREATED:20230517T002506Z
LAST-MODIFIED:20230517T002508Z
UID:10007109-1684591200-1684598400@seattledsa.org
SUMMARY:Raise The Wage Renton Tabling - Renton Library
DESCRIPTION:Join us at Renton Library to help get Raise the Wage Renton on the ballot! \nSee you there! \nRSVP Here
URL:https://seattledsa.org/event/raise-the-wage-renton-with-the-marxist-unity-group-7/
LOCATION:Renton Library\, 100 Mill Ave S\, Renton\, WA\, 98057\, United States
CATEGORIES:New Member Friendly,Raise the Wage Renton,South King County
ATTACH;FMTTYPE=image/png:https://seattledsa.org/wp-content/uploads/2023/02/rtw-renton-approved-2-THUMBNAIL.png
END:VEVENT
END:VCALENDAR