BEGIN:VCALENDAR
VERSION:2.0
PRODID:-//Seattle Democratic Socialists of America - ECPv6.0.13.1//NONSGML v1.0//EN
CALSCALE:GREGORIAN
METHOD:PUBLISH
X-WR-CALNAME:Seattle Democratic Socialists of America
X-ORIGINAL-URL:https://seattledsa.org
X-WR-CALDESC:Events for Seattle Democratic Socialists of America
REFRESH-INTERVAL;VALUE=DURATION:PT1H
X-Robots-Tag:noindex
X-PUBLISHED-TTL:PT1H
BEGIN:VTIMEZONE
TZID:America/Los_Angeles
BEGIN:DAYLIGHT
TZOFFSETFROM:-0800
TZOFFSETTO:-0700
TZNAME:PDT
DTSTART:20230312T100000
END:DAYLIGHT
BEGIN:STANDARD
TZOFFSETFROM:-0700
TZOFFSETTO:-0800
TZNAME:PST
DTSTART:20231105T090000
END:STANDARD
END:VTIMEZONE
BEGIN:VEVENT
DTSTART;TZID=America/Los_Angeles:20230412T180000
DTEND;TZID=America/Los_Angeles:20230412T200000
DTSTAMP:20230610T164116
CREATED:20230321T181228Z
LAST-MODIFIED:20230321T181333Z
UID:10007083-1681322400-1681329600@seattledsa.org
SUMMARY:Raise the Wage Renton Tabling – Renton Safeway
DESCRIPTION:Join us at Renton Safeway to help get Raise the Wage Renton on the ballot! \nTalk to retail/service workers and their customers\, meet cool people from around King County who care about workers’ standard of living\, and contribute to a great cause! \nSee you there! \nRSVP here (not required\, but strongly encouraged so we have a sense of how many volunteers to expect) \n 
URL:https://seattledsa.org/event/raise-the-wage-renton-tabling-renton-safeway-5-5-2/
LOCATION:Renton Safeway\, 300 NE 4th St\, Renton\, WA\, 98059\, United States
CATEGORIES:New Member Orientation,Raise the Wage Renton,South King County
ATTACH;FMTTYPE=image/png:https://seattledsa.org/wp-content/uploads/2023/02/rtw-renton-approved-2-THUMBNAIL.png
ORGANIZER;CN="Seattle%20DSA%20Electoral%20Committee":MAILTO:electoral@seattledsa.org
END:VEVENT
BEGIN:VEVENT
DTSTART;TZID=America/Los_Angeles:20230426T180000
DTEND;TZID=America/Los_Angeles:20230426T200000
DTSTAMP:20230610T164116
CREATED:20230321T181747Z
LAST-MODIFIED:20230412T221238Z
UID:10007085-1682532000-1682539200@seattledsa.org
SUMMARY:Raise the Wage Renton Tabling – Renton Safeway
DESCRIPTION:Join us at Renton Safeway to help get Raise the Wage Renton on the ballot! \nTalk to retail/service workers and their customers\, meet cool people from around King County who care about workers’ standard of living\, and contribute to a great cause! \nSee you there! \nRSVP here (not required\, but strongly encouraged so we have a sense of how many volunteers to expect) \n 
URL:https://seattledsa.org/event/raise-the-wage-renton-tabling-renton-safeway-5-5-4/2023-04-26/
LOCATION:Renton Safeway\, 300 NE 4th St\, Renton\, WA\, 98059\, United States
CATEGORIES:New Member Orientation,Raise the Wage Renton,South King County
ATTACH;FMTTYPE=image/png:https://seattledsa.org/wp-content/uploads/2023/02/rtw-renton-approved-2-THUMBNAIL.png
ORGANIZER;CN="Seattle%20DSA%20Electoral%20Committee":MAILTO:electoral@seattledsa.org
END:VEVENT
BEGIN:VEVENT
DTSTART;TZID=America/Los_Angeles:20230503T180000
DTEND;TZID=America/Los_Angeles:20230503T200000
DTSTAMP:20230610T164116
CREATED:20230412T221512Z
LAST-MODIFIED:20230412T221515Z
UID:10007555-1683136800-1683144000@seattledsa.org
SUMMARY:Raise the Wage Renton Tabling – Renton Safeway
DESCRIPTION:Join us at Renton Safeway to help get Raise the Wage Renton on the ballot! \nTalk to retail/service workers and their customers\, meet cool people from around King County who care about workers’ standard of living\, and contribute to a great cause! \nSee you there! \nRSVP here (not required\, but strongly encouraged so we have a sense of how many volunteers to expect) \n 
URL:https://seattledsa.org/event/raise-the-wage-renton-tabling-renton-safeway-5-5-4-2/
LOCATION:Renton Safeway\, 300 NE 4th St\, Renton\, WA\, 98059\, United States
CATEGORIES:New Member Orientation,Raise the Wage Renton,South King County
ATTACH;FMTTYPE=image/png:https://seattledsa.org/wp-content/uploads/2023/02/rtw-renton-approved-2-THUMBNAIL.png
ORGANIZER;CN="Seattle%20DSA%20Electoral%20Committee":MAILTO:electoral@seattledsa.org
END:VEVENT
END:VCALENDAR