BEGIN:VCALENDAR
VERSION:2.0
PRODID:-//Seattle Democratic Socialists of America - ECPv6.0.13.1//NONSGML v1.0//EN
CALSCALE:GREGORIAN
METHOD:PUBLISH
X-WR-CALNAME:Seattle Democratic Socialists of America
X-ORIGINAL-URL:https://seattledsa.org
X-WR-CALDESC:Events for Seattle Democratic Socialists of America
REFRESH-INTERVAL;VALUE=DURATION:PT1H
X-Robots-Tag:noindex
X-PUBLISHED-TTL:PT1H
BEGIN:VTIMEZONE
TZID:America/Los_Angeles
BEGIN:DAYLIGHT
TZOFFSETFROM:-0800
TZOFFSETTO:-0700
TZNAME:PDT
DTSTART:20220313T100000
END:DAYLIGHT
BEGIN:STANDARD
TZOFFSETFROM:-0700
TZOFFSETTO:-0800
TZNAME:PST
DTSTART:20221106T090000
END:STANDARD
END:VTIMEZONE
BEGIN:VEVENT
DTSTART;TZID=America/Los_Angeles:20220730T110000
DTEND;TZID=America/Los_Angeles:20220730T130000
DTSTAMP:20230610T195909
CREATED:20220723T080042Z
LAST-MODIFIED:20220723T080043Z
UID:10006549-1659178800-1659186000@seattledsa.org
SUMMARY:DSA for Gallardo Canvassing – Tukwila Riverton Park
DESCRIPTION:Join us to knock doors across the district! \nWe will be talking to voters about voting for Stephanie Gallardo for Congress in the upcoming Primary Election on August 2. This is a critical step in getting her elected! \nWe will be meeting in front of the Riverton Park (13263 Macadam Rd S) to knock doors in Tukwila. We will have clipboards\, buttons\, and campaign literature packets. \nNo experience required\, training on site provided. We will be using the Field Edge for NationBuilder app\, which we encourage you to download and create an account beforehand. \nIf you plan to canvass with us\, make sure you bring good walking shoes for a couple hours of walking\, a charged phone\, and check the weather for rain. RSVP encouraged but not required\, so we can prepare turfs beforehand. \nWe are excited to build our movement together! \nRSVP here.
URL:https://seattledsa.org/event/dsa-for-gallardo-canvassing-tukwila-riverton-park/
LOCATION:Riverton Park\, 13263 Macadam Rd S\, Tukwila\, WA\, 98168\, United States
CATEGORIES:Electoral,New Member Friendly,SDSA for Stephanie Gallardo
ATTACH;FMTTYPE=image/jpeg:https://seattledsa.org/wp-content/uploads/2022/04/StephanieforCongress_Banner-2.jpg
ORGANIZER;CN="Seattle%20DSA%20Electoral%20Committee":MAILTO:electoral@seattledsa.org
END:VEVENT
END:VCALENDAR