BEGIN:VCALENDAR
VERSION:2.0
PRODID:-//Seattle Democratic Socialists of America - ECPv6.0.13.1//NONSGML v1.0//EN
CALSCALE:GREGORIAN
METHOD:PUBLISH
X-ORIGINAL-URL:https://seattledsa.org
X-WR-CALDESC:Events for Seattle Democratic Socialists of America
REFRESH-INTERVAL;VALUE=DURATION:PT1H
X-Robots-Tag:noindex
X-PUBLISHED-TTL:PT1H
BEGIN:VTIMEZONE
TZID:America/Los_Angeles
BEGIN:DAYLIGHT
TZOFFSETFROM:-0800
TZOFFSETTO:-0700
TZNAME:PDT
DTSTART:20220313T100000
END:DAYLIGHT
BEGIN:STANDARD
TZOFFSETFROM:-0700
TZOFFSETTO:-0800
TZNAME:PST
DTSTART:20221106T090000
END:STANDARD
END:VTIMEZONE
BEGIN:VEVENT
DTSTART;TZID=America/Los_Angeles:20220808T163000
DTEND;TZID=America/Los_Angeles:20220808T180000
DTSTAMP:20230610T190310
CREATED:20220330T043456Z
LAST-MODIFIED:20220701T201148Z
UID:10004956-1659976200-1659981600@seattledsa.org
SUMMARY:Local Council Weekly Meetings 2022
DESCRIPTION:Seattle DSA local council meets every week day at 4:30Pm to 6:00PM. \nPer our bylaws\, “The Local Council is the democratically elected leadership body. It serves as the second highest legislative and judicial body\, below General Membership. The Local Council manages the day-to-day affairs of the Local between General Meetings. This includes handling finances\, accounts\, member data\, as well as voting on resolutions as it sees fit.” \nAll members in good standing are free to attend. Find registration info in the announcements channel on slack.
URL:https://seattledsa.org/event/local-council-weekly-meetings-2022/2022-08-08/
LOCATION:Eightball Cafe in Everett\, 2727 Colby Ave\, Everett\, WA\, United States
CATEGORIES:SDSA Local Council
GEO:37.09024;-95.712891
X-APPLE-STRUCTURED-LOCATION;VALUE=URI;X-ADDRESS=Eightball Cafe in Everett 2727 Colby Ave Everett WA United States;X-APPLE-RADIUS=500;X-TITLE=2727 Colby Ave:geo:-95.712891,37.09024
END:VEVENT
BEGIN:VEVENT
DTSTART;TZID=America/Los_Angeles:20220815T163000
DTEND;TZID=America/Los_Angeles:20220815T180000
DTSTAMP:20230610T190310
CREATED:20220330T043456Z
LAST-MODIFIED:20220701T201148Z
UID:10004957-1660581000-1660586400@seattledsa.org
SUMMARY:Local Council Weekly Meetings 2022
DESCRIPTION:Seattle DSA local council meets every week day at 4:30Pm to 6:00PM. \nPer our bylaws\, “The Local Council is the democratically elected leadership body. It serves as the second highest legislative and judicial body\, below General Membership. The Local Council manages the day-to-day affairs of the Local between General Meetings. This includes handling finances\, accounts\, member data\, as well as voting on resolutions as it sees fit.” \nAll members in good standing are free to attend. Find registration info in the announcements channel on slack.
URL:https://seattledsa.org/event/local-council-weekly-meetings-2022/2022-08-15/
LOCATION:Eightball Cafe in Everett\, 2727 Colby Ave\, Everett\, WA\, United States
CATEGORIES:SDSA Local Council
GEO:37.09024;-95.712891
X-APPLE-STRUCTURED-LOCATION;VALUE=URI;X-ADDRESS=Eightball Cafe in Everett 2727 Colby Ave Everett WA United States;X-APPLE-RADIUS=500;X-TITLE=2727 Colby Ave:geo:-95.712891,37.09024
END:VEVENT
BEGIN:VEVENT
DTSTART;TZID=America/Los_Angeles:20220818T180000
DTEND;TZID=America/Los_Angeles:20220818T200000
DTSTAMP:20230610T190310
CREATED:20220716T041120Z
LAST-MODIFIED:20220716T041120Z
UID:10006537-1660845600-1660852800@seattledsa.org
SUMMARY:August 2022 Electoral Committee Meeting
DESCRIPTION:The Monthly DSA Electoral Committee meeting! \nPlease RSVP for Zoom entry and meeting agenda.
URL:https://seattledsa.org/event/august-2022-electoral-committee-meeting/
LOCATION:Eightball Cafe in Everett\, 2727 Colby Ave\, Everett\, WA\, United States
CATEGORIES:Electoral,New Member Friendly
GEO:37.09024;-95.712891
X-APPLE-STRUCTURED-LOCATION;VALUE=URI;X-ADDRESS=Eightball Cafe in Everett 2727 Colby Ave Everett WA United States;X-APPLE-RADIUS=500;X-TITLE=2727 Colby Ave:geo:-95.712891,37.09024
END:VEVENT
BEGIN:VEVENT
DTSTART;TZID=America/Los_Angeles:20220821T160000
DTEND;TZID=America/Los_Angeles:20220821T173000
DTSTAMP:20230610T190310
CREATED:20211127T002701Z
LAST-MODIFIED:20211127T003051Z
UID:10006227-1661097600-1661103000@seattledsa.org
SUMMARY:Mobilization Committee Meeting
DESCRIPTION:Mobilization Committee meets to discuss resistance against fascist\, racist\, and homophobic agents. We talk frequently about the history of resistance\, and how we can take action now.
URL:https://seattledsa.org/event/mobilization-committee-meeting-2-2022-01-16/2022-08-21/
LOCATION:Eightball Cafe in Everett\, 2727 Colby Ave\, Everett\, WA\, United States
CATEGORIES:Mobilization
GEO:37.09024;-95.712891
X-APPLE-STRUCTURED-LOCATION;VALUE=URI;X-ADDRESS=Eightball Cafe in Everett 2727 Colby Ave Everett WA United States;X-APPLE-RADIUS=500;X-TITLE=2727 Colby Ave:geo:-95.712891,37.09024
END:VEVENT
BEGIN:VEVENT
DTSTART;TZID=America/Los_Angeles:20220822T163000
DTEND;TZID=America/Los_Angeles:20220822T180000
DTSTAMP:20230610T190310
CREATED:20220330T043456Z
LAST-MODIFIED:20220701T201148Z
UID:10004958-1661185800-1661191200@seattledsa.org
SUMMARY:Local Council Weekly Meetings 2022
DESCRIPTION:Seattle DSA local council meets every week day at 4:30Pm to 6:00PM. \nPer our bylaws\, “The Local Council is the democratically elected leadership body. It serves as the second highest legislative and judicial body\, below General Membership. The Local Council manages the day-to-day affairs of the Local between General Meetings. This includes handling finances\, accounts\, member data\, as well as voting on resolutions as it sees fit.” \nAll members in good standing are free to attend. Find registration info in the announcements channel on slack.
URL:https://seattledsa.org/event/local-council-weekly-meetings-2022/2022-08-22/
LOCATION:Eightball Cafe in Everett\, 2727 Colby Ave\, Everett\, WA\, United States
CATEGORIES:SDSA Local Council
GEO:37.09024;-95.712891
X-APPLE-STRUCTURED-LOCATION;VALUE=URI;X-ADDRESS=Eightball Cafe in Everett 2727 Colby Ave Everett WA United States;X-APPLE-RADIUS=500;X-TITLE=2727 Colby Ave:geo:-95.712891,37.09024
END:VEVENT
BEGIN:VEVENT
DTSTART;TZID=America/Los_Angeles:20220828T170000
DTEND;TZID=America/Los_Angeles:20220828T180000
DTSTAMP:20230610T190310
CREATED:20220826T225200Z
LAST-MODIFIED:20220826T225936Z
UID:10005191-1661706000-1661709600@seattledsa.org
SUMMARY:Help Plan DSA Table at Trans Pride!
DESCRIPTION:Join us Sunday\, August 28th at 5pm to plan the DSA table at Trans pride this upcoming Friday\, September 2nd. \nWe need your ideas\, your willingness to volunteer\, and also your enthusiasm! See you on Zoom on Sunday and then at Trans pride in person next week! \n  \nSeattle DSA is inviting you to a scheduled Zoom meeting. \nTopic: Help Plan DSA Table at Trans Pride!\nTime: Aug 28\, 2022 05:00 PM Pacific Time (US and Canada) \nJoin Zoom Meeting\nhttps://us02web.zoom.us/j/86818965497?pwd=blR6dDJTRTdqL0EwZzJUSTd6ZjBoUT09 \nMeeting ID: 868 1896 5497\nPasscode: 869865\nOne tap mobile\n+12532158782\,\,86818965497#\,\,\,\,*869865# US (Tacoma)\n+17193594580\,\,86818965497#\,\,\,\,*869865# US \nDial by your location\n+1 253 215 8782 US (Tacoma)\n+1 719 359 4580 US\n+1 346 248 7799 US (Houston)\n+1 669 444 9171 US\n+1 669 900 9128 US (San Jose)\n+1 312 626 6799 US (Chicago)\n+1 386 347 5053 US\n+1 564 217 2000 US\n+1 646 558 8656 US (New York)\n+1 646 931 3860 US\n+1 301 715 8592 US (Washington DC)\n+1 309 205 3325 US\nMeeting ID: 868 1896 5497\nPasscode: 869865\nFind your local number: https://us02web.zoom.us/u/kbMIcebdSw \n 
URL:https://seattledsa.org/event/help-plan-dsa-table-at-trans-pride/
LOCATION:Eightball Cafe in Everett\, 2727 Colby Ave\, Everett\, WA\, United States
CATEGORIES:New Member Friendly,Queer & Feminist
GEO:37.09024;-95.712891
X-APPLE-STRUCTURED-LOCATION;VALUE=URI;X-ADDRESS=Eightball Cafe in Everett 2727 Colby Ave Everett WA United States;X-APPLE-RADIUS=500;X-TITLE=2727 Colby Ave:geo:-95.712891,37.09024
END:VEVENT
BEGIN:VEVENT
DTSTART;TZID=America/Los_Angeles:20220829T163000
DTEND;TZID=America/Los_Angeles:20220829T180000
DTSTAMP:20230610T190310
CREATED:20220330T043456Z
LAST-MODIFIED:20220701T201148Z
UID:10004959-1661790600-1661796000@seattledsa.org
SUMMARY:Local Council Weekly Meetings 2022
DESCRIPTION:Seattle DSA local council meets every week day at 4:30Pm to 6:00PM. \nPer our bylaws\, “The Local Council is the democratically elected leadership body. It serves as the second highest legislative and judicial body\, below General Membership. The Local Council manages the day-to-day affairs of the Local between General Meetings. This includes handling finances\, accounts\, member data\, as well as voting on resolutions as it sees fit.” \nAll members in good standing are free to attend. Find registration info in the announcements channel on slack.
URL:https://seattledsa.org/event/local-council-weekly-meetings-2022/2022-08-29/
LOCATION:Eightball Cafe in Everett\, 2727 Colby Ave\, Everett\, WA\, United States
CATEGORIES:SDSA Local Council
GEO:37.09024;-95.712891
X-APPLE-STRUCTURED-LOCATION;VALUE=URI;X-ADDRESS=Eightball Cafe in Everett 2727 Colby Ave Everett WA United States;X-APPLE-RADIUS=500;X-TITLE=2727 Colby Ave:geo:-95.712891,37.09024
END:VEVENT
BEGIN:VEVENT
DTSTART;TZID=America/Los_Angeles:20220902T170000
DTEND;TZID=America/Los_Angeles:20220902T213000
DTSTAMP:20230610T190310
CREATED:20220826T230345Z
LAST-MODIFIED:20220826T230604Z
UID:10005193-1662138000-1662154200@seattledsa.org
SUMMARY:Trans Pride Seattle DSA Table in Volunteer Park!
DESCRIPTION:Trans Pride 2022 DSA TABLING! Come have fun\, hang out\, share our priority campaigns\, and talk socialism at Trans Pride 🙂\n \nWhere: Volunteer Park\, Seattle\, WA—near the amphitheater \nWhen: Friday\, September 2nd \nTabling set up will begin at 5:00 pm. Main stage programming will begin at 6:00 pm. \nTabling breakdown will begin at 9:00 pm Full table breakdown should be completed by 9:30 pm. Main stage programming will end at 9:30 pm. \nThis is a mask mandatory event: To make sure our event is accessible for all and to reduce the spread of COVID-19.
URL:https://seattledsa.org/event/trans-pride-seattle-dsa-table-in-volunteer-park/
LOCATION:Eightball Cafe in Everett\, 2727 Colby Ave\, Everett\, WA\, United States
CATEGORIES:New Member Friendly,Queer & Feminist
ATTACH;FMTTYPE=image/png:https://seattledsa.org/wp-content/uploads/2022/08/TPS-social-media-post.png
GEO:37.09024;-95.712891
X-APPLE-STRUCTURED-LOCATION;VALUE=URI;X-ADDRESS=Eightball Cafe in Everett 2727 Colby Ave Everett WA United States;X-APPLE-RADIUS=500;X-TITLE=2727 Colby Ave:geo:-95.712891,37.09024
END:VEVENT
BEGIN:VEVENT
DTSTART;TZID=America/Los_Angeles:20220908T190000
DTEND;TZID=America/Los_Angeles:20220908T210000
DTSTAMP:20230610T190310
CREATED:20220817T011540Z
LAST-MODIFIED:20220831T221910Z
UID:10005186-1662663600-1662670800@seattledsa.org
SUMMARY:3rd Discussion on Hiring SDSA Staff
DESCRIPTION:Please join Seattle DSA for a 3rd discussion on the proposal for our chapter to hire 2 part-time organizers.  The proposal is for the organizers to help with 3 priorities: \n\nStrengthen DSA’s public and media communications (including trying to develop a Seattle Socialist publication)\nMake it easier for members and supporters to plug into our activist campaigns\nGet DSA better organized\n\nThis resolution has been discussed at 2-3 chapter meetings\, Local Council meetings\, and individual discussions.  The resolution has been improved after hearing criticism and feedback\, and now it will be discussed and debated at this meeting on Thursday\, September 8.  The resolution will then be discussed and debated again at the General Membership Meeting the following Tuesday\, September 13 at 7 pm. Then the chapter will vote over email (Opavote). \nPlease RSVP here to get the Zoom link for this discussion on hiring staff. \nPlease read or re-read the resolution: Strengthening Our Chapter’s Capacity by Hiring Staff \nWe also wrote these answers to questions about staff that came up at the last GMM. \nIf the resolution and these answers do not answer any questions you may have\, feel free to submit a question here. The staff resolution authors would love to hear suggestions or amendments to improve the resolution\, and we will try to get back to you in writing or verbally at a meeting.
URL:https://seattledsa.org/event/4th-sdsa-discussion-on-hiring-staff/
LOCATION:Eightball Cafe in Everett\, 2727 Colby Ave\, Everett\, WA\, United States
CATEGORIES:Education,New Member Friendly
ATTACH;FMTTYPE=image/png:https://seattledsa.org/wp-content/uploads/2021/08/sdsa-circle-logo-only.png
GEO:37.09024;-95.712891
X-APPLE-STRUCTURED-LOCATION;VALUE=URI;X-ADDRESS=Eightball Cafe in Everett 2727 Colby Ave Everett WA United States;X-APPLE-RADIUS=500;X-TITLE=2727 Colby Ave:geo:-95.712891,37.09024
END:VEVENT
BEGIN:VEVENT
DTSTART;TZID=America/Los_Angeles:20220912T160000
DTEND;TZID=America/Los_Angeles:20220912T200000
DTSTAMP:20230610T190310
CREATED:20220908T053000Z
LAST-MODIFIED:20220912T200819Z
UID:10006597-1662998400-1663012800@seattledsa.org
SUMMARY:Starbucks Leafleting at the Broncos v Seahawks Game
DESCRIPTION:  \n \nMellody Hobson\, a Starbucks board member\, recently became a part owner of the Denver Broncos and workers are putting public pressure on Mellody to stop the union busting. Seattle DSA labor is headed to the Broncos game on 9/12 to leaflet outside the game in order to drum up some media attention and get as many folks as possible to contact Mellody and tell her to stop the union busting! It’s the opening day of the season too so it’s a great time for action! \nRSVP \nMeet your fellow DSA members across from the Northwest Entrance. Look for the “Starbucks Stop Union Busting” table.
URL:https://seattledsa.org/event/starbucks-leafleting-at-the-broncos-v-seahawks-game/
LOCATION:Eightball Cafe in Everett\, 2727 Colby Ave\, Everett\, WA\, United States
CATEGORIES:Labor,Starbucks
ATTACH;FMTTYPE=image/jpeg:https://seattledsa.org/wp-content/uploads/2022/09/5248681A-16D5-4B7B-8CFC-0F5D69E45A5C.jpeg
GEO:37.09024;-95.712891
X-APPLE-STRUCTURED-LOCATION;VALUE=URI;X-ADDRESS=Eightball Cafe in Everett 2727 Colby Ave Everett WA United States;X-APPLE-RADIUS=500;X-TITLE=2727 Colby Ave:geo:-95.712891,37.09024
END:VEVENT
BEGIN:VEVENT
DTSTART;TZID=America/Los_Angeles:20220912T163000
DTEND;TZID=America/Los_Angeles:20220912T180000
DTSTAMP:20230610T190310
CREATED:20220330T043456Z
LAST-MODIFIED:20220701T201148Z
UID:10004960-1663000200-1663005600@seattledsa.org
SUMMARY:Local Council Weekly Meetings 2022
DESCRIPTION:Seattle DSA local council meets every week day at 4:30Pm to 6:00PM. \nPer our bylaws\, “The Local Council is the democratically elected leadership body. It serves as the second highest legislative and judicial body\, below General Membership. The Local Council manages the day-to-day affairs of the Local between General Meetings. This includes handling finances\, accounts\, member data\, as well as voting on resolutions as it sees fit.” \nAll members in good standing are free to attend. Find registration info in the announcements channel on slack.
URL:https://seattledsa.org/event/local-council-weekly-meetings-2022/2022-09-12/
LOCATION:Eightball Cafe in Everett\, 2727 Colby Ave\, Everett\, WA\, United States
CATEGORIES:SDSA Local Council
GEO:37.09024;-95.712891
X-APPLE-STRUCTURED-LOCATION;VALUE=URI;X-ADDRESS=Eightball Cafe in Everett 2727 Colby Ave Everett WA United States;X-APPLE-RADIUS=500;X-TITLE=2727 Colby Ave:geo:-95.712891,37.09024
END:VEVENT
BEGIN:VEVENT
DTSTART;TZID=America/Los_Angeles:20220913T190000
DTEND;TZID=America/Los_Angeles:20220913T210000
DTSTAMP:20230610T190310
CREATED:20220804T211521Z
LAST-MODIFIED:20220911T154834Z
UID:10005180-1663095600-1663102800@seattledsa.org
SUMMARY:September General Membership Meeting
DESCRIPTION:More details on this event soon \nGeneral Membership Meetings are the events in which the largest number of members come together to hear about what the chapter has been up to recently\, learn what is on the horizon and how to get involved\, discuss ideas\, and vote on how we should use our collective resources of money to achieve our goals. RSVP here to let us know you are coming. \nRSVP HERE
URL:https://seattledsa.org/event/september-general-membership-meeting/
LOCATION:Eightball Cafe in Everett\, 2727 Colby Ave\, Everett\, WA\, United States
CATEGORIES:General Membership Meeting,New Member Friendly
GEO:37.09024;-95.712891
X-APPLE-STRUCTURED-LOCATION;VALUE=URI;X-ADDRESS=Eightball Cafe in Everett 2727 Colby Ave Everett WA United States;X-APPLE-RADIUS=500;X-TITLE=2727 Colby Ave:geo:-95.712891,37.09024
END:VEVENT
BEGIN:VEVENT
DTSTART;TZID=America/Los_Angeles:20220915T180000
DTEND;TZID=America/Los_Angeles:20220915T200000
DTSTAMP:20230610T190310
CREATED:20220905T045627Z
LAST-MODIFIED:20220905T045627Z
UID:10006594-1663264800-1663272000@seattledsa.org
SUMMARY:September 2022 Electoral Committee Meeting
DESCRIPTION:The Monthly DSA Electoral Committee meeting! \nPlease RSVP for Zoom entry and meeting agenda.
URL:https://seattledsa.org/event/september-2022-electoral-committee-meeting/
LOCATION:Eightball Cafe in Everett\, 2727 Colby Ave\, Everett\, WA\, United States
CATEGORIES:Electoral,New Member Friendly
GEO:37.09024;-95.712891
X-APPLE-STRUCTURED-LOCATION;VALUE=URI;X-ADDRESS=Eightball Cafe in Everett 2727 Colby Ave Everett WA United States;X-APPLE-RADIUS=500;X-TITLE=2727 Colby Ave:geo:-95.712891,37.09024
END:VEVENT
BEGIN:VEVENT
DTSTART;TZID=America/Los_Angeles:20220918T160000
DTEND;TZID=America/Los_Angeles:20220918T173000
DTSTAMP:20230610T190310
CREATED:20211127T002701Z
LAST-MODIFIED:20211127T003051Z
UID:10006228-1663516800-1663522200@seattledsa.org
SUMMARY:Mobilization Committee Meeting
DESCRIPTION:Mobilization Committee meets to discuss resistance against fascist\, racist\, and homophobic agents. We talk frequently about the history of resistance\, and how we can take action now.
URL:https://seattledsa.org/event/mobilization-committee-meeting-2-2022-01-16/2022-09-18/
LOCATION:Eightball Cafe in Everett\, 2727 Colby Ave\, Everett\, WA\, United States
CATEGORIES:Mobilization
GEO:37.09024;-95.712891
X-APPLE-STRUCTURED-LOCATION;VALUE=URI;X-ADDRESS=Eightball Cafe in Everett 2727 Colby Ave Everett WA United States;X-APPLE-RADIUS=500;X-TITLE=2727 Colby Ave:geo:-95.712891,37.09024
END:VEVENT
BEGIN:VEVENT
DTSTART;TZID=America/Los_Angeles:20220921T160000
DTEND;TZID=America/Los_Angeles:20220921T170000
DTSTAMP:20230610T190310
CREATED:20220917T045755Z
LAST-MODIFIED:20220917T045755Z
UID:10006606-1663776000-1663779600@seattledsa.org
SUMMARY:September Tech Committee Monthly Meeting
DESCRIPTION:This is this first of the Tech Committee monthly meetings. We’ll take some time to get to know each other a little better\, talk over how things are going working on the committee\, what’s going well and what could use a little work. \nNot on the committee but want to join to see what it’s all about? You’re more than welcome too! \nSee you there!
URL:https://seattledsa.org/event/sept-tech-committee-monthly-meeting/
LOCATION:Eightball Cafe in Everett\, 2727 Colby Ave\, Everett\, WA\, United States
ORGANIZER;CN="Tech%20Team":MAILTO:tech@seattledsa.org
GEO:37.09024;-95.712891
X-APPLE-STRUCTURED-LOCATION;VALUE=URI;X-ADDRESS=Eightball Cafe in Everett 2727 Colby Ave Everett WA United States;X-APPLE-RADIUS=500;X-TITLE=2727 Colby Ave:geo:-95.712891,37.09024
END:VEVENT
BEGIN:VEVENT
DTSTART;TZID=America/Los_Angeles:20221002T100000
DTEND;TZID=America/Los_Angeles:20221002T120000
DTSTAMP:20230610T190310
CREATED:20220925T231705Z
LAST-MODIFIED:20220925T231705Z
UID:10005208-1664704800-1664712000@seattledsa.org
SUMMARY:Kirkland Tenant Protections Canvass at Asbury Park Apartments
DESCRIPTION:Join us to help inform Kirkland renters of new tenant protections and fight even more of them! \nMake sure to RSVP for the address and more information: \nRSVP Here
URL:https://seattledsa.org/event/kirkland-tenant-protections-canvass-at-asbury-park-apartments/
LOCATION:Eightball Cafe in Everett\, 2727 Colby Ave\, Everett\, WA\, United States
GEO:37.09024;-95.712891
X-APPLE-STRUCTURED-LOCATION;VALUE=URI;X-ADDRESS=Eightball Cafe in Everett 2727 Colby Ave Everett WA United States;X-APPLE-RADIUS=500;X-TITLE=2727 Colby Ave:geo:-95.712891,37.09024
END:VEVENT
BEGIN:VEVENT
DTSTART;TZID=America/Los_Angeles:20221006T190000
DTEND;TZID=America/Los_Angeles:20221006T203000
DTSTAMP:20230610T190310
CREATED:20221001T162838Z
LAST-MODIFIED:20221001T162838Z
UID:10006615-1665082800-1665088200@seattledsa.org
SUMMARY:10/6 Reproductive Justice Working Group Meeting
DESCRIPTION:Join us for the next meeting of Seattle DSA’s Reproductive Justice Working Group! We need help to organize a local rally during the national Day of Action (Oct 8) called by the Women’s March. We need help to ensure that we have attractive socialist intersectional class-struggle picket signs\, a banner\, and a literature table at the rally so we can convince more people of socialist feminist ideas and attract new members to sign up with DSA. \nPlease RSVP here to get the zoom info \nAnd mark your calendar to join us!
URL:https://seattledsa.org/event/10-6-reproductive-justice-working-group-meeting/
LOCATION:Eightball Cafe in Everett\, 2727 Colby Ave\, Everett\, WA\, United States
CATEGORIES:Abortion,New Member Friendly
GEO:37.09024;-95.712891
X-APPLE-STRUCTURED-LOCATION;VALUE=URI;X-ADDRESS=Eightball Cafe in Everett 2727 Colby Ave Everett WA United States;X-APPLE-RADIUS=500;X-TITLE=2727 Colby Ave:geo:-95.712891,37.09024
END:VEVENT
BEGIN:VEVENT
DTSTART;TZID=America/Los_Angeles:20221016T160000
DTEND;TZID=America/Los_Angeles:20221016T173000
DTSTAMP:20230610T190310
CREATED:20211127T002701Z
LAST-MODIFIED:20211127T003051Z
UID:10006229-1665936000-1665941400@seattledsa.org
SUMMARY:Mobilization Committee Meeting
DESCRIPTION:Mobilization Committee meets to discuss resistance against fascist\, racist\, and homophobic agents. We talk frequently about the history of resistance\, and how we can take action now.
URL:https://seattledsa.org/event/mobilization-committee-meeting-2-2022-01-16/2022-10-16/
LOCATION:Eightball Cafe in Everett\, 2727 Colby Ave\, Everett\, WA\, United States
CATEGORIES:Mobilization
GEO:37.09024;-95.712891
X-APPLE-STRUCTURED-LOCATION;VALUE=URI;X-ADDRESS=Eightball Cafe in Everett 2727 Colby Ave Everett WA United States;X-APPLE-RADIUS=500;X-TITLE=2727 Colby Ave:geo:-95.712891,37.09024
END:VEVENT
BEGIN:VEVENT
DTSTART;TZID=America/Los_Angeles:20221108T190000
DTEND;TZID=America/Los_Angeles:20221108T210000
DTSTAMP:20230610T190310
CREATED:20221029T003307Z
LAST-MODIFIED:20221029T003309Z
UID:10005225-1667934000-1667941200@seattledsa.org
SUMMARY:Raise The Wage Tukwila Election Night Watch Party
DESCRIPTION:Transit Riders Union is holding an election night watch party in Tukwila. \nFood & drinks provided\, including beer and wine. \nRSVP here (required) \n 
URL:https://seattledsa.org/event/raise-the-wage-tukwila-election-night-watch-party/
LOCATION:Eightball Cafe in Everett\, 2727 Colby Ave\, Everett\, WA\, United States
CATEGORIES:Electoral,New Member Friendly,South King County
ATTACH;FMTTYPE=image/png:https://seattledsa.org/wp-content/uploads/2022/10/Raise-the-wage-logo-white-on-black.png
GEO:37.09024;-95.712891
X-APPLE-STRUCTURED-LOCATION;VALUE=URI;X-ADDRESS=Eightball Cafe in Everett 2727 Colby Ave Everett WA United States;X-APPLE-RADIUS=500;X-TITLE=2727 Colby Ave:geo:-95.712891,37.09024
END:VEVENT
BEGIN:VEVENT
DTSTART;TZID=America/Los_Angeles:20221109T120000
DTEND;TZID=America/Los_Angeles:20221109T160000
DTSTAMP:20230610T190310
CREATED:20221101T181821Z
LAST-MODIFIED:20221108T220410Z
UID:10005232-1667995200-1668009600@seattledsa.org
SUMMARY:Puyallup Canyon Crossing Starbucks Solidarity Table & Sip-In
DESCRIPTION:Meet up with fellow Seattle DSA members to show Puyallup Starbucks workers solidarity in their fight for living wages and healthcare by forming a union. We’ll order water or drip coffee under the name “Union Strong” (and leave big tips!) to show workers we support their fight.  We’ll also be tabling outside the store to talk with customers and passerbys about Starbucks draconian union-busting and what the baristas are fighting for: living wages\, healthcare\, and stable and guaranteed schedules. \nRSVP
URL:https://seattledsa.org/event/puyallup-starbucks-solidarity-sip-in/
LOCATION:Eightball Cafe in Everett\, 2727 Colby Ave\, Everett\, WA\, United States
CATEGORIES:Labor,Starbucks
ATTACH;FMTTYPE=image/jpeg:https://seattledsa.org/wp-content/uploads/2022/09/5248681A-16D5-4B7B-8CFC-0F5D69E45A5C.jpeg
GEO:37.09024;-95.712891
X-APPLE-STRUCTURED-LOCATION;VALUE=URI;X-ADDRESS=Eightball Cafe in Everett 2727 Colby Ave Everett WA United States;X-APPLE-RADIUS=500;X-TITLE=2727 Colby Ave:geo:-95.712891,37.09024
END:VEVENT
BEGIN:VEVENT
DTSTART;TZID=America/Los_Angeles:20221115T163000
DTEND;TZID=America/Los_Angeles:20221115T180000
DTSTAMP:20230610T190310
CREATED:20221031T164128Z
LAST-MODIFIED:20221031T164128Z
UID:10005227-1668529800-1668535200@seattledsa.org
SUMMARY:2024 Ballot Initiative Planning
DESCRIPTION:Come help us plan for a 2024 ballot initiative! \nThe purpose of this meeting is 1) to establish a general process for our chapter to plan and run ballot initiatives (not on a short timeline) and 2) to set up research committees to begin looking more in depth at some of the proposed ballot initiatives. \nRSVP Here.
URL:https://seattledsa.org/event/2024-ballot-initiative-planning/
LOCATION:Eightball Cafe in Everett\, 2727 Colby Ave\, Everett\, WA\, United States
GEO:37.09024;-95.712891
X-APPLE-STRUCTURED-LOCATION;VALUE=URI;X-ADDRESS=Eightball Cafe in Everett 2727 Colby Ave Everett WA United States;X-APPLE-RADIUS=500;X-TITLE=2727 Colby Ave:geo:-95.712891,37.09024
END:VEVENT
BEGIN:VEVENT
DTSTART;TZID=America/Los_Angeles:20221119T120000
DTEND;TZID=America/Los_Angeles:20221119T150000
DTSTAMP:20230610T190310
CREATED:20221112T193914Z
LAST-MODIFIED:20221112T194412Z
UID:10006637-1668859200-1668870000@seattledsa.org
SUMMARY:SnoCo DSA Labor Movie Lunch: PRIDE
DESCRIPTION:SnoCo DSA will be hosting a Labor Movie Lunch in Everett screening the acclaimed film Pride. Pride tells the story of LGBT activists working together to support a British miners strike\, at the outset of what would become the Lesbians and Gays Support the Miners campaign. \nCome to the Eightball Cafe in Everett on Saturday\, the 19th and watch Pride with SnoCo DSA and labor activists in Everett! \nRSVP on facebook
URL:https://seattledsa.org/event/snoco-dsa-labor-movie-lunch-pride/
LOCATION:Eightball Cafe in Everett\, 2727 Colby Ave\, Everett\, WA\, United States
CATEGORIES:Labor,New Member Friendly
GEO:37.09024;-95.712891
X-APPLE-STRUCTURED-LOCATION;VALUE=URI;X-ADDRESS=Eightball Cafe in Everett 2727 Colby Ave Everett WA United States;X-APPLE-RADIUS=500;X-TITLE=2727 Colby Ave:geo:-95.712891,37.09024
END:VEVENT
BEGIN:VEVENT
DTSTART;TZID=America/Los_Angeles:20221120T160000
DTEND;TZID=America/Los_Angeles:20221120T173000
DTSTAMP:20230610T190310
CREATED:20211127T002701Z
LAST-MODIFIED:20211127T003051Z
UID:10006230-1668960000-1668965400@seattledsa.org
SUMMARY:Mobilization Committee Meeting
DESCRIPTION:Mobilization Committee meets to discuss resistance against fascist\, racist\, and homophobic agents. We talk frequently about the history of resistance\, and how we can take action now.
URL:https://seattledsa.org/event/mobilization-committee-meeting-2-2022-01-16/2022-11-20/
LOCATION:Eightball Cafe in Everett\, 2727 Colby Ave\, Everett\, WA\, United States
CATEGORIES:Mobilization
GEO:37.09024;-95.712891
X-APPLE-STRUCTURED-LOCATION;VALUE=URI;X-ADDRESS=Eightball Cafe in Everett 2727 Colby Ave Everett WA United States;X-APPLE-RADIUS=500;X-TITLE=2727 Colby Ave:geo:-95.712891,37.09024
END:VEVENT
BEGIN:VEVENT
DTSTART;TZID=America/Los_Angeles:20221218T160000
DTEND;TZID=America/Los_Angeles:20221218T173000
DTSTAMP:20230610T190310
CREATED:20211127T002701Z
LAST-MODIFIED:20211127T003051Z
UID:10006231-1671379200-1671384600@seattledsa.org
SUMMARY:Mobilization Committee Meeting
DESCRIPTION:Mobilization Committee meets to discuss resistance against fascist\, racist\, and homophobic agents. We talk frequently about the history of resistance\, and how we can take action now.
URL:https://seattledsa.org/event/mobilization-committee-meeting-2-2022-01-16/2022-12-18/
LOCATION:Eightball Cafe in Everett\, 2727 Colby Ave\, Everett\, WA\, United States
CATEGORIES:Mobilization
GEO:37.09024;-95.712891
X-APPLE-STRUCTURED-LOCATION;VALUE=URI;X-ADDRESS=Eightball Cafe in Everett 2727 Colby Ave Everett WA United States;X-APPLE-RADIUS=500;X-TITLE=2727 Colby Ave:geo:-95.712891,37.09024
END:VEVENT
END:VCALENDAR