BEGIN:VCALENDAR
VERSION:2.0
PRODID:-//Seattle Democratic Socialists of America - ECPv6.0.13.1//NONSGML v1.0//EN
CALSCALE:GREGORIAN
METHOD:PUBLISH
X-WR-CALNAME:Seattle Democratic Socialists of America
X-ORIGINAL-URL:https://seattledsa.org
X-WR-CALDESC:Events for Seattle Democratic Socialists of America
REFRESH-INTERVAL;VALUE=DURATION:PT1H
X-Robots-Tag:noindex
X-PUBLISHED-TTL:PT1H
BEGIN:VTIMEZONE
TZID:America/Los_Angeles
BEGIN:DAYLIGHT
TZOFFSETFROM:-0800
TZOFFSETTO:-0700
TZNAME:PDT
DTSTART:20220313T100000
END:DAYLIGHT
BEGIN:STANDARD
TZOFFSETFROM:-0700
TZOFFSETTO:-0800
TZNAME:PST
DTSTART:20221106T090000
END:STANDARD
END:VTIMEZONE
BEGIN:VEVENT
DTSTART;TZID=America/Los_Angeles:20221115T163000
DTEND;TZID=America/Los_Angeles:20221115T180000
DTSTAMP:20230610T190353
CREATED:20221031T164128Z
LAST-MODIFIED:20221031T164128Z
UID:10005227-1668529800-1668535200@seattledsa.org
SUMMARY:2024 Ballot Initiative Planning
DESCRIPTION:Come help us plan for a 2024 ballot initiative! \nThe purpose of this meeting is 1) to establish a general process for our chapter to plan and run ballot initiatives (not on a short timeline) and 2) to set up research committees to begin looking more in depth at some of the proposed ballot initiatives. \nRSVP Here.
URL:https://seattledsa.org/event/2024-ballot-initiative-planning/
LOCATION:Eightball Cafe in Everett\, 2727 Colby Ave\, Everett\, WA\, United States
GEO:37.09024;-95.712891
X-APPLE-STRUCTURED-LOCATION;VALUE=URI;X-ADDRESS=Eightball Cafe in Everett 2727 Colby Ave Everett WA United States;X-APPLE-RADIUS=500;X-TITLE=2727 Colby Ave:geo:-95.712891,37.09024
END:VEVENT
BEGIN:VEVENT
DTSTART;TZID=America/Los_Angeles:20221119T120000
DTEND;TZID=America/Los_Angeles:20221119T150000
DTSTAMP:20230610T190353
CREATED:20221112T193914Z
LAST-MODIFIED:20221112T194412Z
UID:10006637-1668859200-1668870000@seattledsa.org
SUMMARY:SnoCo DSA Labor Movie Lunch: PRIDE
DESCRIPTION:SnoCo DSA will be hosting a Labor Movie Lunch in Everett screening the acclaimed film Pride. Pride tells the story of LGBT activists working together to support a British miners strike\, at the outset of what would become the Lesbians and Gays Support the Miners campaign. \nCome to the Eightball Cafe in Everett on Saturday\, the 19th and watch Pride with SnoCo DSA and labor activists in Everett! \nRSVP on facebook
URL:https://seattledsa.org/event/snoco-dsa-labor-movie-lunch-pride/
LOCATION:Eightball Cafe in Everett\, 2727 Colby Ave\, Everett\, WA\, United States
CATEGORIES:Labor,New Member Friendly
GEO:37.09024;-95.712891
X-APPLE-STRUCTURED-LOCATION;VALUE=URI;X-ADDRESS=Eightball Cafe in Everett 2727 Colby Ave Everett WA United States;X-APPLE-RADIUS=500;X-TITLE=2727 Colby Ave:geo:-95.712891,37.09024
END:VEVENT
BEGIN:VEVENT
DTSTART;TZID=America/Los_Angeles:20221120T160000
DTEND;TZID=America/Los_Angeles:20221120T173000
DTSTAMP:20230610T190353
CREATED:20211127T002701Z
LAST-MODIFIED:20211127T003051Z
UID:10006230-1668960000-1668965400@seattledsa.org
SUMMARY:Mobilization Committee Meeting
DESCRIPTION:Mobilization Committee meets to discuss resistance against fascist\, racist\, and homophobic agents. We talk frequently about the history of resistance\, and how we can take action now.
URL:https://seattledsa.org/event/mobilization-committee-meeting-2-2022-01-16/2022-11-20/
LOCATION:Eightball Cafe in Everett\, 2727 Colby Ave\, Everett\, WA\, United States
CATEGORIES:Mobilization
GEO:37.09024;-95.712891
X-APPLE-STRUCTURED-LOCATION;VALUE=URI;X-ADDRESS=Eightball Cafe in Everett 2727 Colby Ave Everett WA United States;X-APPLE-RADIUS=500;X-TITLE=2727 Colby Ave:geo:-95.712891,37.09024
END:VEVENT
BEGIN:VEVENT
DTSTART;TZID=America/Los_Angeles:20221218T160000
DTEND;TZID=America/Los_Angeles:20221218T173000
DTSTAMP:20230610T190353
CREATED:20211127T002701Z
LAST-MODIFIED:20211127T003051Z
UID:10006231-1671379200-1671384600@seattledsa.org
SUMMARY:Mobilization Committee Meeting
DESCRIPTION:Mobilization Committee meets to discuss resistance against fascist\, racist\, and homophobic agents. We talk frequently about the history of resistance\, and how we can take action now.
URL:https://seattledsa.org/event/mobilization-committee-meeting-2-2022-01-16/2022-12-18/
LOCATION:Eightball Cafe in Everett\, 2727 Colby Ave\, Everett\, WA\, United States
CATEGORIES:Mobilization
GEO:37.09024;-95.712891
X-APPLE-STRUCTURED-LOCATION;VALUE=URI;X-ADDRESS=Eightball Cafe in Everett 2727 Colby Ave Everett WA United States;X-APPLE-RADIUS=500;X-TITLE=2727 Colby Ave:geo:-95.712891,37.09024
END:VEVENT
END:VCALENDAR