BEGIN:VCALENDAR
VERSION:2.0
PRODID:-//Seattle Democratic Socialists of America - ECPv6.0.13.1//NONSGML v1.0//EN
CALSCALE:GREGORIAN
METHOD:PUBLISH
X-WR-CALNAME:Seattle Democratic Socialists of America
X-ORIGINAL-URL:https://seattledsa.org
X-WR-CALDESC:Events for Seattle Democratic Socialists of America
REFRESH-INTERVAL;VALUE=DURATION:PT1H
X-Robots-Tag:noindex
X-PUBLISHED-TTL:PT1H
BEGIN:VTIMEZONE
TZID:America/Los_Angeles
BEGIN:DAYLIGHT
TZOFFSETFROM:-0800
TZOFFSETTO:-0700
TZNAME:PDT
DTSTART:20230312T100000
END:DAYLIGHT
BEGIN:STANDARD
TZOFFSETFROM:-0700
TZOFFSETTO:-0800
TZNAME:PST
DTSTART:20231105T090000
END:STANDARD
END:VTIMEZONE
BEGIN:VEVENT
DTSTART;TZID=America/Los_Angeles:20230604T080000
DTEND;TZID=America/Los_Angeles:20230604T110000
DTSTAMP:20230610T183820
CREATED:20230519T033344Z
LAST-MODIFIED:20230519T033458Z
UID:10007724-1685865600-1685876400@seattledsa.org
SUMMARY:Peoples Breakfast: UDistrict
DESCRIPTION:Contact JJ Bartlett to sign up: 360-319-2009\nMasks required in-kitchen. and outdoors! Must be vaccinated!\n \nScrambled Eggs\, Pancakes\, and Hashbrowns!\nDonuts\, Coffee\, Hot Chocolate\, and Water!\nCome to cook\, eat breakfast\, and get to know your unhoused neighbors here in the UDistrict!\n \nSundays at University Heights Community Center.\nCooking (off-site) = 8:00am – 9:30am.\nServing (UHeights) = 9:30am – Food Runs Out.\nStay for the whole time or show up to one shift! \nOperated in close collaboration with University Heights Community Center! \nWe are currently seeking financial supporters to bottom-line a breakfast day!\nEach breakfast costs around $120.00 USD in Food+Equipment to serve 60 people. \nOur Menu!
URL:https://seattledsa.org/event/community-breakfast-udistrict-2/2023-06-04/
LOCATION:University Heights\, 5031 University Way\, Seattle\, WA\, 98105\, United States
CATEGORIES:Housing,Mutual Aid,New Member Friendly
GEO:47.6658945;-122.3136236
X-APPLE-STRUCTURED-LOCATION;VALUE=URI;X-ADDRESS=University Heights 5031 University Way Seattle WA 98105 United States;X-APPLE-RADIUS=500;X-TITLE=5031 University Way:geo:-122.3136236,47.6658945
END:VEVENT
END:VCALENDAR