BEGIN:VCALENDAR
VERSION:2.0
PRODID:-//Seattle Democratic Socialists of America - ECPv6.0.13.1//NONSGML v1.0//EN
CALSCALE:GREGORIAN
METHOD:PUBLISH
X-ORIGINAL-URL:https://seattledsa.org
X-WR-CALDESC:Events for Seattle Democratic Socialists of America
REFRESH-INTERVAL;VALUE=DURATION:PT1H
X-Robots-Tag:noindex
X-PUBLISHED-TTL:PT1H
BEGIN:VTIMEZONE
TZID:America/Los_Angeles
BEGIN:DAYLIGHT
TZOFFSETFROM:-0800
TZOFFSETTO:-0700
TZNAME:PDT
DTSTART:20230312T100000
END:DAYLIGHT
BEGIN:STANDARD
TZOFFSETFROM:-0700
TZOFFSETTO:-0800
TZNAME:PST
DTSTART:20231105T090000
END:STANDARD
END:VTIMEZONE
BEGIN:VEVENT
DTSTART;TZID=America/Los_Angeles:20230525T184500
DTEND;TZID=America/Los_Angeles:20230525T203000
DTSTAMP:20230610T172803
CREATED:20230519T201700Z
LAST-MODIFIED:20230519T201700Z
UID:10007769-1685040300-1685046600@seattledsa.org
SUMMARY:D4/D5/Ecosocialism Reading Group
DESCRIPTION:Join us at Urban Luxe Cafe\, 6:45 Thursday 5/25\, for a discussion of “Covid\, Climate Change: Is the World Ready for ‘Global Public Goods’?” from New Left Review\, by Sean Sweeney.  Sean Sweeney is at CUNY School of Labor and Urban Studies and is one of the forces behind the global organization Trade Unionists for Energy Democracy. \nYou don’t have to live in District 4 or 5\, and feel free to join the conversation even if you haven’t had time to read! All are welcome.
URL:https://seattledsa.org/event/d4-d5-ecosocialism-reading-group-32/
LOCATION:Urban Luxe Café\, 6105A Roosevelt Way NE\, Seattle\, WA\, 98115\, United States
CATEGORIES:Ecosocialism,Green New Deal,New Member Friendly,Reading Groups
GEO:47.6729904;-122.3175228
X-APPLE-STRUCTURED-LOCATION;VALUE=URI;X-ADDRESS=Urban Luxe Café 6105A Roosevelt Way NE Seattle WA 98115 United States;X-APPLE-RADIUS=500;X-TITLE=6105A Roosevelt Way NE:geo:-122.3175228,47.6729904
END:VEVENT
END:VCALENDAR