BEGIN:VCALENDAR
VERSION:2.0
PRODID:-//Seattle Democratic Socialists of America - ECPv6.0.13.1//NONSGML v1.0//EN
CALSCALE:GREGORIAN
METHOD:PUBLISH
X-WR-CALNAME:Seattle Democratic Socialists of America
X-ORIGINAL-URL:https://seattledsa.org
X-WR-CALDESC:Events for Seattle Democratic Socialists of America
REFRESH-INTERVAL;VALUE=DURATION:PT1H
X-Robots-Tag:noindex
X-PUBLISHED-TTL:PT1H
BEGIN:VTIMEZONE
TZID:America/Los_Angeles
BEGIN:DAYLIGHT
TZOFFSETFROM:-0800
TZOFFSETTO:-0700
TZNAME:PDT
DTSTART:20210314T100000
END:DAYLIGHT
BEGIN:STANDARD
TZOFFSETFROM:-0700
TZOFFSETTO:-0800
TZNAME:PST
DTSTART:20211107T090000
END:STANDARD
BEGIN:DAYLIGHT
TZOFFSETFROM:-0800
TZOFFSETTO:-0700
TZNAME:PDT
DTSTART:20220313T100000
END:DAYLIGHT
BEGIN:STANDARD
TZOFFSETFROM:-0700
TZOFFSETTO:-0800
TZNAME:PST
DTSTART:20221106T090000
END:STANDARD
BEGIN:DAYLIGHT
TZOFFSETFROM:-0800
TZOFFSETTO:-0700
TZNAME:PDT
DTSTART:20230312T100000
END:DAYLIGHT
BEGIN:STANDARD
TZOFFSETFROM:-0700
TZOFFSETTO:-0800
TZNAME:PST
DTSTART:20231105T090000
END:STANDARD
END:VTIMEZONE
BEGIN:VEVENT
DTSTART;TZID=America/Los_Angeles:20210116T110000
DTEND;TZID=America/Los_Angeles:20210116T120000
DTSTAMP:20230610T164255
CREATED:20210113T213009Z
LAST-MODIFIED:20210113T213009Z
UID:10004448-1610794800-1610798400@seattledsa.org
SUMMARY:POSTER District 3: No Honeymoon for Biden
DESCRIPTION:Lets get out in the community for some good political activity!  Join D3 members to poster District 3 for the upcoming No Honeymoon for Biden standout and speak out on 1/20.  We’ll meet up at Victrola Cafe on 411 15 Ave E at 11am this Saturday to poster.  We’ll have staple hammers and tape guns.  We’ll be practicing social distancing and following the appropriate COVID protocols. \nSee ya on Saturday!
URL:https://seattledsa.org/event/poster-district-3-no-honeymoon-for-biden/
LOCATION:Victrola Coffee (411 15th Ave E)\, 411 15th Ave E\, Seattle\, WA\, 98112\, United States
GEO:47.6223738;-122.312808
X-APPLE-STRUCTURED-LOCATION;VALUE=URI;X-ADDRESS=Victrola Coffee (411 15th Ave E) 411 15th Ave E Seattle WA 98112 United States;X-APPLE-RADIUS=500;X-TITLE=411 15th Ave E:geo:-122.312808,47.6223738
END:VEVENT
BEGIN:VEVENT
DTSTART;TZID=America/Los_Angeles:20221004T180000
DTEND;TZID=America/Los_Angeles:20221004T190000
DTSTAMP:20230610T164255
CREATED:20220930T215316Z
LAST-MODIFIED:20220930T215317Z
UID:10005219-1664906400-1664910000@seattledsa.org
SUMMARY:Build the Fightback! POSTER: RALLY to Defend Abortion Rights
DESCRIPTION:Join Seattle DSA members and others – all are welcome! – to spread the word about the upcoming Seattle Rally to Defend Abortion Rights as part of the Women’s March Weekend of Action. We’ll be meeting up at 6pm\, Tuesday\, in front of Victrola Cafe on 411 15th Ave E in Cap Hill. 
URL:https://seattledsa.org/event/build-the-fightback-poster-rally-to-defend-abortion-rights-3/
LOCATION:Victrola Coffee (411 15th Ave E)\, 411 15th Ave E\, Seattle\, WA\, 98112\, United States
CATEGORIES:Abortion
ATTACH;FMTTYPE=image/jpeg:https://seattledsa.org/wp-content/uploads/2022/09/F01451E0-8A76-48C9-AE28-9B5CBCB2457C.jpeg
GEO:47.6223738;-122.312808
X-APPLE-STRUCTURED-LOCATION;VALUE=URI;X-ADDRESS=Victrola Coffee (411 15th Ave E) 411 15th Ave E Seattle WA 98112 United States;X-APPLE-RADIUS=500;X-TITLE=411 15th Ave E:geo:-122.312808,47.6223738
END:VEVENT
BEGIN:VEVENT
DTSTART;TZID=America/Los_Angeles:20230128T170000
DTEND;TZID=America/Los_Angeles:20230128T183000
DTSTAMP:20230610T164255
CREATED:20230120T220046Z
LAST-MODIFIED:20230120T220047Z
UID:10006702-1674925200-1674930600@seattledsa.org
SUMMARY:How to Build a Mass Working Class Organization? Special guest speaker!
DESCRIPTION:The Local Council is excited to announce that Hayley Banyai-Becker\, the DSA full time organizer for the PNW\, will be in town for a political visit from 1/27 – 29.  On Saturday\, 1/28 at she’ll be facilitating a training on How to Build a Mass Organization\, with a social to follow. \nDescription: Why build a mass organization and what will it take? This training includes historical context\, discussions\, and breakouts to explore the idea of building a mass organization\, and why DSA is committed to becoming a mass working class organization. \nWhat you will take from it: a base level understanding of Y/DSA as a political project\, the fundamentals of our uniting politics\, and more clarity around what we’re trying to build together.
URL:https://seattledsa.org/event/how-to-build-a-mass-working-class-organization-special-guest-speaker/
LOCATION:Victrola Coffee (411 15th Ave E)\, 411 15th Ave E\, Seattle\, WA\, 98112\, United States
CATEGORIES:New Member Friendly,Political Discussion
ATTACH;FMTTYPE=image/jpeg:https://seattledsa.org/wp-content/uploads/2023/01/170803181630-democratic-socialists-of-america-parade.jpg
GEO:47.6223738;-122.312808
X-APPLE-STRUCTURED-LOCATION;VALUE=URI;X-ADDRESS=Victrola Coffee (411 15th Ave E) 411 15th Ave E Seattle WA 98112 United States;X-APPLE-RADIUS=500;X-TITLE=411 15th Ave E:geo:-122.312808,47.6223738
END:VEVENT
END:VCALENDAR