BEGIN:VCALENDAR
VERSION:2.0
PRODID:-//Seattle Democratic Socialists of America - ECPv6.0.13.1//NONSGML v1.0//EN
CALSCALE:GREGORIAN
METHOD:PUBLISH
X-WR-CALNAME:Seattle Democratic Socialists of America
X-ORIGINAL-URL:https://seattledsa.org
X-WR-CALDESC:Events for Seattle Democratic Socialists of America
REFRESH-INTERVAL;VALUE=DURATION:PT1H
X-Robots-Tag:noindex
X-PUBLISHED-TTL:PT1H
BEGIN:VTIMEZONE
TZID:America/Los_Angeles
BEGIN:DAYLIGHT
TZOFFSETFROM:-0800
TZOFFSETTO:-0700
TZNAME:PDT
DTSTART:20200308T100000
END:DAYLIGHT
BEGIN:STANDARD
TZOFFSETFROM:-0700
TZOFFSETTO:-0800
TZNAME:PST
DTSTART:20201101T090000
END:STANDARD
BEGIN:DAYLIGHT
TZOFFSETFROM:-0800
TZOFFSETTO:-0700
TZNAME:PDT
DTSTART:20210314T100000
END:DAYLIGHT
BEGIN:STANDARD
TZOFFSETFROM:-0700
TZOFFSETTO:-0800
TZNAME:PST
DTSTART:20211107T090000
END:STANDARD
BEGIN:DAYLIGHT
TZOFFSETFROM:-0800
TZOFFSETTO:-0700
TZNAME:PDT
DTSTART:20220313T100000
END:DAYLIGHT
BEGIN:STANDARD
TZOFFSETFROM:-0700
TZOFFSETTO:-0800
TZNAME:PST
DTSTART:20221106T090000
END:STANDARD
END:VTIMEZONE
BEGIN:VEVENT
DTSTART;TZID=America/Los_Angeles:20200107T190000
DTEND;TZID=America/Los_Angeles:20200107T210000
DTSTAMP:20230610T173014
CREATED:20191212T202845Z
LAST-MODIFIED:20200107T015459Z
UID:10004066-1578423600-1578430800@seattledsa.org
SUMMARY:Seattle DSA Monthly General Meeting
DESCRIPTION:Seattle DSA holds a General Meeting\, first Tuesday of each month at Washington Hall. This event is member friendly and oftentimes has voting on issues affecting the chapter. \n2nd Floor Auditorium (2A)\nChildcare generally available\, contact info@seattledsa.org
URL:https://seattledsa.org/event/seattle-dsa-monthly-general-meeting-11/
LOCATION:Washington Hall\, 153 14th Ave\, Seattle\, WA\, 98122\, United States
CATEGORIES:General Membership Meeting,New Member Friendly
GEO:47.6028491;-122.3145919
X-APPLE-STRUCTURED-LOCATION;VALUE=URI;X-ADDRESS=Washington Hall 153 14th Ave Seattle WA 98122 United States;X-APPLE-RADIUS=500;X-TITLE=153 14th Ave:geo:-122.3145919,47.6028491
END:VEVENT
BEGIN:VEVENT
DTSTART;TZID=America/Los_Angeles:20200113T180000
DTEND;TZID=America/Los_Angeles:20200113T200000
DTSTAMP:20230610T173014
CREATED:20200108T062636Z
LAST-MODIFIED:20200108T062636Z
UID:10004090-1578938400-1578945600@seattledsa.org
SUMMARY:Kshama Sawant Inaguration / Tax Amazon Kickoff
DESCRIPTION:Join the fight for social housing! Kshama Sawant will be sworn in for her historic third term at Washington Hall at 6 PM on January 13th by Sara Nelson\, International President of Association of Flight Attendants CWA. \nThe event will also be the public kickoff of the Tax Amazon 2020 campaign.
URL:https://seattledsa.org/event/kshama-sawant-inaguration-tax-amazon-kickoff/
LOCATION:Washington Hall\, 153 14th Ave\, Seattle\, WA\, 98122\, United States
CATEGORIES:Community Events,New Member Friendly
ATTACH;FMTTYPE=image/png:https://seattledsa.org/wp-content/uploads/2020/01/Tax-Amazon-kickoff-poster.png
GEO:47.6028491;-122.3145919
X-APPLE-STRUCTURED-LOCATION;VALUE=URI;X-ADDRESS=Washington Hall 153 14th Ave Seattle WA 98122 United States;X-APPLE-RADIUS=500;X-TITLE=153 14th Ave:geo:-122.3145919,47.6028491
END:VEVENT
BEGIN:VEVENT
DTSTART;TZID=America/Los_Angeles:20200125T100000
DTEND;TZID=America/Los_Angeles:20200125T140000
DTSTAMP:20230610T173014
CREATED:20200125T011907Z
LAST-MODIFIED:20200125T011907Z
UID:10005124-1579946400-1579960800@seattledsa.org
SUMMARY:Tax Amazon Action Conference
DESCRIPTION:Let’s come together as a movement to discuss different proposals for an Amazon Tax\, including how much it should raise annually\, what it should fund and what tax mechanism we should use\, as well as to organize the grassroots strategy needed to win. \nhttps://www.facebook.com/events/520231218837464/
URL:https://seattledsa.org/event/tax-amazon-action-conference/
LOCATION:Washington Hall\, 153 14th Ave\, Seattle\, WA\, 98122\, United States
GEO:47.6028491;-122.3145919
X-APPLE-STRUCTURED-LOCATION;VALUE=URI;X-ADDRESS=Washington Hall 153 14th Ave Seattle WA 98122 United States;X-APPLE-RADIUS=500;X-TITLE=153 14th Ave:geo:-122.3145919,47.6028491
END:VEVENT
BEGIN:VEVENT
DTSTART;TZID=America/Los_Angeles:20200204T190000
DTEND;TZID=America/Los_Angeles:20200204T210000
DTSTAMP:20230610T173014
CREATED:20191212T203232Z
LAST-MODIFIED:20200201T040812Z
UID:10004068-1580842800-1580850000@seattledsa.org
SUMMARY:Seattle DSA Monthly General Meeting
DESCRIPTION:Seattle DSA holds a General Meeting\, first Tuesday of each month at Washington Hall. We’re voting on a resolution and an appointment to SDSA’s Local Council\, so making quorum is very important. There will also be a discussion of our upcoming annual Local Convention and we’ll be hearing back from members who travelled to Iowa to help canvass for Bernie! \nThis event is member friendly and often has voting on issues affecting the chapter. \n2nd Floor Auditorium (2A)\nChildcare generally available\, contact info@seattledsa.org \nAgenda\n7:00 – 7:10 Call to Order and Welcome (~10 min) \n\nLand Acknowledgement – “We acknowledge that we’re on occupied Coast Salish Land\,\nLand of the Duwamish People”\nWelcome new members\nReview\, approve agenda\n\n7:10 – 7:15 Preparation for SDSA Convention ( 5 min )\n7:15 – 7:20 Confirmation of Appointment to Local Council\n7:20 – 8:00 Discussion and Vote on Resolution 1: Resolution on 2020 Candidate\nEndorsements ( 40 min ) \n\nFull text of the resolution\nOverview of Rusty’s Rules\n\n8:00 – 8:10 Break (10 min)\n8:10 – 8:45 Bernie or Bust: Iowa Results + Local Actions ( 35 min ) \n\n8:00 – 8:05 Overview (5 min)\n8:05 – 8:40 Small Group Discussion by District ( 30 min )\n\nDiscuss the Iowa results and implications\nPlan local (district) actions in the last month before the primary to support the\nBernie campaign\n\n\n\n8:45 – 8:55 Announcements (10 min)\nOpen announcement time for anyone to speak. 1 – 2 minutes per speaker. \nIf you would like your announcement included in the minutes\, please\nsubmit it using this form .\n9:00 Adjourn
URL:https://seattledsa.org/event/seattle-dsa-monthly-general-meeting-12/
LOCATION:Washington Hall\, 153 14th Ave\, Seattle\, WA\, 98122\, United States
CATEGORIES:General Membership Meeting,New Member Friendly
GEO:47.6028491;-122.3145919
X-APPLE-STRUCTURED-LOCATION;VALUE=URI;X-ADDRESS=Washington Hall 153 14th Ave Seattle WA 98122 United States;X-APPLE-RADIUS=500;X-TITLE=153 14th Ave:geo:-122.3145919,47.6028491
END:VEVENT
BEGIN:VEVENT
DTSTART;TZID=America/Los_Angeles:20200303T190000
DTEND;TZID=America/Los_Angeles:20200303T210000
DTSTAMP:20230610T173014
CREATED:20191212T203620Z
LAST-MODIFIED:20191212T203620Z
UID:10004069-1583262000-1583269200@seattledsa.org
SUMMARY:Seattle DSA Monthly General Meeting
DESCRIPTION:Seattle DSA holds a General Meeting\, first Tuesday of each month at Washington Hall. This event is member friendly and oftentimes has voting on issues affecting the chapter. \n2nd Floor Auditorium (2A)\nChildcare generally available\, contact info@seattledsa.org
URL:https://seattledsa.org/event/seattle-dsa-monthly-general-meeting-13/
LOCATION:Washington Hall\, 153 14th Ave\, Seattle\, WA\, 98122\, United States
CATEGORIES:General Membership Meeting,New Member Friendly
GEO:47.6028491;-122.3145919
X-APPLE-STRUCTURED-LOCATION;VALUE=URI;X-ADDRESS=Washington Hall 153 14th Ave Seattle WA 98122 United States;X-APPLE-RADIUS=500;X-TITLE=153 14th Ave:geo:-122.3145919,47.6028491
END:VEVENT
BEGIN:VEVENT
DTSTART;TZID=America/Los_Angeles:20220712T190000
DTEND;TZID=America/Los_Angeles:20220712T210000
DTSTAMP:20230610T173014
CREATED:20220627T050511Z
LAST-MODIFIED:20220711T051810Z
UID:10006501-1657652400-1657659600@seattledsa.org
SUMMARY:General Membership Meeting - July 2022
DESCRIPTION:Seattle DSA is excited to host our first hybrid general membership meeting where people will have the choice to participate online or in-person at Washington Hall! If you plan to attend in person\, please check out the safety guidelines below. At this meeting we’ll be hearing: \n– a discussion on the fight for reproductive rights and socialist feminism led by special guest speaker Natalia Tylim from NYC DSA and NYC for Abortion Rights! \n– updates from our three priority campaigns \n– a report from folks that attended the 2022 Labor Notes conference\, the country’s largest gathering of left-wing union activists \nand more! \nRSVP here to attend in-person or online. \nSafety guidelines for in-person meeting attendance: \n\nTesting negative for COVID in the prior 2-3 days is strongly recommended\n\nPlease consider getting tested at one of the free testing sites in King County. If you use one of these sites\, please get tested 2-3 days prior to our meeting to receive the result on time.\nIt may be easier to order a free Covid test to be shipped to you quickly from here.\nSDSA will provide rapid tests on site if needed\, but please arrive 30 minutes early for on-time results.\n\n\nNo COVID symptoms – If you have any symptoms\, please participate online\nProof of vaccination required\nMask required — N95 and KN95 are preferred\, masks available on-site\nDownloading and activating the WA Notify app is strongly recommended. WA Notify is a free tool that works on smartphones to alert users if they may have been exposed to COVID without sharing any personal info. It is completely private and doesn’t know who you are or track where you go.\n\nWe’ll open the windows and provide masks and hand sanitizer.
URL:https://seattledsa.org/event/general-membership-meeting-july-2022/
LOCATION:Washington Hall\, 153 14th Ave\, Seattle\, WA\, 98122\, United States
CATEGORIES:General Membership Meeting,New Member Friendly
ATTACH;FMTTYPE=image/png:https://seattledsa.org/wp-content/uploads/2022/01/sdsa_general_membership_meeting.png
ORGANIZER;CN="Seattle%20Democratic%20Socialists%20of%20America":MAILTO:info@seattledsa.org
GEO:47.6028491;-122.3145919
X-APPLE-STRUCTURED-LOCATION;VALUE=URI;X-ADDRESS=Washington Hall 153 14th Ave Seattle WA 98122 United States;X-APPLE-RADIUS=500;X-TITLE=153 14th Ave:geo:-122.3145919,47.6028491
END:VEVENT
END:VCALENDAR